BEGIN:VCALENDAR
VERSION:2.0
PRODID:-//Habitat for Humanity of Forsyth County - ECPv6.15.20//NONSGML v1.0//EN
CALSCALE:GREGORIAN
METHOD:PUBLISH
X-WR-CALNAME:Habitat for Humanity of Forsyth County
X-ORIGINAL-URL:https://habitatforsyth.org
X-WR-CALDESC:Events for Habitat for Humanity of Forsyth County
REFRESH-INTERVAL;VALUE=DURATION:PT1H
X-Robots-Tag:noindex
X-PUBLISHED-TTL:PT1H
BEGIN:VTIMEZONE
TZID:America/New_York
BEGIN:DAYLIGHT
TZOFFSETFROM:-0500
TZOFFSETTO:-0400
TZNAME:EDT
DTSTART:20220313T070000
END:DAYLIGHT
BEGIN:STANDARD
TZOFFSETFROM:-0400
TZOFFSETTO:-0500
TZNAME:EST
DTSTART:20221106T060000
END:STANDARD
BEGIN:DAYLIGHT
TZOFFSETFROM:-0500
TZOFFSETTO:-0400
TZNAME:EDT
DTSTART:20230312T070000
END:DAYLIGHT
BEGIN:STANDARD
TZOFFSETFROM:-0400
TZOFFSETTO:-0500
TZNAME:EST
DTSTART:20231105T060000
END:STANDARD
BEGIN:DAYLIGHT
TZOFFSETFROM:-0500
TZOFFSETTO:-0400
TZNAME:EDT
DTSTART:20240310T070000
END:DAYLIGHT
BEGIN:STANDARD
TZOFFSETFROM:-0400
TZOFFSETTO:-0500
TZNAME:EST
DTSTART:20241103T060000
END:STANDARD
BEGIN:DAYLIGHT
TZOFFSETFROM:-0500
TZOFFSETTO:-0400
TZNAME:EDT
DTSTART:20250309T070000
END:DAYLIGHT
BEGIN:STANDARD
TZOFFSETFROM:-0400
TZOFFSETTO:-0500
TZNAME:EST
DTSTART:20251102T060000
END:STANDARD
BEGIN:DAYLIGHT
TZOFFSETFROM:-0500
TZOFFSETTO:-0400
TZNAME:EDT
DTSTART:20260308T070000
END:DAYLIGHT
BEGIN:STANDARD
TZOFFSETFROM:-0400
TZOFFSETTO:-0500
TZNAME:EST
DTSTART:20261101T060000
END:STANDARD
END:VTIMEZONE
BEGIN:VEVENT
DTSTART;TZID=America/New_York:20230221T180000
DTEND;TZID=America/New_York:20230221T200000
DTSTAMP:20260425T112246
CREATED:20221219T155933Z
LAST-MODIFIED:20230201T140246Z
UID:10000933-1677002400-1677009600@habitatforsyth.org
SUMMARY:FirstBank Series #2: Budgeting
DESCRIPTION:Creating space to withstand life’s big decisions. Equip participants with how to deal with major financial decisions that may come their way in homeownership. \nRegistration:  Required. Call to register: 765-8854 ext. 135.\n			\n				Register!
URL:https://habitatforsyth.org/event/firstbank-series-3-financial-emergencies/
LOCATION:Habitat’s Housing Education Campus\, 1023 West 14th Street\, Winston-Salem\, NC\, 27105\, United States
CATEGORIES:Financial Education
END:VEVENT
BEGIN:VEVENT
DTSTART;TZID=America/New_York:20230309T180000
DTEND;TZID=America/New_York:20230309T190000
DTSTAMP:20260425T112246
CREATED:20221219T161559Z
LAST-MODIFIED:20230227T171400Z
UID:10000749-1678384800-1678388400@habitatforsyth.org
SUMMARY:SECU Series #3: Insurance
DESCRIPTION:Building an awareness of Insurance provided for your household\, developing a personal financial strategy\, creating a plan\, and selecting the best option for you and your family \nRegistration:  Required. Call to register: 765-8854 ext. 135.\n			\n				Register!
URL:https://habitatforsyth.org/event/secu-series-3-insurance/
LOCATION:Habitat Housing Education Center\, 1023 West 14th Street\, Winston Salem\, NC\, 27105\, United States
CATEGORIES:Financial Education
GEO:36.1130032;-80.255454
X-APPLE-STRUCTURED-LOCATION;VALUE=URI;X-ADDRESS=Habitat Housing Education Center 1023 West 14th Street Winston Salem NC 27105 United States;X-APPLE-RADIUS=500;X-TITLE=1023 West 14th Street:geo:-80.255454,36.1130032
END:VEVENT
BEGIN:VEVENT
DTSTART;TZID=America/New_York:20230314T180000
DTEND;TZID=America/New_York:20230314T193000
DTSTAMP:20260425T112246
CREATED:20221219T162021Z
LAST-MODIFIED:20230227T171526Z
UID:10000750-1678816800-1678822200@habitatforsyth.org
SUMMARY:FirstBank Series #4: Making your Budget Work
DESCRIPTION:Scenario based learning about credit management and how to make credit score improve for homeownership \nRegistration:  Required. Call to register: 765-8854 ext. 135.\n			\n				Register!
URL:https://habitatforsyth.org/event/firstbank-series-4-credit-scores-reporting/
LOCATION:Habitat Housing Education Center\, 1023 West 14th Street\, Winston Salem\, NC\, 27105\, United States
CATEGORIES:Financial Education
GEO:36.1130032;-80.255454
X-APPLE-STRUCTURED-LOCATION;VALUE=URI;X-ADDRESS=Habitat Housing Education Center 1023 West 14th Street Winston Salem NC 27105 United States;X-APPLE-RADIUS=500;X-TITLE=1023 West 14th Street:geo:-80.255454,36.1130032
END:VEVENT
BEGIN:VEVENT
DTSTART;VALUE=DATE:20230404
DTEND;VALUE=DATE:20230407
DTSTAMP:20260425T112246
CREATED:20230322T192633Z
LAST-MODIFIED:20230322T192633Z
UID:10000940-1680566400-1680825599@habitatforsyth.org
SUMMARY:YEP! Youth Financial Career Prep Camp
DESCRIPTION:Register your child for the Youth Empowerment Program’s free half-day camp\, providing age-appropriate financially based activities that include basic concepts of business and economics. \nFor youth ages: 12 – 17. Lunch is free and provided.\nAdvance Sign-in is required. \nCLICK HERE TO LEARN MORE & REGISTER: https://habitatforsyth.org/yep-youth-financial-career-prep-camp/
URL:https://habitatforsyth.org/event/yep-youth-financial-career-prep-camp/
LOCATION:Habitat for Humanity for Forsyth County Campus\, 1023 W. 14th Street\, Winston-Salem\, NC\, 27105\, United States
CATEGORIES:Financial Education,Habitat Young Professionals,Youth Empowerment Program
END:VEVENT
BEGIN:VEVENT
DTSTART;TZID=America/New_York:20230406T180000
DTEND;TZID=America/New_York:20230406T190000
DTSTAMP:20260425T112246
CREATED:20221224T180028Z
LAST-MODIFIED:20230227T165304Z
UID:10000758-1680804000-1680807600@habitatforsyth.org
SUMMARY:SECU Series #4: Retirement
DESCRIPTION:Registration:  Required. Call to register: 765-8854 ext. 135
URL:https://habitatforsyth.org/event/secu-series-4-retirement/
LOCATION:Habitat Housing Education Center\, 1023 West 14th Street\, Winston Salem\, NC\, 27105\, United States
CATEGORIES:Financial Education
GEO:36.1130032;-80.255454
X-APPLE-STRUCTURED-LOCATION;VALUE=URI;X-ADDRESS=Habitat Housing Education Center 1023 West 14th Street Winston Salem NC 27105 United States;X-APPLE-RADIUS=500;X-TITLE=1023 West 14th Street:geo:-80.255454,36.1130032
END:VEVENT
BEGIN:VEVENT
DTSTART;TZID=America/New_York:20230411T180000
DTEND;TZID=America/New_York:20230411T193000
DTSTAMP:20260425T112246
CREATED:20221224T174056Z
LAST-MODIFIED:20221224T174057Z
UID:10000756-1681236000-1681241400@habitatforsyth.org
SUMMARY:FirstBank Series #5: Identity Theft & Protection
DESCRIPTION:Learning how to protect your identity and what resources are available to keep you protected. \nRegistration:  Required. Call to register: 765-8854 ext. 135.
URL:https://habitatforsyth.org/event/firstbank-series-5-identity-theft-protection/
LOCATION:Habitat Housing Education Center\, 1023 West 14th Street\, Winston Salem\, NC\, 27105\, United States
CATEGORIES:Financial Education
GEO:36.1130032;-80.255454
X-APPLE-STRUCTURED-LOCATION;VALUE=URI;X-ADDRESS=Habitat Housing Education Center 1023 West 14th Street Winston Salem NC 27105 United States;X-APPLE-RADIUS=500;X-TITLE=1023 West 14th Street:geo:-80.255454,36.1130032
END:VEVENT
BEGIN:VEVENT
DTSTART;TZID=America/New_York:20230511T110000
DTEND;TZID=America/New_York:20230511T130000
DTSTAMP:20260425T112246
CREATED:20221224T183933Z
LAST-MODIFIED:20221224T183934Z
UID:10000761-1683802800-1683810000@habitatforsyth.org
SUMMARY:SECU Series #5: Mortgage Lending
DESCRIPTION:Registration:  Required. Call to register: 765-8854 ext. 135.
URL:https://habitatforsyth.org/event/secu-series-5-mortgage-lending/
LOCATION:Habitat Housing Education Center\, 1023 West 14th Street\, Winston Salem\, NC\, 27105\, United States
CATEGORIES:Financial Education
GEO:36.1130032;-80.255454
X-APPLE-STRUCTURED-LOCATION;VALUE=URI;X-ADDRESS=Habitat Housing Education Center 1023 West 14th Street Winston Salem NC 27105 United States;X-APPLE-RADIUS=500;X-TITLE=1023 West 14th Street:geo:-80.255454,36.1130032
END:VEVENT
BEGIN:VEVENT
DTSTART;TZID=America/New_York:20230516T180000
DTEND;TZID=America/New_York:20230516T200000
DTSTAMP:20260425T112246
CREATED:20221224T184203Z
LAST-MODIFIED:20221224T184204Z
UID:10000762-1684260000-1684267200@habitatforsyth.org
SUMMARY:FirstBank Series #1: Banking Basics
DESCRIPTION:Building an awareness of the finances coming in and going out of the household\, developing a personal financial strategy\, creating a budget\, prioritizing bills and sharing savings tips. \nRegistration:  Required. Call to register: 765-8854 ext. 135.
URL:https://habitatforsyth.org/event/firstbank-series-1-banking-basics/
LOCATION:Habitat Housing Education Center\, 1023 West 14th Street\, Winston Salem\, NC\, 27105\, United States
CATEGORIES:Financial Education
GEO:36.1130032;-80.255454
X-APPLE-STRUCTURED-LOCATION;VALUE=URI;X-ADDRESS=Habitat Housing Education Center 1023 West 14th Street Winston Salem NC 27105 United States;X-APPLE-RADIUS=500;X-TITLE=1023 West 14th Street:geo:-80.255454,36.1130032
END:VEVENT
BEGIN:VEVENT
DTSTART;TZID=America/New_York:20230613T180000
DTEND;TZID=America/New_York:20230613T193000
DTSTAMP:20260425T112246
CREATED:20221224T190823Z
LAST-MODIFIED:20221224T190824Z
UID:10000936-1686679200-1686684600@habitatforsyth.org
SUMMARY:FirstBank Series #2: Budgeting
DESCRIPTION:Understand Key budgeting concepts and make better decisions related to managing money. \nRegistration:  Required. Call to register: 765-8854 ext. 135.
URL:https://habitatforsyth.org/event/firstbank-series-2-budgeting-2/
LOCATION:Habitat Housing Education Center\, 1023 West 14th Street\, Winston Salem\, NC\, 27105\, United States
CATEGORIES:Financial Education
GEO:36.1130032;-80.255454
X-APPLE-STRUCTURED-LOCATION;VALUE=URI;X-ADDRESS=Habitat Housing Education Center 1023 West 14th Street Winston Salem NC 27105 United States;X-APPLE-RADIUS=500;X-TITLE=1023 West 14th Street:geo:-80.255454,36.1130032
END:VEVENT
BEGIN:VEVENT
DTSTART;TZID=America/New_York:20250821T173000
DTEND;TZID=America/New_York:20250821T190000
DTSTAMP:20260425T112246
CREATED:20250728T193258Z
LAST-MODIFIED:20250728T193258Z
UID:10001274-1755797400-1755802800@habitatforsyth.org
SUMMARY:Piedmont Federal Presents The Cash Flow Game
DESCRIPTION:Come join Eric as he leads a fun Game show focusing on cash flow strategies for Adults!!!
URL:https://habitatforsyth.org/event/piedmont-federal-presents-the-cash-flow-game/
LOCATION:Habitat Housing Education Center\, 1023 West 14th Street\, Winston Salem\, NC\, 27105\, United States
CATEGORIES:Financial Education
GEO:36.1130032;-80.255454
X-APPLE-STRUCTURED-LOCATION;VALUE=URI;X-ADDRESS=Habitat Housing Education Center 1023 West 14th Street Winston Salem NC 27105 United States;X-APPLE-RADIUS=500;X-TITLE=1023 West 14th Street:geo:-80.255454,36.1130032
END:VEVENT
BEGIN:VEVENT
DTSTART;TZID=America/New_York:20251028T173000
DTEND;TZID=America/New_York:20251028T190000
DTSTAMP:20260425T112246
CREATED:20250826T174612Z
LAST-MODIFIED:20250826T190110Z
UID:10001275-1761672600-1761678000@habitatforsyth.org
SUMMARY:Protection from Scams and Identity Theft
DESCRIPTION:Open to all  \nIn today’s digital age\, scams and identity theft are more common—and more sophisticated—than ever. This class will give you the knowledge and tools to recognize warning signs\, safeguard your personal information\, and respond effectively if your identity is compromised. Participants will learn about the most common types of scams (online\, phone\, email\, and in-person)\, how to spot red flags\, and practical steps to keep personal\, financial\, and digital information safe. You’ll also walk away with resources for reporting fraud and protecting your credit. \nWhether you’re new to online technology or simply want to strengthen your defenses\, this class will empower you to stay alert\, make informed choices\, and protect yourself and your loved ones. \n 
URL:https://habitatforsyth.org/event/protection-from-scams-and-identity-theft/
LOCATION:Habitat for Humanity for Forsyth County Campus\, 1023 W. 14th Street\, Winston-Salem\, NC\, 27105\, United States
CATEGORIES:Financial Education
END:VEVENT
END:VCALENDAR