BEGIN:VCALENDAR
VERSION:2.0
PRODID:-//Habitat for Humanity of Forsyth County - ECPv6.15.20//NONSGML v1.0//EN
CALSCALE:GREGORIAN
METHOD:PUBLISH
X-WR-CALNAME:Habitat for Humanity of Forsyth County
X-ORIGINAL-URL:https://habitatforsyth.org
X-WR-CALDESC:Events for Habitat for Humanity of Forsyth County
REFRESH-INTERVAL;VALUE=DURATION:PT1H
X-Robots-Tag:noindex
X-PUBLISHED-TTL:PT1H
BEGIN:VTIMEZONE
TZID:America/New_York
BEGIN:DAYLIGHT
TZOFFSETFROM:-0500
TZOFFSETTO:-0400
TZNAME:EDT
DTSTART:20210314T070000
END:DAYLIGHT
BEGIN:STANDARD
TZOFFSETFROM:-0400
TZOFFSETTO:-0500
TZNAME:EST
DTSTART:20211107T060000
END:STANDARD
BEGIN:DAYLIGHT
TZOFFSETFROM:-0500
TZOFFSETTO:-0400
TZNAME:EDT
DTSTART:20220313T070000
END:DAYLIGHT
BEGIN:STANDARD
TZOFFSETFROM:-0400
TZOFFSETTO:-0500
TZNAME:EST
DTSTART:20221106T060000
END:STANDARD
BEGIN:DAYLIGHT
TZOFFSETFROM:-0500
TZOFFSETTO:-0400
TZNAME:EDT
DTSTART:20230312T070000
END:DAYLIGHT
BEGIN:STANDARD
TZOFFSETFROM:-0400
TZOFFSETTO:-0500
TZNAME:EST
DTSTART:20231105T060000
END:STANDARD
END:VTIMEZONE
BEGIN:VEVENT
DTSTART;TZID=America/New_York:20220928T180000
DTEND;TZID=America/New_York:20220928T193000
DTSTAMP:20260425T194742
CREATED:20220824T160413Z
LAST-MODIFIED:20220829T134642Z
UID:10000921-1664388000-1664393400@habitatforsyth.org
SUMMARY:ORIENTACIÓN SOBRE PROPIETARIO DE VIVIENDA
DESCRIPTION:“¿Se ha estado preguntando si el Programa de Propiedad de Vivienda de Hábitat para la Humanidad es adecuado para usted? \nÚnase a nosotros y a un miembro de nuestro equipo de Servicios familiares a través de Zoom para aprender todo sobre el programa\, que incluye: \n\nProceso del Programa\nRequisitos y calificaciones para el programa.\nQué esperar durante el proceso de aplicación y en el futuro.\nPeriodo de tiempo del Programa\n\nTambién tendrá la oportunidad de hacer cualquier pregunta que pueda tener sobre el Programa de Vivienda. \n¡Regístrese hoy para guardar su lugar! \nTenga en cuenta: si se unirá a nosotros a través de Zoom en su teléfono móvil\, instale la aplicación Zoom antes del comienzo de la orientación. \n			\n				Register
URL:https://habitatforsyth.org/event/orientation-for-homeownership-2022-09-28/
LOCATION:Zoom
CATEGORIES:Homeowner Orientation
END:VEVENT
END:VCALENDAR