BEGIN:VCALENDAR
VERSION:2.0
PRODID:-//Habitat for Humanity of Forsyth County - ECPv6.15.20//NONSGML v1.0//EN
CALSCALE:GREGORIAN
METHOD:PUBLISH
X-WR-CALNAME:Habitat for Humanity of Forsyth County
X-ORIGINAL-URL:https://habitatforsyth.org
X-WR-CALDESC:Events for Habitat for Humanity of Forsyth County
REFRESH-INTERVAL;VALUE=DURATION:PT1H
X-Robots-Tag:noindex
X-PUBLISHED-TTL:PT1H
BEGIN:VTIMEZONE
TZID:America/New_York
BEGIN:DAYLIGHT
TZOFFSETFROM:-0500
TZOFFSETTO:-0400
TZNAME:EDT
DTSTART:20230312T070000
END:DAYLIGHT
BEGIN:STANDARD
TZOFFSETFROM:-0400
TZOFFSETTO:-0500
TZNAME:EST
DTSTART:20231105T060000
END:STANDARD
BEGIN:DAYLIGHT
TZOFFSETFROM:-0500
TZOFFSETTO:-0400
TZNAME:EDT
DTSTART:20240310T070000
END:DAYLIGHT
BEGIN:STANDARD
TZOFFSETFROM:-0400
TZOFFSETTO:-0500
TZNAME:EST
DTSTART:20241103T060000
END:STANDARD
BEGIN:DAYLIGHT
TZOFFSETFROM:-0500
TZOFFSETTO:-0400
TZNAME:EDT
DTSTART:20250309T070000
END:DAYLIGHT
BEGIN:STANDARD
TZOFFSETFROM:-0400
TZOFFSETTO:-0500
TZNAME:EST
DTSTART:20251102T060000
END:STANDARD
END:VTIMEZONE
BEGIN:VEVENT
DTSTART;TZID=America/New_York:20241017T173000
DTEND;TZID=America/New_York:20241017T190000
DTSTAMP:20260420T025640
CREATED:20240814T175206Z
LAST-MODIFIED:20240814T175206Z
UID:10001154-1729186200-1729191600@habitatforsyth.org
SUMMARY:Get Sparky! Home Electrical with Matt in the warehouse
DESCRIPTION:Come hang out with Matt in the Warehouse and wire some stuff!!! \nattendance will be collected in the warehouse.  No computer sign-on for this class
URL:https://habitatforsyth.org/event/get-sparky-home-electrical-with-matt-in-the-warehouse/
LOCATION:Habitat for Humanity for Forsyth County Campus\, 1023 W. 14th Street\, Winston-Salem\, NC\, 27105\, United States
END:VEVENT
BEGIN:VEVENT
DTSTART;TZID=America/New_York:20241015T180000
DTEND;TZID=America/New_York:20241015T193000
DTSTAMP:20260420T025640
CREATED:20240814T172610Z
LAST-MODIFIED:20240814T173137Z
UID:10001148-1729015200-1729020600@habitatforsyth.org
SUMMARY:Second Harvest Food Bank Cooking Matters Class 2
DESCRIPTION:This class is for participants registered for the 5 class program
URL:https://habitatforsyth.org/event/second-harvest-food-bank-cooking-matters-class-2/
LOCATION:Habitat Housing Education Center\, 1023 West 14th Street\, Winston Salem\, NC\, 27105\, United States
GEO:36.1130032;-80.255454
X-APPLE-STRUCTURED-LOCATION;VALUE=URI;X-ADDRESS=Habitat Housing Education Center 1023 West 14th Street Winston Salem NC 27105 United States;X-APPLE-RADIUS=500;X-TITLE=1023 West 14th Street:geo:-80.255454,36.1130032
END:VEVENT
BEGIN:VEVENT
DTSTART;TZID=America/New_York:20241010T173000
DTEND;TZID=America/New_York:20241010T190000
DTSTAMP:20260420T025640
CREATED:20240822T141210Z
LAST-MODIFIED:20240822T141210Z
UID:10001156-1728581400-1728586800@habitatforsyth.org
SUMMARY:Moving for a Healthy Life with Caila
DESCRIPTION:This is class #1 of a 6-class series. Please commit to all 6 classes when you sign up \nCome dressed to move around and bring some water!!
URL:https://habitatforsyth.org/event/moving-for-a-healthy-life-with-caila/
LOCATION:Habitat Housing Education Center\, 1023 West 14th Street\, Winston Salem\, NC\, 27105\, United States
GEO:36.1130032;-80.255454
X-APPLE-STRUCTURED-LOCATION;VALUE=URI;X-ADDRESS=Habitat Housing Education Center 1023 West 14th Street Winston Salem NC 27105 United States;X-APPLE-RADIUS=500;X-TITLE=1023 West 14th Street:geo:-80.255454,36.1130032
END:VEVENT
BEGIN:VEVENT
DTSTART;TZID=America/New_York:20241003T173000
DTEND;TZID=America/New_York:20241003T190000
DTSTAMP:20260420T025640
CREATED:20240814T174704Z
LAST-MODIFIED:20240814T174704Z
UID:10001153-1727976600-1727982000@habitatforsyth.org
SUMMARY:Make a hole\, fix a hole. Drywall repair with Matt in the warehouse
DESCRIPTION:Come hang out with Matt in the Warehouse and get your hands dirty on some drywall \nattendance will be collected in the warehouse.  No computer sign-on for this class
URL:https://habitatforsyth.org/event/make-a-hole-fix-a-hole-drywall-repair-with-matt-in-the-warehouse/
LOCATION:Habitat for Humanity for Forsyth County Campus\, 1023 W. 14th Street\, Winston-Salem\, NC\, 27105\, United States
END:VEVENT
BEGIN:VEVENT
DTSTART;TZID=America/New_York:20241001T180000
DTEND;TZID=America/New_York:20241001T193000
DTSTAMP:20260420T025640
CREATED:20240814T172027Z
LAST-MODIFIED:20240814T172326Z
UID:10001146-1727805600-1727811000@habitatforsyth.org
SUMMARY:Second Harvest Food Bank Cooking Matters Class 1
DESCRIPTION:This is class one of a five-class program. Please sign up only if you can attend all five sessions. The class limited to 16 participants
URL:https://habitatforsyth.org/event/second-harvest-food-ban-cooking-matters-class-1/
LOCATION:Habitat Housing Education Center\, 1023 West 14th Street\, Winston Salem\, NC\, 27105\, United States
CATEGORIES:HIP Homeowner Education
GEO:36.1130032;-80.255454
X-APPLE-STRUCTURED-LOCATION;VALUE=URI;X-ADDRESS=Habitat Housing Education Center 1023 West 14th Street Winston Salem NC 27105 United States;X-APPLE-RADIUS=500;X-TITLE=1023 West 14th Street:geo:-80.255454,36.1130032
END:VEVENT
BEGIN:VEVENT
DTSTART;TZID=America/New_York:20240905T173000
DTEND;TZID=America/New_York:20240905T190000
DTSTAMP:20260420T025640
CREATED:20240814T174440Z
LAST-MODIFIED:20240814T174440Z
UID:10001152-1725557400-1725562800@habitatforsyth.org
SUMMARY:Introduction to home maintenance tools with Matt
DESCRIPTION:Come hang out with Matt in the Warehouse and get your hands on some cool tools!!! \nattendance will be collected in the warehouse.  No computer sign-on for this class
URL:https://habitatforsyth.org/event/introduction-to-home-maintenance-tools-with-matt/
LOCATION:Habitat for Humanity for Forsyth County Campus\, 1023 W. 14th Street\, Winston-Salem\, NC\, 27105\, United States
END:VEVENT
BEGIN:VEVENT
DTSTART;TZID=America/New_York:20240813T173000
DTEND;TZID=America/New_York:20240813T190000
DTSTAMP:20260420T025640
CREATED:20240709T140015Z
LAST-MODIFIED:20240709T140015Z
UID:10001109-1723570200-1723575600@habitatforsyth.org
SUMMARY:Voter Education and Registration Event
DESCRIPTION:This is a Non-partisan voter education and registration event. Feel free to bring a voting-age friend.
URL:https://habitatforsyth.org/event/voter-education-and-registration-event/
LOCATION:Habitat Housing Education Center\, 1023 West 14th Street\, Winston Salem\, NC\, 27105\, United States
GEO:36.1130032;-80.255454
X-APPLE-STRUCTURED-LOCATION;VALUE=URI;X-ADDRESS=Habitat Housing Education Center 1023 West 14th Street Winston Salem NC 27105 United States;X-APPLE-RADIUS=500;X-TITLE=1023 West 14th Street:geo:-80.255454,36.1130032
END:VEVENT
BEGIN:VEVENT
DTSTART;TZID=America/New_York:20240725T173000
DTEND;TZID=America/New_York:20240725T190000
DTSTAMP:20260420T025640
CREATED:20240514T134857Z
LAST-MODIFIED:20240514T134857Z
UID:10001105-1721928600-1721934000@habitatforsyth.org
SUMMARY:Healthy Living with NC Extension Services open to all HIP
DESCRIPTION:Healthy living through nutrition and movement. Come Move!!!!
URL:https://habitatforsyth.org/event/healthy-living-with-nc-extension-services-open-to-all-hip/
LOCATION:Habitat Housing Education Center\, 1023 West 14th Street\, Winston Salem\, NC\, 27105\, United States
GEO:36.1130032;-80.255454
X-APPLE-STRUCTURED-LOCATION;VALUE=URI;X-ADDRESS=Habitat Housing Education Center 1023 West 14th Street Winston Salem NC 27105 United States;X-APPLE-RADIUS=500;X-TITLE=1023 West 14th Street:geo:-80.255454,36.1130032
END:VEVENT
BEGIN:VEVENT
DTSTART;TZID=America/New_York:20240723T180000
DTEND;TZID=America/New_York:20240723T200000
DTSTAMP:20260420T025640
CREATED:20240430T181709Z
LAST-MODIFIED:20240430T181710Z
UID:10001104-1721757600-1721764800@habitatforsyth.org
SUMMARY:GreenTree Wellness Support (for Pre-Registered participants only) - copy
DESCRIPTION:This class is limited to pre-registered participants only. \nSelf-Care for your journey to home ownership
URL:https://habitatforsyth.org/event/greentree-wellness-support-for-pre-registered-participants-only-copy-2/
LOCATION:Habitat Housing Education Center\, 1023 West 14th Street\, Winston Salem\, NC\, 27105\, United States
GEO:36.1130032;-80.255454
X-APPLE-STRUCTURED-LOCATION;VALUE=URI;X-ADDRESS=Habitat Housing Education Center 1023 West 14th Street Winston Salem NC 27105 United States;X-APPLE-RADIUS=500;X-TITLE=1023 West 14th Street:geo:-80.255454,36.1130032
END:VEVENT
BEGIN:VEVENT
DTSTART;TZID=America/New_York:20240718T173000
DTEND;TZID=America/New_York:20240718T190000
DTSTAMP:20260420T025640
CREATED:20240327T180231Z
LAST-MODIFIED:20240327T180231Z
UID:10001097-1721323800-1721329200@habitatforsyth.org
SUMMARY:Accessing City of Winston Salem Services
DESCRIPTION:Meet Susan Spainhour and learn how to access City of WS services.
URL:https://habitatforsyth.org/event/accessing-city-of-winston-salem-services/
LOCATION:Habitat Housing Education Center\, 1023 West 14th Street\, Winston Salem\, NC\, 27105\, United States
CATEGORIES:Homeowner Education
GEO:36.1130032;-80.255454
X-APPLE-STRUCTURED-LOCATION;VALUE=URI;X-ADDRESS=Habitat Housing Education Center 1023 West 14th Street Winston Salem NC 27105 United States;X-APPLE-RADIUS=500;X-TITLE=1023 West 14th Street:geo:-80.255454,36.1130032
END:VEVENT
BEGIN:VEVENT
DTSTART;TZID=America/New_York:20240716T173000
DTEND;TZID=America/New_York:20240716T190000
DTSTAMP:20260420T025640
CREATED:20240703T182823Z
LAST-MODIFIED:20240703T182823Z
UID:10001108-1721151000-1721156400@habitatforsyth.org
SUMMARY:All HIP check In Meeting
DESCRIPTION:Please join us for Sandwiches and an update on current program information.
URL:https://habitatforsyth.org/event/all-hip-check-in-meeting/
LOCATION:Habitat Housing Education Center\, 1023 West 14th Street\, Winston Salem\, NC\, 27105\, United States
GEO:36.1130032;-80.255454
X-APPLE-STRUCTURED-LOCATION;VALUE=URI;X-ADDRESS=Habitat Housing Education Center 1023 West 14th Street Winston Salem NC 27105 United States;X-APPLE-RADIUS=500;X-TITLE=1023 West 14th Street:geo:-80.255454,36.1130032
END:VEVENT
BEGIN:VEVENT
DTSTART;TZID=America/New_York:20240709T180000
DTEND;TZID=America/New_York:20240709T200000
DTSTAMP:20260420T025640
CREATED:20240306T150332Z
LAST-MODIFIED:20240306T164012Z
UID:10001044-1720548000-1720555200@habitatforsyth.org
SUMMARY:GreenTree Wellness Support (for Pre-Registered participants only)
DESCRIPTION:This class is limited to pre-registered participants only. \nSelf-Care for your journey to home ownership
URL:https://habitatforsyth.org/event/greentree-wellness-support-for-pre-registered-participants-only/2024-07-09/
LOCATION:Habitat Housing Education Center\, 1023 West 14th Street\, Winston Salem\, NC\, 27105\, United States
CATEGORIES:HIP Homeowner Education
GEO:36.1130032;-80.255454
X-APPLE-STRUCTURED-LOCATION;VALUE=URI;X-ADDRESS=Habitat Housing Education Center 1023 West 14th Street Winston Salem NC 27105 United States;X-APPLE-RADIUS=500;X-TITLE=1023 West 14th Street:geo:-80.255454,36.1130032
END:VEVENT
BEGIN:VEVENT
DTSTART;TZID=America/New_York:20240625T180000
DTEND;TZID=America/New_York:20240625T200000
DTSTAMP:20260420T025640
CREATED:20240306T150332Z
LAST-MODIFIED:20240306T164012Z
UID:10001042-1719338400-1719345600@habitatforsyth.org
SUMMARY:GreenTree Wellness Support (for Pre-Registered participants only)
DESCRIPTION:This class is limited to pre-registered participants only. \nSelf-Care for your journey to home ownership
URL:https://habitatforsyth.org/event/greentree-wellness-support-for-pre-registered-participants-only/2024-06-25/
LOCATION:Habitat Housing Education Center\, 1023 West 14th Street\, Winston Salem\, NC\, 27105\, United States
CATEGORIES:HIP Homeowner Education
GEO:36.1130032;-80.255454
X-APPLE-STRUCTURED-LOCATION;VALUE=URI;X-ADDRESS=Habitat Housing Education Center 1023 West 14th Street Winston Salem NC 27105 United States;X-APPLE-RADIUS=500;X-TITLE=1023 West 14th Street:geo:-80.255454,36.1130032
END:VEVENT
BEGIN:VEVENT
DTSTART;TZID=America/New_York:20240620T173000
DTEND;TZID=America/New_York:20240620T190000
DTSTAMP:20260420T025640
CREATED:20240522T162219Z
LAST-MODIFIED:20240522T162219Z
UID:10001106-1718904600-1718910000@habitatforsyth.org
SUMMARY:Fire Safety with City of WS  open to all
DESCRIPTION:Keep your beautiful family and home safe!!!!
URL:https://habitatforsyth.org/event/fire-safety-with-city-of-ws-open-to-all/
LOCATION:Habitat Housing Education Center\, 1023 West 14th Street\, Winston Salem\, NC\, 27105\, United States
GEO:36.1130032;-80.255454
X-APPLE-STRUCTURED-LOCATION;VALUE=URI;X-ADDRESS=Habitat Housing Education Center 1023 West 14th Street Winston Salem NC 27105 United States;X-APPLE-RADIUS=500;X-TITLE=1023 West 14th Street:geo:-80.255454,36.1130032
END:VEVENT
BEGIN:VEVENT
DTSTART;TZID=America/New_York:20240613T173000
DTEND;TZID=America/New_York:20240613T190000
DTSTAMP:20260420T025640
CREATED:20240220T201510Z
LAST-MODIFIED:20240220T201510Z
UID:10001026-1718299800-1718305200@habitatforsyth.org
SUMMARY:SECU Consumer Fraud and ID Theft
DESCRIPTION:Don’t get ripped off!    Hey? What’s your password?
URL:https://habitatforsyth.org/event/secu-consumer-fraud-and-id-theft-2/
LOCATION:Habitat Housing Education Center\, 1023 West 14th Street\, Winston Salem\, NC\, 27105\, United States
CATEGORIES:HIP Homeowner Education
GEO:36.1130032;-80.255454
X-APPLE-STRUCTURED-LOCATION;VALUE=URI;X-ADDRESS=Habitat Housing Education Center 1023 West 14th Street Winston Salem NC 27105 United States;X-APPLE-RADIUS=500;X-TITLE=1023 West 14th Street:geo:-80.255454,36.1130032
END:VEVENT
BEGIN:VEVENT
DTSTART;TZID=America/New_York:20240613T173000
DTEND;TZID=America/New_York:20240613T190000
DTSTAMP:20260420T025640
CREATED:20240220T192948Z
LAST-MODIFIED:20240220T192948Z
UID:10001018-1718299800-1718305200@habitatforsyth.org
SUMMARY:SECU Consumer Fraud and ID Theft
DESCRIPTION:Scams and Frauds and how to respond.
URL:https://habitatforsyth.org/event/secu-consumer-fraud-and-id-theft/
LOCATION:Habitat Housing Education Center\, 1023 West 14th Street\, Winston Salem\, NC\, 27105\, United States
CATEGORIES:HIP Homeowner Education
GEO:36.1130032;-80.255454
X-APPLE-STRUCTURED-LOCATION;VALUE=URI;X-ADDRESS=Habitat Housing Education Center 1023 West 14th Street Winston Salem NC 27105 United States;X-APPLE-RADIUS=500;X-TITLE=1023 West 14th Street:geo:-80.255454,36.1130032
END:VEVENT
BEGIN:VEVENT
DTSTART;TZID=America/New_York:20240613T160000
DTEND;TZID=America/New_York:20240613T200000
DTSTAMP:20260420T025640
CREATED:20240607T144630Z
LAST-MODIFIED:20240607T144630Z
UID:10001107-1718294400-1718308800@habitatforsyth.org
SUMMARY:Home Reveal - ReStore Pop-up and Habitat Home Tour
DESCRIPTION:Ever wonder what a Habitat home looks like? Here’s your chance!\nCome tour this new Habitat home in Happy Hill.\nIt’s beautifully staged with furniture from Habitat ReStore\,\nwhich could be YOURS through our Silent Auction!\nSILENT AUCTION / LIGHT REFRESHMENTS / 50/50 RAFFLE\nDrop in Thursday\, June 13 between 4 pm – 8 pm\n1325 Free Street\nALL PROCEEDS HELP FURTHER OUR MISSION OF AFFORDABLE HOUSING.
URL:https://habitatforsyth.org/event/home-reveal-restore-pop-up-and-habitat-home-tour/
LOCATION:1325 Free Street\, Winston-Salem\, NC 27127\, 1325 Free Street\, Winston-Salem\, NC\, 27127\, United States
CATEGORIES:Open to the public
END:VEVENT
BEGIN:VEVENT
DTSTART;TZID=America/New_York:20240611T180000
DTEND;TZID=America/New_York:20240611T200000
DTSTAMP:20260420T025640
CREATED:20240306T150332Z
LAST-MODIFIED:20240306T164012Z
UID:10001040-1718128800-1718136000@habitatforsyth.org
SUMMARY:GreenTree Wellness Support (for Pre-Registered participants only)
DESCRIPTION:This class is limited to pre-registered participants only. \nSelf-Care for your journey to home ownership
URL:https://habitatforsyth.org/event/greentree-wellness-support-for-pre-registered-participants-only/2024-06-11/
LOCATION:Habitat Housing Education Center\, 1023 West 14th Street\, Winston Salem\, NC\, 27105\, United States
CATEGORIES:HIP Homeowner Education
GEO:36.1130032;-80.255454
X-APPLE-STRUCTURED-LOCATION;VALUE=URI;X-ADDRESS=Habitat Housing Education Center 1023 West 14th Street Winston Salem NC 27105 United States;X-APPLE-RADIUS=500;X-TITLE=1023 West 14th Street:geo:-80.255454,36.1130032
END:VEVENT
BEGIN:VEVENT
DTSTART;TZID=America/New_York:20240604T173000
DTEND;TZID=America/New_York:20240604T190000
DTSTAMP:20260420T025640
CREATED:20240220T201122Z
LAST-MODIFIED:20240220T201122Z
UID:10001024-1717522200-1717527600@habitatforsyth.org
SUMMARY:SECU Insurance
DESCRIPTION:SECU will talk about the various ways we can use insurance to protect our assets and financial future.
URL:https://habitatforsyth.org/event/secu-insurance/
LOCATION:Habitat Housing Education Center\, 1023 West 14th Street\, Winston Salem\, NC\, 27105\, United States
CATEGORIES:HIP Homeowner Education
GEO:36.1130032;-80.255454
X-APPLE-STRUCTURED-LOCATION;VALUE=URI;X-ADDRESS=Habitat Housing Education Center 1023 West 14th Street Winston Salem NC 27105 United States;X-APPLE-RADIUS=500;X-TITLE=1023 West 14th Street:geo:-80.255454,36.1130032
END:VEVENT
BEGIN:VEVENT
DTSTART;TZID=America/New_York:20240530T173000
DTEND;TZID=America/New_York:20240530T190000
DTSTAMP:20260420T025640
CREATED:20240220T195906Z
LAST-MODIFIED:20240305T213106Z
UID:10001021-1717090200-1717095600@habitatforsyth.org
SUMMARY:Working Sweat Equity on Habitat Home sites (HIP class 2024 required)
DESCRIPTION:This class is an introduction to the process of building your home and setting expectations for your role in the building process.
URL:https://habitatforsyth.org/event/working-sweat-equity-on-habitat-home-sites-hip-class-2024-required/
LOCATION:Habitat Housing Education Center\, 1023 West 14th Street\, Winston Salem\, NC\, 27105\, United States
CATEGORIES:HIP Homeowner Education
GEO:36.1130032;-80.255454
X-APPLE-STRUCTURED-LOCATION;VALUE=URI;X-ADDRESS=Habitat Housing Education Center 1023 West 14th Street Winston Salem NC 27105 United States;X-APPLE-RADIUS=500;X-TITLE=1023 West 14th Street:geo:-80.255454,36.1130032
END:VEVENT
BEGIN:VEVENT
DTSTART;TZID=America/New_York:20240528T180000
DTEND;TZID=America/New_York:20240528T200000
DTSTAMP:20260420T025640
CREATED:20240306T150332Z
LAST-MODIFIED:20240306T164012Z
UID:10001038-1716919200-1716926400@habitatforsyth.org
SUMMARY:GreenTree Wellness Support (for Pre-Registered participants only)
DESCRIPTION:This class is limited to pre-registered participants only. \nSelf-Care for your journey to home ownership
URL:https://habitatforsyth.org/event/greentree-wellness-support-for-pre-registered-participants-only/2024-05-28/
LOCATION:Habitat Housing Education Center\, 1023 West 14th Street\, Winston Salem\, NC\, 27105\, United States
CATEGORIES:HIP Homeowner Education
GEO:36.1130032;-80.255454
X-APPLE-STRUCTURED-LOCATION;VALUE=URI;X-ADDRESS=Habitat Housing Education Center 1023 West 14th Street Winston Salem NC 27105 United States;X-APPLE-RADIUS=500;X-TITLE=1023 West 14th Street:geo:-80.255454,36.1130032
END:VEVENT
BEGIN:VEVENT
DTSTART;TZID=America/New_York:20240523T180000
DTEND;TZID=America/New_York:20240523T200000
DTSTAMP:20260420T025640
CREATED:20240220T200720Z
LAST-MODIFIED:20240220T200720Z
UID:10001023-1716487200-1716494400@habitatforsyth.org
SUMMARY:Piedmont Federal Presents Managing Debt
DESCRIPTION:Debt? Eric is going to help us find new ways of managing debt so it doesn’t manage us!!
URL:https://habitatforsyth.org/event/piedmont-federal-presents-managing-debt/
LOCATION:Habitat Housing Education Center\, 1023 West 14th Street\, Winston Salem\, NC\, 27105\, United States
CATEGORIES:HIP Homeowner Education
GEO:36.1130032;-80.255454
X-APPLE-STRUCTURED-LOCATION;VALUE=URI;X-ADDRESS=Habitat Housing Education Center 1023 West 14th Street Winston Salem NC 27105 United States;X-APPLE-RADIUS=500;X-TITLE=1023 West 14th Street:geo:-80.255454,36.1130032
END:VEVENT
BEGIN:VEVENT
DTSTART;TZID=America/New_York:20240521T173000
DTEND;TZID=America/New_York:20240521T193000
DTSTAMP:20260420T025640
CREATED:20240220T200510Z
LAST-MODIFIED:20240424T133439Z
UID:10001022-1716312600-1716319800@habitatforsyth.org
SUMMARY:Second Harvest Family Food Event (Mobile Unit)
DESCRIPTION:This is a family and community event!!  Bring your friends! \nSecond Harvest will be bringing their mobile food truck and sharing so many things to try!!
URL:https://habitatforsyth.org/event/second-harvest-family-food-event-mobile-unit/
LOCATION:First Christian Church\, 2320 Country Club Rd\, Winston-Salem\, NC\, 27104\, United States
CATEGORIES:HIP Homeowner Education
END:VEVENT
BEGIN:VEVENT
DTSTART;TZID=America/New_York:20240514T180000
DTEND;TZID=America/New_York:20240514T200000
DTSTAMP:20260420T025640
CREATED:20240306T150332Z
LAST-MODIFIED:20240306T164012Z
UID:10001036-1715709600-1715716800@habitatforsyth.org
SUMMARY:GreenTree Wellness Support (for Pre-Registered participants only)
DESCRIPTION:This class is limited to pre-registered participants only. \nSelf-Care for your journey to home ownership
URL:https://habitatforsyth.org/event/greentree-wellness-support-for-pre-registered-participants-only/2024-05-14/
LOCATION:Habitat Housing Education Center\, 1023 West 14th Street\, Winston Salem\, NC\, 27105\, United States
CATEGORIES:HIP Homeowner Education
GEO:36.1130032;-80.255454
X-APPLE-STRUCTURED-LOCATION;VALUE=URI;X-ADDRESS=Habitat Housing Education Center 1023 West 14th Street Winston Salem NC 27105 United States;X-APPLE-RADIUS=500;X-TITLE=1023 West 14th Street:geo:-80.255454,36.1130032
END:VEVENT
BEGIN:VEVENT
DTSTART;TZID=America/New_York:20240507T180000
DTEND;TZID=America/New_York:20240507T190000
DTSTAMP:20260420T025640
CREATED:20240220T195700Z
LAST-MODIFIED:20240220T195700Z
UID:10001020-1715104800-1715108400@habitatforsyth.org
SUMMARY:Home Maintenance basic Plumbing (Max 15 people)
DESCRIPTION:Learn how to get that clog out and stop that leak!!
URL:https://habitatforsyth.org/event/home-maintenance-basic-plumbing-max-15-people/
LOCATION:Habitat Housing Education Center\, 1023 West 14th Street\, Winston Salem\, NC\, 27105\, United States
CATEGORIES:HIP Homeowner Education
GEO:36.1130032;-80.255454
X-APPLE-STRUCTURED-LOCATION;VALUE=URI;X-ADDRESS=Habitat Housing Education Center 1023 West 14th Street Winston Salem NC 27105 United States;X-APPLE-RADIUS=500;X-TITLE=1023 West 14th Street:geo:-80.255454,36.1130032
END:VEVENT
BEGIN:VEVENT
DTSTART;TZID=America/New_York:20240504T080000
DTEND;TZID=America/New_York:20240504T110000
DTSTAMP:20260420T025640
CREATED:20240206T134725Z
LAST-MODIFIED:20240206T134725Z
UID:10001017-1714809600-1714820400@habitatforsyth.org
SUMMARY:Hammerbird 5K and One Mile Fun Run
DESCRIPTION:Support Habitat Forsyth’s efforts to help families attain the dream of purchasing a quality\, affordable home. Participants run or walk by many homes built by Habitat and are able to see for themselves the work we’re doing to tackle the affordable housing crisis in Forsyth County.\nThe 5k route takes runners and walkers through the Boston-Thurmond neighborhood\, where Habitat has built\, remodeled or repaired 200+ homes. \n8:00 a.m. One Mile Run/Walk\n8:30 a.m. 5K Run/Walk \n 
URL:https://habitatforsyth.org/event/hammerbird-5k-and-one-mile-fun-run/
LOCATION:Kimberley Park Elementary School\, 1701 N. Cherry Street\, Winston-Salem\, NC\, 27105
CATEGORIES:Special Events
GEO:36.1161095;-80.2538257
X-APPLE-STRUCTURED-LOCATION;VALUE=URI;X-ADDRESS=Kimberley Park Elementary School 1701 N. Cherry Street Winston-Salem NC 27105;X-APPLE-RADIUS=500;X-TITLE=1701 N. Cherry Street:geo:-80.2538257,36.1161095
END:VEVENT
BEGIN:VEVENT
DTSTART;TZID=America/New_York:20240502T173000
DTEND;TZID=America/New_York:20240502T190000
DTSTAMP:20260420T025640
CREATED:20240220T195356Z
LAST-MODIFIED:20240220T195356Z
UID:10001019-1714671000-1714676400@habitatforsyth.org
SUMMARY:SECU Estate Planning
DESCRIPTION:Learn about how your assets can be managed if you are no longer able to make decisions.
URL:https://habitatforsyth.org/event/secu-estate-planning/
LOCATION:Habitat Housing Education Center\, 1023 West 14th Street\, Winston Salem\, NC\, 27105\, United States
CATEGORIES:HIP Homeowner Education
GEO:36.1130032;-80.255454
X-APPLE-STRUCTURED-LOCATION;VALUE=URI;X-ADDRESS=Habitat Housing Education Center 1023 West 14th Street Winston Salem NC 27105 United States;X-APPLE-RADIUS=500;X-TITLE=1023 West 14th Street:geo:-80.255454,36.1130032
END:VEVENT
BEGIN:VEVENT
DTSTART;TZID=America/New_York:20240430T173000
DTEND;TZID=America/New_York:20240430T190000
DTSTAMP:20260420T025640
CREATED:20240229T184721Z
LAST-MODIFIED:20240229T184721Z
UID:10001027-1714498200-1714503600@habitatforsyth.org
SUMMARY:Understanding Mortgages and HOAs
DESCRIPTION:come learn about mortgages and HOAs with Joni Yoder\, Habitat’s Chief Financial officer. She makes it fun!
URL:https://habitatforsyth.org/event/understanding-mortgages-and-hoas/
LOCATION:Habitat Housing Education Center\, 1023 West 14th Street\, Winston Salem\, NC\, 27105\, United States
CATEGORIES:HIP Homeowner Education
GEO:36.1130032;-80.255454
X-APPLE-STRUCTURED-LOCATION;VALUE=URI;X-ADDRESS=Habitat Housing Education Center 1023 West 14th Street Winston Salem NC 27105 United States;X-APPLE-RADIUS=500;X-TITLE=1023 West 14th Street:geo:-80.255454,36.1130032
END:VEVENT
BEGIN:VEVENT
DTSTART;TZID=America/New_York:20240423T180000
DTEND;TZID=America/New_York:20240423T190000
DTSTAMP:20260420T025640
CREATED:20240131T210440Z
LAST-MODIFIED:20240423T164516Z
UID:10001015-1713895200-1713898800@habitatforsyth.org
SUMMARY:Home Maintenance Basic Plumbing (HIP Class 2024 only\, Max 15 People)
DESCRIPTION:This is a hands-on class teaching basic home maintenance and repair. Room for first 15 people to respond to reminder text message. Class will be in the warehouse at the same location as Habitat office and classroom.
URL:https://habitatforsyth.org/event/home-maintenance-basic-plumbing-hip-class-2024-only-max-15-people/
LOCATION:Habitat’s Housing Education Campus\, 1023 West 14th Street\, Winston-Salem\, NC\, 27105\, United States
CATEGORIES:HIP Homeowner Education
END:VEVENT
BEGIN:VEVENT
DTSTART;TZID=America/New_York:20240418T180000
DTEND;TZID=America/New_York:20240418T193000
DTSTAMP:20260420T025640
CREATED:20240131T210155Z
LAST-MODIFIED:20240131T210155Z
UID:10001014-1713463200-1713468600@habitatforsyth.org
SUMMARY:Financial Peace University (HIP Class 2024 ONLY)
DESCRIPTION:
URL:https://habitatforsyth.org/event/financial-peace-university-hip-class-2024-only-7/
LOCATION:Habitat Housing Education Center\, 1023 West 14th Street\, Winston Salem\, NC\, 27105\, United States
CATEGORIES:HIP Homeowner Education
GEO:36.1130032;-80.255454
X-APPLE-STRUCTURED-LOCATION;VALUE=URI;X-ADDRESS=Habitat Housing Education Center 1023 West 14th Street Winston Salem NC 27105 United States;X-APPLE-RADIUS=500;X-TITLE=1023 West 14th Street:geo:-80.255454,36.1130032
END:VEVENT
END:VCALENDAR