BEGIN:VCALENDAR
VERSION:2.0
PRODID:-//Habitat for Humanity of Forsyth County - ECPv6.15.20//NONSGML v1.0//EN
CALSCALE:GREGORIAN
METHOD:PUBLISH
X-WR-CALNAME:Habitat for Humanity of Forsyth County
X-ORIGINAL-URL:https://habitatforsyth.org
X-WR-CALDESC:Events for Habitat for Humanity of Forsyth County
REFRESH-INTERVAL;VALUE=DURATION:PT1H
X-Robots-Tag:noindex
X-PUBLISHED-TTL:PT1H
BEGIN:VTIMEZONE
TZID:America/New_York
BEGIN:DAYLIGHT
TZOFFSETFROM:-0500
TZOFFSETTO:-0400
TZNAME:EDT
DTSTART:20230312T070000
END:DAYLIGHT
BEGIN:STANDARD
TZOFFSETFROM:-0400
TZOFFSETTO:-0500
TZNAME:EST
DTSTART:20231105T060000
END:STANDARD
BEGIN:DAYLIGHT
TZOFFSETFROM:-0500
TZOFFSETTO:-0400
TZNAME:EDT
DTSTART:20240310T070000
END:DAYLIGHT
BEGIN:STANDARD
TZOFFSETFROM:-0400
TZOFFSETTO:-0500
TZNAME:EST
DTSTART:20241103T060000
END:STANDARD
BEGIN:DAYLIGHT
TZOFFSETFROM:-0500
TZOFFSETTO:-0400
TZNAME:EDT
DTSTART:20250309T070000
END:DAYLIGHT
BEGIN:STANDARD
TZOFFSETFROM:-0400
TZOFFSETTO:-0500
TZNAME:EST
DTSTART:20251102T060000
END:STANDARD
END:VTIMEZONE
BEGIN:VEVENT
DTSTART;TZID=America/New_York:20240528T180000
DTEND;TZID=America/New_York:20240528T200000
DTSTAMP:20260422T175731
CREATED:20240306T150332Z
LAST-MODIFIED:20240306T164012Z
UID:10001038-1716919200-1716926400@habitatforsyth.org
SUMMARY:GreenTree Wellness Support (for Pre-Registered participants only)
DESCRIPTION:This class is limited to pre-registered participants only. \nSelf-Care for your journey to home ownership
URL:https://habitatforsyth.org/event/greentree-wellness-support-for-pre-registered-participants-only/2024-05-28/
LOCATION:Habitat Housing Education Center\, 1023 West 14th Street\, Winston Salem\, NC\, 27105\, United States
CATEGORIES:HIP Homeowner Education
GEO:36.1130032;-80.255454
X-APPLE-STRUCTURED-LOCATION;VALUE=URI;X-ADDRESS=Habitat Housing Education Center 1023 West 14th Street Winston Salem NC 27105 United States;X-APPLE-RADIUS=500;X-TITLE=1023 West 14th Street:geo:-80.255454,36.1130032
END:VEVENT
BEGIN:VEVENT
DTSTART;TZID=America/New_York:20240523T180000
DTEND;TZID=America/New_York:20240523T200000
DTSTAMP:20260422T175731
CREATED:20240220T200720Z
LAST-MODIFIED:20240220T200720Z
UID:10001023-1716487200-1716494400@habitatforsyth.org
SUMMARY:Piedmont Federal Presents Managing Debt
DESCRIPTION:Debt? Eric is going to help us find new ways of managing debt so it doesn’t manage us!!
URL:https://habitatforsyth.org/event/piedmont-federal-presents-managing-debt/
LOCATION:Habitat Housing Education Center\, 1023 West 14th Street\, Winston Salem\, NC\, 27105\, United States
CATEGORIES:HIP Homeowner Education
GEO:36.1130032;-80.255454
X-APPLE-STRUCTURED-LOCATION;VALUE=URI;X-ADDRESS=Habitat Housing Education Center 1023 West 14th Street Winston Salem NC 27105 United States;X-APPLE-RADIUS=500;X-TITLE=1023 West 14th Street:geo:-80.255454,36.1130032
END:VEVENT
BEGIN:VEVENT
DTSTART;TZID=America/New_York:20240521T173000
DTEND;TZID=America/New_York:20240521T193000
DTSTAMP:20260422T175731
CREATED:20240220T200510Z
LAST-MODIFIED:20240424T133439Z
UID:10001022-1716312600-1716319800@habitatforsyth.org
SUMMARY:Second Harvest Family Food Event (Mobile Unit)
DESCRIPTION:This is a family and community event!!  Bring your friends! \nSecond Harvest will be bringing their mobile food truck and sharing so many things to try!!
URL:https://habitatforsyth.org/event/second-harvest-family-food-event-mobile-unit/
LOCATION:First Christian Church\, 2320 Country Club Rd\, Winston-Salem\, NC\, 27104\, United States
CATEGORIES:HIP Homeowner Education
END:VEVENT
BEGIN:VEVENT
DTSTART;TZID=America/New_York:20240514T180000
DTEND;TZID=America/New_York:20240514T200000
DTSTAMP:20260422T175731
CREATED:20240306T150332Z
LAST-MODIFIED:20240306T164012Z
UID:10001036-1715709600-1715716800@habitatforsyth.org
SUMMARY:GreenTree Wellness Support (for Pre-Registered participants only)
DESCRIPTION:This class is limited to pre-registered participants only. \nSelf-Care for your journey to home ownership
URL:https://habitatforsyth.org/event/greentree-wellness-support-for-pre-registered-participants-only/2024-05-14/
LOCATION:Habitat Housing Education Center\, 1023 West 14th Street\, Winston Salem\, NC\, 27105\, United States
CATEGORIES:HIP Homeowner Education
GEO:36.1130032;-80.255454
X-APPLE-STRUCTURED-LOCATION;VALUE=URI;X-ADDRESS=Habitat Housing Education Center 1023 West 14th Street Winston Salem NC 27105 United States;X-APPLE-RADIUS=500;X-TITLE=1023 West 14th Street:geo:-80.255454,36.1130032
END:VEVENT
BEGIN:VEVENT
DTSTART;TZID=America/New_York:20240507T180000
DTEND;TZID=America/New_York:20240507T190000
DTSTAMP:20260422T175731
CREATED:20240220T195700Z
LAST-MODIFIED:20240220T195700Z
UID:10001020-1715104800-1715108400@habitatforsyth.org
SUMMARY:Home Maintenance basic Plumbing (Max 15 people)
DESCRIPTION:Learn how to get that clog out and stop that leak!!
URL:https://habitatforsyth.org/event/home-maintenance-basic-plumbing-max-15-people/
LOCATION:Habitat Housing Education Center\, 1023 West 14th Street\, Winston Salem\, NC\, 27105\, United States
CATEGORIES:HIP Homeowner Education
GEO:36.1130032;-80.255454
X-APPLE-STRUCTURED-LOCATION;VALUE=URI;X-ADDRESS=Habitat Housing Education Center 1023 West 14th Street Winston Salem NC 27105 United States;X-APPLE-RADIUS=500;X-TITLE=1023 West 14th Street:geo:-80.255454,36.1130032
END:VEVENT
BEGIN:VEVENT
DTSTART;TZID=America/New_York:20240504T080000
DTEND;TZID=America/New_York:20240504T110000
DTSTAMP:20260422T175731
CREATED:20240206T134725Z
LAST-MODIFIED:20240206T134725Z
UID:10001017-1714809600-1714820400@habitatforsyth.org
SUMMARY:Hammerbird 5K and One Mile Fun Run
DESCRIPTION:Support Habitat Forsyth’s efforts to help families attain the dream of purchasing a quality\, affordable home. Participants run or walk by many homes built by Habitat and are able to see for themselves the work we’re doing to tackle the affordable housing crisis in Forsyth County.\nThe 5k route takes runners and walkers through the Boston-Thurmond neighborhood\, where Habitat has built\, remodeled or repaired 200+ homes. \n8:00 a.m. One Mile Run/Walk\n8:30 a.m. 5K Run/Walk \n 
URL:https://habitatforsyth.org/event/hammerbird-5k-and-one-mile-fun-run/
LOCATION:Kimberley Park Elementary School\, 1701 N. Cherry Street\, Winston-Salem\, NC\, 27105
CATEGORIES:Special Events
GEO:36.1161095;-80.2538257
X-APPLE-STRUCTURED-LOCATION;VALUE=URI;X-ADDRESS=Kimberley Park Elementary School 1701 N. Cherry Street Winston-Salem NC 27105;X-APPLE-RADIUS=500;X-TITLE=1701 N. Cherry Street:geo:-80.2538257,36.1161095
END:VEVENT
BEGIN:VEVENT
DTSTART;TZID=America/New_York:20240502T173000
DTEND;TZID=America/New_York:20240502T190000
DTSTAMP:20260422T175731
CREATED:20240220T195356Z
LAST-MODIFIED:20240220T195356Z
UID:10001019-1714671000-1714676400@habitatforsyth.org
SUMMARY:SECU Estate Planning
DESCRIPTION:Learn about how your assets can be managed if you are no longer able to make decisions.
URL:https://habitatforsyth.org/event/secu-estate-planning/
LOCATION:Habitat Housing Education Center\, 1023 West 14th Street\, Winston Salem\, NC\, 27105\, United States
CATEGORIES:HIP Homeowner Education
GEO:36.1130032;-80.255454
X-APPLE-STRUCTURED-LOCATION;VALUE=URI;X-ADDRESS=Habitat Housing Education Center 1023 West 14th Street Winston Salem NC 27105 United States;X-APPLE-RADIUS=500;X-TITLE=1023 West 14th Street:geo:-80.255454,36.1130032
END:VEVENT
BEGIN:VEVENT
DTSTART;TZID=America/New_York:20240430T173000
DTEND;TZID=America/New_York:20240430T190000
DTSTAMP:20260422T175731
CREATED:20240229T184721Z
LAST-MODIFIED:20240229T184721Z
UID:10001027-1714498200-1714503600@habitatforsyth.org
SUMMARY:Understanding Mortgages and HOAs
DESCRIPTION:come learn about mortgages and HOAs with Joni Yoder\, Habitat’s Chief Financial officer. She makes it fun!
URL:https://habitatforsyth.org/event/understanding-mortgages-and-hoas/
LOCATION:Habitat Housing Education Center\, 1023 West 14th Street\, Winston Salem\, NC\, 27105\, United States
CATEGORIES:HIP Homeowner Education
GEO:36.1130032;-80.255454
X-APPLE-STRUCTURED-LOCATION;VALUE=URI;X-ADDRESS=Habitat Housing Education Center 1023 West 14th Street Winston Salem NC 27105 United States;X-APPLE-RADIUS=500;X-TITLE=1023 West 14th Street:geo:-80.255454,36.1130032
END:VEVENT
BEGIN:VEVENT
DTSTART;TZID=America/New_York:20240423T180000
DTEND;TZID=America/New_York:20240423T190000
DTSTAMP:20260422T175731
CREATED:20240131T210440Z
LAST-MODIFIED:20240423T164516Z
UID:10001015-1713895200-1713898800@habitatforsyth.org
SUMMARY:Home Maintenance Basic Plumbing (HIP Class 2024 only\, Max 15 People)
DESCRIPTION:This is a hands-on class teaching basic home maintenance and repair. Room for first 15 people to respond to reminder text message. Class will be in the warehouse at the same location as Habitat office and classroom.
URL:https://habitatforsyth.org/event/home-maintenance-basic-plumbing-hip-class-2024-only-max-15-people/
LOCATION:Habitat’s Housing Education Campus\, 1023 West 14th Street\, Winston-Salem\, NC\, 27105\, United States
CATEGORIES:HIP Homeowner Education
END:VEVENT
BEGIN:VEVENT
DTSTART;TZID=America/New_York:20240418T180000
DTEND;TZID=America/New_York:20240418T193000
DTSTAMP:20260422T175731
CREATED:20240131T210155Z
LAST-MODIFIED:20240131T210155Z
UID:10001014-1713463200-1713468600@habitatforsyth.org
SUMMARY:Financial Peace University (HIP Class 2024 ONLY)
DESCRIPTION:
URL:https://habitatforsyth.org/event/financial-peace-university-hip-class-2024-only-7/
LOCATION:Habitat Housing Education Center\, 1023 West 14th Street\, Winston Salem\, NC\, 27105\, United States
CATEGORIES:HIP Homeowner Education
GEO:36.1130032;-80.255454
X-APPLE-STRUCTURED-LOCATION;VALUE=URI;X-ADDRESS=Habitat Housing Education Center 1023 West 14th Street Winston Salem NC 27105 United States;X-APPLE-RADIUS=500;X-TITLE=1023 West 14th Street:geo:-80.255454,36.1130032
END:VEVENT
BEGIN:VEVENT
DTSTART;TZID=America/New_York:20240416T180000
DTEND;TZID=America/New_York:20240416T200000
DTSTAMP:20260422T175731
CREATED:20240306T150332Z
LAST-MODIFIED:20240306T164012Z
UID:10001032-1713290400-1713297600@habitatforsyth.org
SUMMARY:GreenTree Wellness Support (for Pre-Registered participants only)
DESCRIPTION:This class is limited to pre-registered participants only. \nSelf-Care for your journey to home ownership
URL:https://habitatforsyth.org/event/greentree-wellness-support-for-pre-registered-participants-only/2024-04-16/
LOCATION:Habitat Housing Education Center\, 1023 West 14th Street\, Winston Salem\, NC\, 27105\, United States
CATEGORIES:HIP Homeowner Education
GEO:36.1130032;-80.255454
X-APPLE-STRUCTURED-LOCATION;VALUE=URI;X-ADDRESS=Habitat Housing Education Center 1023 West 14th Street Winston Salem NC 27105 United States;X-APPLE-RADIUS=500;X-TITLE=1023 West 14th Street:geo:-80.255454,36.1130032
END:VEVENT
BEGIN:VEVENT
DTSTART;TZID=America/New_York:20240416T180000
DTEND;TZID=America/New_York:20240416T193000
DTSTAMP:20260422T175731
CREATED:20240131T210038Z
LAST-MODIFIED:20240131T210038Z
UID:10001013-1713290400-1713295800@habitatforsyth.org
SUMMARY:Piedmont Federal Presents Credit Reports and Scores
DESCRIPTION:
URL:https://habitatforsyth.org/event/piedmont-federal-presents-credit-reports-and-scores/
LOCATION:Habitat Housing Education Center\, 1023 West 14th Street\, Winston Salem\, NC\, 27105\, United States
CATEGORIES:HIP Homeowner Education
GEO:36.1130032;-80.255454
X-APPLE-STRUCTURED-LOCATION;VALUE=URI;X-ADDRESS=Habitat Housing Education Center 1023 West 14th Street Winston Salem NC 27105 United States;X-APPLE-RADIUS=500;X-TITLE=1023 West 14th Street:geo:-80.255454,36.1130032
END:VEVENT
BEGIN:VEVENT
DTSTART;TZID=America/New_York:20240411T180000
DTEND;TZID=America/New_York:20240411T193000
DTSTAMP:20260422T175731
CREATED:20240131T205906Z
LAST-MODIFIED:20240131T205906Z
UID:10001012-1712858400-1712863800@habitatforsyth.org
SUMMARY:Financial Peace University (HIP Class 2024 ONLY)
DESCRIPTION:
URL:https://habitatforsyth.org/event/financial-peace-university-hip-class-2024-only-6/
LOCATION:Habitat Housing Education Center\, 1023 West 14th Street\, Winston Salem\, NC\, 27105\, United States
CATEGORIES:HIP Homeowner Education
GEO:36.1130032;-80.255454
X-APPLE-STRUCTURED-LOCATION;VALUE=URI;X-ADDRESS=Habitat Housing Education Center 1023 West 14th Street Winston Salem NC 27105 United States;X-APPLE-RADIUS=500;X-TITLE=1023 West 14th Street:geo:-80.255454,36.1130032
END:VEVENT
BEGIN:VEVENT
DTSTART;TZID=America/New_York:20240409T173000
DTEND;TZID=America/New_York:20240409T190000
DTSTAMP:20260422T175731
CREATED:20240131T205741Z
LAST-MODIFIED:20240131T205741Z
UID:10001011-1712683800-1712689200@habitatforsyth.org
SUMMARY:First Bank - Debt Management
DESCRIPTION:
URL:https://habitatforsyth.org/event/first-bank-debt-management/
LOCATION:Habitat Housing Education Center\, 1023 West 14th Street\, Winston Salem\, NC\, 27105\, United States
CATEGORIES:HIP Homeowner Education
GEO:36.1130032;-80.255454
X-APPLE-STRUCTURED-LOCATION;VALUE=URI;X-ADDRESS=Habitat Housing Education Center 1023 West 14th Street Winston Salem NC 27105 United States;X-APPLE-RADIUS=500;X-TITLE=1023 West 14th Street:geo:-80.255454,36.1130032
END:VEVENT
BEGIN:VEVENT
DTSTART;TZID=America/New_York:20240404T180000
DTEND;TZID=America/New_York:20240404T193000
DTSTAMP:20260422T175732
CREATED:20240131T205436Z
LAST-MODIFIED:20240131T205641Z
UID:10001010-1712253600-1712259000@habitatforsyth.org
SUMMARY:Financial Peace University (HIP Class 2024 ONLY)
DESCRIPTION:
URL:https://habitatforsyth.org/event/financial-peace-university-hip-class-2024-only-5/
LOCATION:Habitat Housing Education Center\, 1023 West 14th Street\, Winston Salem\, NC\, 27105\, United States
CATEGORIES:HIP Homeowner Education
GEO:36.1130032;-80.255454
X-APPLE-STRUCTURED-LOCATION;VALUE=URI;X-ADDRESS=Habitat Housing Education Center 1023 West 14th Street Winston Salem NC 27105 United States;X-APPLE-RADIUS=500;X-TITLE=1023 West 14th Street:geo:-80.255454,36.1130032
END:VEVENT
BEGIN:VEVENT
DTSTART;TZID=America/New_York:20240402T180000
DTEND;TZID=America/New_York:20240402T200000
DTSTAMP:20260422T175732
CREATED:20240306T150332Z
LAST-MODIFIED:20240306T164012Z
UID:10001030-1712080800-1712088000@habitatforsyth.org
SUMMARY:GreenTree Wellness Support (for Pre-Registered participants only)
DESCRIPTION:This class is limited to pre-registered participants only. \nSelf-Care for your journey to home ownership
URL:https://habitatforsyth.org/event/greentree-wellness-support-for-pre-registered-participants-only/2024-04-02/
LOCATION:Habitat Housing Education Center\, 1023 West 14th Street\, Winston Salem\, NC\, 27105\, United States
CATEGORIES:HIP Homeowner Education
GEO:36.1130032;-80.255454
X-APPLE-STRUCTURED-LOCATION;VALUE=URI;X-ADDRESS=Habitat Housing Education Center 1023 West 14th Street Winston Salem NC 27105 United States;X-APPLE-RADIUS=500;X-TITLE=1023 West 14th Street:geo:-80.255454,36.1130032
END:VEVENT
BEGIN:VEVENT
DTSTART;TZID=America/New_York:20240328T180000
DTEND;TZID=America/New_York:20240328T193000
DTSTAMP:20260422T175732
CREATED:20240131T194503Z
LAST-MODIFIED:20240131T211710Z
UID:10001008-1711648800-1711654200@habitatforsyth.org
SUMMARY:Financial Peace University (HIP Class 2024 ONLY)
DESCRIPTION:
URL:https://habitatforsyth.org/event/financial-peace-university-hip-class-2024-only-4/
LOCATION:Habitat Housing Education Center\, 1023 West 14th Street\, Winston Salem\, NC\, 27105\, United States
CATEGORIES:HIP Homeowner Education
GEO:36.1130032;-80.255454
X-APPLE-STRUCTURED-LOCATION;VALUE=URI;X-ADDRESS=Habitat Housing Education Center 1023 West 14th Street Winston Salem NC 27105 United States;X-APPLE-RADIUS=500;X-TITLE=1023 West 14th Street:geo:-80.255454,36.1130032
END:VEVENT
BEGIN:VEVENT
DTSTART;TZID=America/New_York:20240326T173000
DTEND;TZID=America/New_York:20240326T190000
DTSTAMP:20260422T175732
CREATED:20240131T194330Z
LAST-MODIFIED:20240131T195157Z
UID:10001007-1711474200-1711479600@habitatforsyth.org
SUMMARY:SECU First Time Home Buyers
DESCRIPTION:
URL:https://habitatforsyth.org/event/secu-first-time-home-buyers/
LOCATION:Habitat Housing Education Center\, 1023 West 14th Street\, Winston Salem\, NC\, 27105\, United States
CATEGORIES:HIP Homeowner Education
GEO:36.1130032;-80.255454
X-APPLE-STRUCTURED-LOCATION;VALUE=URI;X-ADDRESS=Habitat Housing Education Center 1023 West 14th Street Winston Salem NC 27105 United States;X-APPLE-RADIUS=500;X-TITLE=1023 West 14th Street:geo:-80.255454,36.1130032
END:VEVENT
BEGIN:VEVENT
DTSTART;TZID=America/New_York:20240321T180000
DTEND;TZID=America/New_York:20240321T193000
DTSTAMP:20260422T175732
CREATED:20240131T194044Z
LAST-MODIFIED:20240131T194044Z
UID:10001006-1711044000-1711049400@habitatforsyth.org
SUMMARY:Financial Peace University (HIP Class 2024 ONLY)
DESCRIPTION:
URL:https://habitatforsyth.org/event/financial-peace-university-hip-class-2024-only-3/
LOCATION:Habitat Housing Education Center\, 1023 West 14th Street\, Winston Salem\, NC\, 27105\, United States
CATEGORIES:HIP Homeowner Education
GEO:36.1130032;-80.255454
X-APPLE-STRUCTURED-LOCATION;VALUE=URI;X-ADDRESS=Habitat Housing Education Center 1023 West 14th Street Winston Salem NC 27105 United States;X-APPLE-RADIUS=500;X-TITLE=1023 West 14th Street:geo:-80.255454,36.1130032
END:VEVENT
BEGIN:VEVENT
DTSTART;TZID=America/New_York:20240319T180000
DTEND;TZID=America/New_York:20240319T200000
DTSTAMP:20260422T175732
CREATED:20240306T150332Z
LAST-MODIFIED:20240306T164012Z
UID:10001028-1710871200-1710878400@habitatforsyth.org
SUMMARY:GreenTree Wellness Support (for Pre-Registered participants only)
DESCRIPTION:This class is limited to pre-registered participants only. \nSelf-Care for your journey to home ownership
URL:https://habitatforsyth.org/event/greentree-wellness-support-for-pre-registered-participants-only/2024-03-19/
LOCATION:Habitat Housing Education Center\, 1023 West 14th Street\, Winston Salem\, NC\, 27105\, United States
CATEGORIES:HIP Homeowner Education
GEO:36.1130032;-80.255454
X-APPLE-STRUCTURED-LOCATION;VALUE=URI;X-ADDRESS=Habitat Housing Education Center 1023 West 14th Street Winston Salem NC 27105 United States;X-APPLE-RADIUS=500;X-TITLE=1023 West 14th Street:geo:-80.255454,36.1130032
END:VEVENT
BEGIN:VEVENT
DTSTART;TZID=America/New_York:20240314T180000
DTEND;TZID=America/New_York:20240314T193000
DTSTAMP:20260422T175732
CREATED:20240131T193558Z
LAST-MODIFIED:20240131T193916Z
UID:10001004-1710439200-1710444600@habitatforsyth.org
SUMMARY:Financial Peace University (HIP Class 2024 ONLY)
DESCRIPTION:
URL:https://habitatforsyth.org/event/financial-peace-university-hip-class-2024-only-2/
LOCATION:NC
CATEGORIES:HIP Homeowner Education
END:VEVENT
BEGIN:VEVENT
DTSTART;TZID=America/New_York:20240312T173000
DTEND;TZID=America/New_York:20240312T190000
DTSTAMP:20260422T175732
CREATED:20240131T193430Z
LAST-MODIFIED:20240131T193430Z
UID:10001003-1710264600-1710270000@habitatforsyth.org
SUMMARY:Second Harvest Cooking Matters (Max 20 People)
DESCRIPTION:Nutrition and healthy cooking class sponsored by Second Harvest Food Bank\, room for first 20 people to respond to reminder text message.
URL:https://habitatforsyth.org/event/second-harvest-cooking-matters-max-20-people/
LOCATION:Habitat Housing Education Center\, 1023 West 14th Street\, Winston Salem\, NC\, 27105\, United States
CATEGORIES:HIP Homeowner Education
GEO:36.1130032;-80.255454
X-APPLE-STRUCTURED-LOCATION;VALUE=URI;X-ADDRESS=Habitat Housing Education Center 1023 West 14th Street Winston Salem NC 27105 United States;X-APPLE-RADIUS=500;X-TITLE=1023 West 14th Street:geo:-80.255454,36.1130032
END:VEVENT
BEGIN:VEVENT
DTSTART;TZID=America/New_York:20240307T180000
DTEND;TZID=America/New_York:20240307T193000
DTSTAMP:20260422T175732
CREATED:20240131T192815Z
LAST-MODIFIED:20240131T192815Z
UID:10001002-1709834400-1709839800@habitatforsyth.org
SUMMARY:Financial Peace University (HIP Class 2024 ONLY)
DESCRIPTION:
URL:https://habitatforsyth.org/event/financial-peace-university-hip-class-2024-only/
LOCATION:NC
CATEGORIES:HIP Homeowner Education
END:VEVENT
BEGIN:VEVENT
DTSTART;TZID=America/New_York:20240305T180000
DTEND;TZID=America/New_York:20240305T200000
DTSTAMP:20260422T175732
CREATED:20240131T192529Z
LAST-MODIFIED:20240131T192529Z
UID:10001001-1709661600-1709668800@habitatforsyth.org
SUMMARY:Piedmont Federal Presents Borrowing Basics
DESCRIPTION:
URL:https://habitatforsyth.org/event/piedmont-federal-presents-borrowing-basics-2/
LOCATION:Habitat Housing Education Center\, 1023 West 14th Street\, Winston Salem\, NC\, 27105\, United States
CATEGORIES:HIP Homeowner Education
GEO:36.1130032;-80.255454
X-APPLE-STRUCTURED-LOCATION;VALUE=URI;X-ADDRESS=Habitat Housing Education Center 1023 West 14th Street Winston Salem NC 27105 United States;X-APPLE-RADIUS=500;X-TITLE=1023 West 14th Street:geo:-80.255454,36.1130032
END:VEVENT
BEGIN:VEVENT
DTSTART;TZID=America/New_York:20240229T180000
DTEND;TZID=America/New_York:20240229T193000
DTSTAMP:20260422T175732
CREATED:20240109T210243Z
LAST-MODIFIED:20240131T211540Z
UID:10000992-1709229600-1709235000@habitatforsyth.org
SUMMARY:Financial Peace University (HIP Class 2024 ONLY)
DESCRIPTION:
URL:https://habitatforsyth.org/event/financial-peace-university-4/
LOCATION:Habitat Housing Education Center\, 1023 West 14th Street\, Winston Salem\, NC\, 27105\, United States
CATEGORIES:HIP Homeowner Education
GEO:36.1130032;-80.255454
X-APPLE-STRUCTURED-LOCATION;VALUE=URI;X-ADDRESS=Habitat Housing Education Center 1023 West 14th Street Winston Salem NC 27105 United States;X-APPLE-RADIUS=500;X-TITLE=1023 West 14th Street:geo:-80.255454,36.1130032
END:VEVENT
BEGIN:VEVENT
DTSTART;TZID=America/New_York:20240229T133000
DTEND;TZID=America/New_York:20240229T143000
DTSTAMP:20260422T175732
CREATED:20240123T190855Z
LAST-MODIFIED:20240129T172242Z
UID:10000995-1709213400-1709217000@habitatforsyth.org
SUMMARY:COMMUNITY EVENT: Assistance with the Application for Property Tax Relief
DESCRIPTION:In North Carolina\, Seniors and people with disabilities can get property tax relief. An individual who is totally and permanently disabled or age 65 and over and makes below the income limit of $36\,700.00 for 2024 could be exempt from property taxes up to half of the home’s assessed value or $25\,000 whichever is greater. \nTo Register please call 336.306.8424
URL:https://habitatforsyth.org/event/community-event-assistance-with-the-application-for-property-tax-relief/
LOCATION:Habitat Housing Education Center\, 1023 West 14th Street\, Winston Salem\, NC\, 27105\, United States
GEO:36.1130032;-80.255454
X-APPLE-STRUCTURED-LOCATION;VALUE=URI;X-ADDRESS=Habitat Housing Education Center 1023 West 14th Street Winston Salem NC 27105 United States;X-APPLE-RADIUS=500;X-TITLE=1023 West 14th Street:geo:-80.255454,36.1130032
END:VEVENT
BEGIN:VEVENT
DTSTART;TZID=America/New_York:20240227T170000
DTEND;TZID=America/New_York:20240227T200000
DTSTAMP:20260422T175732
CREATED:20240123T185903Z
LAST-MODIFIED:20240123T185903Z
UID:10000994-1709053200-1709064000@habitatforsyth.org
SUMMARY:Family Portraits
DESCRIPTION:HIP class of 2024 this is your opportunity to get your photo session scheduled. HIP Class of 2023 only if you missed your previous opportunity\, you may join and get your Family portrait taken. \nSign-Ups are available in 5 min time slots between 5 pm – 8 pm on February 27th\, 2024— Sign up with Mike or by calling 336.306.8424. \nThese Photos will be used to display in our lobby once you reach lot selection as well as on Programs for Dedications.
URL:https://habitatforsyth.org/event/family-portraits/
LOCATION:Habitat Housing Education Center\, 1023 West 14th Street\, Winston Salem\, NC\, 27105\, United States
GEO:36.1130032;-80.255454
X-APPLE-STRUCTURED-LOCATION;VALUE=URI;X-ADDRESS=Habitat Housing Education Center 1023 West 14th Street Winston Salem NC 27105 United States;X-APPLE-RADIUS=500;X-TITLE=1023 West 14th Street:geo:-80.255454,36.1130032
END:VEVENT
BEGIN:VEVENT
DTSTART;TZID=America/New_York:20240222T180000
DTEND;TZID=America/New_York:20240222T193000
DTSTAMP:20260422T175732
CREATED:20240109T205611Z
LAST-MODIFIED:20240131T210827Z
UID:10000991-1708624800-1708630200@habitatforsyth.org
SUMMARY:Financial Peace University (HIP Class 2024 only)
DESCRIPTION:This is the first of a 9-week series of required classes for the HIP 2024 group.
URL:https://habitatforsyth.org/event/financial-peace-university-3/
LOCATION:Habitat Housing Education Center\, 1023 West 14th Street\, Winston Salem\, NC\, 27105\, United States
CATEGORIES:HIP Homeowner Education
GEO:36.1130032;-80.255454
X-APPLE-STRUCTURED-LOCATION;VALUE=URI;X-ADDRESS=Habitat Housing Education Center 1023 West 14th Street Winston Salem NC 27105 United States;X-APPLE-RADIUS=500;X-TITLE=1023 West 14th Street:geo:-80.255454,36.1130032
END:VEVENT
BEGIN:VEVENT
DTSTART;TZID=America/New_York:20240220T173000
DTEND;TZID=America/New_York:20240220T190000
DTSTAMP:20260422T175732
CREATED:20240109T205410Z
LAST-MODIFIED:20240131T210919Z
UID:10000990-1708450200-1708455600@habitatforsyth.org
SUMMARY:Home Maintenance Basic Flooring (HIP Class 2024 only\, Max 15 People)
DESCRIPTION:This is a hands-on class teaching basic home maintenance and repair. Room for first 15 people to respond to reminder text message. Class will be in the warehouse at the same location as Habitat office and classroom.
URL:https://habitatforsyth.org/event/home-maintenance-basic-flooring-max-15-people/
LOCATION:Habitat Housing Education Center\, 1023 West 14th Street\, Winston Salem\, NC\, 27105\, United States
CATEGORIES:HIP Homeowner Education
GEO:36.1130032;-80.255454
X-APPLE-STRUCTURED-LOCATION;VALUE=URI;X-ADDRESS=Habitat Housing Education Center 1023 West 14th Street Winston Salem NC 27105 United States;X-APPLE-RADIUS=500;X-TITLE=1023 West 14th Street:geo:-80.255454,36.1130032
END:VEVENT
BEGIN:VEVENT
DTSTART;TZID=America/New_York:20240215T180000
DTEND;TZID=America/New_York:20240215T190000
DTSTAMP:20260422T175732
CREATED:20240109T205232Z
LAST-MODIFIED:20240131T211113Z
UID:10000989-1708020000-1708023600@habitatforsyth.org
SUMMARY:Home Maintenance Basic Plumbing (HIP Class 2024 only\, Max 15 People)
DESCRIPTION:This is a hands-on class teaching basic home maintenance and repair. Room for first 15 people to respond to reminder text message. Class will be in the warehouse at the same location as Habitat office and classroom.
URL:https://habitatforsyth.org/event/home-maintenance-basic-plumbing-max-15-students/
LOCATION:Habitat Housing Education Center\, 1023 West 14th Street\, Winston Salem\, NC\, 27105\, United States
CATEGORIES:HIP Homeowner Education
GEO:36.1130032;-80.255454
X-APPLE-STRUCTURED-LOCATION;VALUE=URI;X-ADDRESS=Habitat Housing Education Center 1023 West 14th Street Winston Salem NC 27105 United States;X-APPLE-RADIUS=500;X-TITLE=1023 West 14th Street:geo:-80.255454,36.1130032
END:VEVENT
END:VCALENDAR