BEGIN:VCALENDAR
VERSION:2.0
PRODID:-//Habitat for Humanity of Forsyth County - ECPv6.15.20//NONSGML v1.0//EN
CALSCALE:GREGORIAN
METHOD:PUBLISH
X-WR-CALNAME:Habitat for Humanity of Forsyth County
X-ORIGINAL-URL:https://habitatforsyth.org
X-WR-CALDESC:Events for Habitat for Humanity of Forsyth County
REFRESH-INTERVAL;VALUE=DURATION:PT1H
X-Robots-Tag:noindex
X-PUBLISHED-TTL:PT1H
BEGIN:VTIMEZONE
TZID:America/New_York
BEGIN:DAYLIGHT
TZOFFSETFROM:-0500
TZOFFSETTO:-0400
TZNAME:EDT
DTSTART:20220313T070000
END:DAYLIGHT
BEGIN:STANDARD
TZOFFSETFROM:-0400
TZOFFSETTO:-0500
TZNAME:EST
DTSTART:20221106T060000
END:STANDARD
BEGIN:DAYLIGHT
TZOFFSETFROM:-0500
TZOFFSETTO:-0400
TZNAME:EDT
DTSTART:20230312T070000
END:DAYLIGHT
BEGIN:STANDARD
TZOFFSETFROM:-0400
TZOFFSETTO:-0500
TZNAME:EST
DTSTART:20231105T060000
END:STANDARD
BEGIN:DAYLIGHT
TZOFFSETFROM:-0500
TZOFFSETTO:-0400
TZNAME:EDT
DTSTART:20240310T070000
END:DAYLIGHT
BEGIN:STANDARD
TZOFFSETFROM:-0400
TZOFFSETTO:-0500
TZNAME:EST
DTSTART:20241103T060000
END:STANDARD
END:VTIMEZONE
BEGIN:VEVENT
DTSTART;TZID=America/New_York:20230921T180000
DTEND;TZID=America/New_York:20230921T193000
DTSTAMP:20260423T053827
CREATED:20230614T181754Z
LAST-MODIFIED:20230614T181754Z
UID:10000952-1695319200-1695324600@habitatforsyth.org
SUMMARY:Financial Peace University
DESCRIPTION:A program geared to helping participants use tools and strategies needed to set and achieve goals; build skills in managing money\, credit\, and debt; and choose financial products that are right for them. \nRegistration:  Required. Email to register: TrainingEd@habitatforsyth.org
URL:https://habitatforsyth.org/event/financial-peace-university/2023-09-21/
LOCATION:Habitat Housing Education Center\, 1023 West 14th Street\, Winston Salem\, NC\, 27105\, United States
GEO:36.1130032;-80.255454
X-APPLE-STRUCTURED-LOCATION;VALUE=URI;X-ADDRESS=Habitat Housing Education Center 1023 West 14th Street Winston Salem NC 27105 United States;X-APPLE-RADIUS=500;X-TITLE=1023 West 14th Street:geo:-80.255454,36.1130032
END:VEVENT
BEGIN:VEVENT
DTSTART;TZID=America/New_York:20230919T180000
DTEND;TZID=America/New_York:20230919T193000
DTSTAMP:20260423T053827
CREATED:20230614T185423Z
LAST-MODIFIED:20230614T185433Z
UID:10000959-1695146400-1695151800@habitatforsyth.org
SUMMARY:Piedmont Federal Series #2: Financial Products and Services
DESCRIPTION:Registration:  Required. Email to register: TrainingEd@habitatforsyth.org
URL:https://habitatforsyth.org/event/piedmont-federal-series-2-financial-products-and-services/
LOCATION:Habitat Housing Education Center\, 1023 West 14th Street\, Winston Salem\, NC\, 27105\, United States
GEO:36.1130032;-80.255454
X-APPLE-STRUCTURED-LOCATION;VALUE=URI;X-ADDRESS=Habitat Housing Education Center 1023 West 14th Street Winston Salem NC 27105 United States;X-APPLE-RADIUS=500;X-TITLE=1023 West 14th Street:geo:-80.255454,36.1130032
END:VEVENT
BEGIN:VEVENT
DTSTART;TZID=America/New_York:20230914T180000
DTEND;TZID=America/New_York:20230914T193000
DTSTAMP:20260423T053827
CREATED:20230913T143613Z
LAST-MODIFIED:20230913T143640Z
UID:10000951-1694714400-1694719800@habitatforsyth.org
SUMMARY:Financial Peace University
DESCRIPTION:A program geared to helping participants use tools and strategies needed to set and achieve goals; build skills in managing money\, credit\, and debt; and choose financial products that are right for them. \nRegistration:  Required. Email to register: TrainingEd@habitatforsyth.org
URL:https://habitatforsyth.org/event/financial-peace-university-2/
LOCATION:Habitat Housing Education Center\, 1023 West 14th Street\, Winston Salem\, NC\, 27105\, United States
GEO:36.1130032;-80.255454
X-APPLE-STRUCTURED-LOCATION;VALUE=URI;X-ADDRESS=Habitat Housing Education Center 1023 West 14th Street Winston Salem NC 27105 United States;X-APPLE-RADIUS=500;X-TITLE=1023 West 14th Street:geo:-80.255454,36.1130032
END:VEVENT
BEGIN:VEVENT
DTSTART;TZID=America/New_York:20230912T180000
DTEND;TZID=America/New_York:20230912T200000
DTSTAMP:20260423T053827
CREATED:20230614T185313Z
LAST-MODIFIED:20230614T185313Z
UID:10000958-1694541600-1694548800@habitatforsyth.org
SUMMARY:City of Winston-Salem University
DESCRIPTION:Interactive session about different city departments. From Fire to sanitation and recycling learn about each department and how you will interact with them as a homeowner. \nRegistration:  Required. Email to register: TrainingEd@habitatforsyth.org
URL:https://habitatforsyth.org/event/city-of-winston-salem-university/
LOCATION:Habitat Housing Education Center\, 1023 West 14th Street\, Winston Salem\, NC\, 27105\, United States
GEO:36.1130032;-80.255454
X-APPLE-STRUCTURED-LOCATION;VALUE=URI;X-ADDRESS=Habitat Housing Education Center 1023 West 14th Street Winston Salem NC 27105 United States;X-APPLE-RADIUS=500;X-TITLE=1023 West 14th Street:geo:-80.255454,36.1130032
END:VEVENT
BEGIN:VEVENT
DTSTART;TZID=America/New_York:20230907T180000
DTEND;TZID=America/New_York:20230907T193000
DTSTAMP:20260423T053827
CREATED:20230614T181754Z
LAST-MODIFIED:20230614T181754Z
UID:10000950-1694109600-1694115000@habitatforsyth.org
SUMMARY:Financial Peace University
DESCRIPTION:A program geared to helping participants use tools and strategies needed to set and achieve goals; build skills in managing money\, credit\, and debt; and choose financial products that are right for them. \nRegistration:  Required. Email to register: TrainingEd@habitatforsyth.org
URL:https://habitatforsyth.org/event/financial-peace-university/2023-09-07/
LOCATION:Habitat Housing Education Center\, 1023 West 14th Street\, Winston Salem\, NC\, 27105\, United States
GEO:36.1130032;-80.255454
X-APPLE-STRUCTURED-LOCATION;VALUE=URI;X-ADDRESS=Habitat Housing Education Center 1023 West 14th Street Winston Salem NC 27105 United States;X-APPLE-RADIUS=500;X-TITLE=1023 West 14th Street:geo:-80.255454,36.1130032
END:VEVENT
BEGIN:VEVENT
DTSTART;TZID=America/New_York:20230831T180000
DTEND;TZID=America/New_York:20230831T193000
DTSTAMP:20260423T053827
CREATED:20230614T181754Z
LAST-MODIFIED:20230614T181754Z
UID:10000949-1693504800-1693510200@habitatforsyth.org
SUMMARY:Financial Peace University
DESCRIPTION:A program geared to helping participants use tools and strategies needed to set and achieve goals; build skills in managing money\, credit\, and debt; and choose financial products that are right for them. \nRegistration:  Required. Email to register: TrainingEd@habitatforsyth.org
URL:https://habitatforsyth.org/event/financial-peace-university/2023-08-31/
LOCATION:Habitat Housing Education Center\, 1023 West 14th Street\, Winston Salem\, NC\, 27105\, United States
GEO:36.1130032;-80.255454
X-APPLE-STRUCTURED-LOCATION;VALUE=URI;X-ADDRESS=Habitat Housing Education Center 1023 West 14th Street Winston Salem NC 27105 United States;X-APPLE-RADIUS=500;X-TITLE=1023 West 14th Street:geo:-80.255454,36.1130032
END:VEVENT
BEGIN:VEVENT
DTSTART;TZID=America/New_York:20230829T173000
DTEND;TZID=America/New_York:20230829T193000
DTSTAMP:20260423T053827
CREATED:20230614T184401Z
LAST-MODIFIED:20230614T184401Z
UID:10000957-1693330200-1693337400@habitatforsyth.org
SUMMARY:Nutrition Series #1 (Second Harvest Food Bank)
DESCRIPTION:A NEW partnership with 2nd Harvest Food Bank to provide nutritional resources in a Hands-on environment! \nRegistration:  Required. Email to register: TrainingEd@habitatforsyth.org
URL:https://habitatforsyth.org/event/nutrition-series-1-second-harvest-food-bank/
LOCATION:Habitat Housing Education Center\, 1023 West 14th Street\, Winston Salem\, NC\, 27105\, United States
GEO:36.1130032;-80.255454
X-APPLE-STRUCTURED-LOCATION;VALUE=URI;X-ADDRESS=Habitat Housing Education Center 1023 West 14th Street Winston Salem NC 27105 United States;X-APPLE-RADIUS=500;X-TITLE=1023 West 14th Street:geo:-80.255454,36.1130032
END:VEVENT
BEGIN:VEVENT
DTSTART;TZID=America/New_York:20230824T180000
DTEND;TZID=America/New_York:20230824T193000
DTSTAMP:20260423T053827
CREATED:20230614T181754Z
LAST-MODIFIED:20230614T181754Z
UID:10000948-1692900000-1692905400@habitatforsyth.org
SUMMARY:Financial Peace University
DESCRIPTION:A program geared to helping participants use tools and strategies needed to set and achieve goals; build skills in managing money\, credit\, and debt; and choose financial products that are right for them. \nRegistration:  Required. Email to register: TrainingEd@habitatforsyth.org
URL:https://habitatforsyth.org/event/financial-peace-university/2023-08-24/
LOCATION:Habitat Housing Education Center\, 1023 West 14th Street\, Winston Salem\, NC\, 27105\, United States
GEO:36.1130032;-80.255454
X-APPLE-STRUCTURED-LOCATION;VALUE=URI;X-ADDRESS=Habitat Housing Education Center 1023 West 14th Street Winston Salem NC 27105 United States;X-APPLE-RADIUS=500;X-TITLE=1023 West 14th Street:geo:-80.255454,36.1130032
END:VEVENT
BEGIN:VEVENT
DTSTART;TZID=America/New_York:20230822T180000
DTEND;TZID=America/New_York:20230822T200000
DTSTAMP:20260423T053827
CREATED:20230614T183642Z
LAST-MODIFIED:20230614T183642Z
UID:10000956-1692727200-1692734400@habitatforsyth.org
SUMMARY:Credit 101
DESCRIPTION:How to read your credit report\, preventing credit fraud and how to improve your credit score. Plus: Find out impacts of credit breaches and what to do to safeguard your credit. Bring a copy of your credit report for a personal review. \nRegistration:  Required. Email to register: TrainingEd@habitatforsyth.org
URL:https://habitatforsyth.org/event/credit-101/
LOCATION:Habitat Housing Education Center\, 1023 West 14th Street\, Winston Salem\, NC\, 27105\, United States
GEO:36.1130032;-80.255454
X-APPLE-STRUCTURED-LOCATION;VALUE=URI;X-ADDRESS=Habitat Housing Education Center 1023 West 14th Street Winston Salem NC 27105 United States;X-APPLE-RADIUS=500;X-TITLE=1023 West 14th Street:geo:-80.255454,36.1130032
END:VEVENT
BEGIN:VEVENT
DTSTART;TZID=America/New_York:20230817T180000
DTEND;TZID=America/New_York:20230817T193000
DTSTAMP:20260423T053827
CREATED:20230614T181754Z
LAST-MODIFIED:20230614T181754Z
UID:10000947-1692295200-1692300600@habitatforsyth.org
SUMMARY:Financial Peace University
DESCRIPTION:A program geared to helping participants use tools and strategies needed to set and achieve goals; build skills in managing money\, credit\, and debt; and choose financial products that are right for them. \nRegistration:  Required. Email to register: TrainingEd@habitatforsyth.org
URL:https://habitatforsyth.org/event/financial-peace-university/2023-08-17/
LOCATION:Habitat Housing Education Center\, 1023 West 14th Street\, Winston Salem\, NC\, 27105\, United States
GEO:36.1130032;-80.255454
X-APPLE-STRUCTURED-LOCATION;VALUE=URI;X-ADDRESS=Habitat Housing Education Center 1023 West 14th Street Winston Salem NC 27105 United States;X-APPLE-RADIUS=500;X-TITLE=1023 West 14th Street:geo:-80.255454,36.1130032
END:VEVENT
BEGIN:VEVENT
DTSTART;TZID=America/New_York:20230815T180000
DTEND;TZID=America/New_York:20230815T193000
DTSTAMP:20260423T053827
CREATED:20230614T183408Z
LAST-MODIFIED:20230614T183408Z
UID:10000955-1692122400-1692127800@habitatforsyth.org
SUMMARY:First Bank Series #8: Retirement
DESCRIPTION:Creating space to understand Retirement. Equip participants with how to deal with this major financial decision that may come their way in homeownership. \nRegistration:  Required. Email to register: TrainingEd@habitatforsyth.org
URL:https://habitatforsyth.org/event/first-bank-series-8-retirement/
LOCATION:Habitat Housing Education Center\, 1023 West 14th Street\, Winston Salem\, NC\, 27105\, United States
GEO:36.1130032;-80.255454
X-APPLE-STRUCTURED-LOCATION;VALUE=URI;X-ADDRESS=Habitat Housing Education Center 1023 West 14th Street Winston Salem NC 27105 United States;X-APPLE-RADIUS=500;X-TITLE=1023 West 14th Street:geo:-80.255454,36.1130032
END:VEVENT
BEGIN:VEVENT
DTSTART;TZID=America/New_York:20230810T180000
DTEND;TZID=America/New_York:20230810T193000
DTSTAMP:20260423T053827
CREATED:20230614T181754Z
LAST-MODIFIED:20230614T181754Z
UID:10000946-1691690400-1691695800@habitatforsyth.org
SUMMARY:Financial Peace University
DESCRIPTION:A program geared to helping participants use tools and strategies needed to set and achieve goals; build skills in managing money\, credit\, and debt; and choose financial products that are right for them. \nRegistration:  Required. Email to register: TrainingEd@habitatforsyth.org
URL:https://habitatforsyth.org/event/financial-peace-university/2023-08-10/
LOCATION:Habitat Housing Education Center\, 1023 West 14th Street\, Winston Salem\, NC\, 27105\, United States
GEO:36.1130032;-80.255454
X-APPLE-STRUCTURED-LOCATION;VALUE=URI;X-ADDRESS=Habitat Housing Education Center 1023 West 14th Street Winston Salem NC 27105 United States;X-APPLE-RADIUS=500;X-TITLE=1023 West 14th Street:geo:-80.255454,36.1130032
END:VEVENT
BEGIN:VEVENT
DTSTART;TZID=America/New_York:20230808T180000
DTEND;TZID=America/New_York:20230808T193000
DTSTAMP:20260423T053827
CREATED:20230614T180453Z
LAST-MODIFIED:20230614T180529Z
UID:10000945-1691517600-1691523000@habitatforsyth.org
SUMMARY:Piedmont Federal Series #1: Money Values and Influence
DESCRIPTION:Registration:  Required. Email to register: TrainingEd@habitatforsyth.org
URL:https://habitatforsyth.org/event/piedmont-federal-series-1/
LOCATION:Habitat Housing Education Center\, 1023 West 14th Street\, Winston Salem\, NC\, 27105\, United States
GEO:36.1130032;-80.255454
X-APPLE-STRUCTURED-LOCATION;VALUE=URI;X-ADDRESS=Habitat Housing Education Center 1023 West 14th Street Winston Salem NC 27105 United States;X-APPLE-RADIUS=500;X-TITLE=1023 West 14th Street:geo:-80.255454,36.1130032
END:VEVENT
BEGIN:VEVENT
DTSTART;TZID=America/New_York:20230718T180000
DTEND;TZID=America/New_York:20230718T190000
DTSTAMP:20260423T053827
CREATED:20230614T174931Z
LAST-MODIFIED:20230614T174931Z
UID:10000943-1689703200-1689706800@habitatforsyth.org
SUMMARY:First Bank Series #7
DESCRIPTION:Understand Key budgeting concepts and make better decisions related to managing money. \nRegistration:  Required. Email to register: TrainingEd@habitatforsyth.org
URL:https://habitatforsyth.org/event/first-bank-series-7/
LOCATION:Habitat Housing Education Center\, 1023 West 14th Street\, Winston Salem\, NC\, 27105\, United States
GEO:36.1130032;-80.255454
X-APPLE-STRUCTURED-LOCATION;VALUE=URI;X-ADDRESS=Habitat Housing Education Center 1023 West 14th Street Winston Salem NC 27105 United States;X-APPLE-RADIUS=500;X-TITLE=1023 West 14th Street:geo:-80.255454,36.1130032
END:VEVENT
BEGIN:VEVENT
DTSTART;TZID=America/New_York:20230713T180000
DTEND;TZID=America/New_York:20230713T190000
DTSTAMP:20260423T053827
CREATED:20230614T175906Z
LAST-MODIFIED:20230614T175906Z
UID:10000944-1689271200-1689274800@habitatforsyth.org
SUMMARY:Mortgage & Homeowner Insurance
DESCRIPTION:Building a better understanding of the legal terms and forms associated with closing\, restrictions written into deed of trust\, escrow process\, Habitat loan model\, and required hazard insurance coverage. \nRegistration:  Required. Email to register: TrainingEd@habitatforsyth.org
URL:https://habitatforsyth.org/event/mortgage-homeowner-insurance-2/
LOCATION:Habitat Housing Education Center\, 1023 West 14th Street\, Winston Salem\, NC\, 27105\, United States
GEO:36.1130032;-80.255454
X-APPLE-STRUCTURED-LOCATION;VALUE=URI;X-ADDRESS=Habitat Housing Education Center 1023 West 14th Street Winston Salem NC 27105 United States;X-APPLE-RADIUS=500;X-TITLE=1023 West 14th Street:geo:-80.255454,36.1130032
END:VEVENT
BEGIN:VEVENT
DTSTART;TZID=America/New_York:20230708T110000
DTEND;TZID=America/New_York:20230708T120000
DTSTAMP:20260423T053827
CREATED:20221224T191043Z
LAST-MODIFIED:20230613T174703Z
UID:10000937-1688814000-1688817600@habitatforsyth.org
SUMMARY:Home Maintenance Series: Flooring **Make-Up**
DESCRIPTION:Registration:  Required. Call to register: 765-8854 ext. 135.
URL:https://habitatforsyth.org/event/speaker-series-guest-tbd-9/
LOCATION:Habitat Housing Education Center\, 1023 West 14th Street\, Winston Salem\, NC\, 27105\, United States
CATEGORIES:Personal Development
GEO:36.1130032;-80.255454
X-APPLE-STRUCTURED-LOCATION;VALUE=URI;X-ADDRESS=Habitat Housing Education Center 1023 West 14th Street Winston Salem NC 27105 United States;X-APPLE-RADIUS=500;X-TITLE=1023 West 14th Street:geo:-80.255454,36.1130032
END:VEVENT
BEGIN:VEVENT
DTSTART;TZID=America/New_York:20230617T110000
DTEND;TZID=America/New_York:20230617T123000
DTSTAMP:20260423T053827
CREATED:20230523T195324Z
LAST-MODIFIED:20230523T195324Z
UID:10000942-1686999600-1687005000@habitatforsyth.org
SUMMARY:Gardening Workshop with NC-Co-op
DESCRIPTION:
URL:https://habitatforsyth.org/event/gardening-workshop-with-nc-co-op/
END:VEVENT
BEGIN:VEVENT
DTSTART;TZID=America/New_York:20230613T180000
DTEND;TZID=America/New_York:20230613T193000
DTSTAMP:20260423T053827
CREATED:20221224T190823Z
LAST-MODIFIED:20221224T190824Z
UID:10000936-1686679200-1686684600@habitatforsyth.org
SUMMARY:FirstBank Series #2: Budgeting
DESCRIPTION:Understand Key budgeting concepts and make better decisions related to managing money. \nRegistration:  Required. Call to register: 765-8854 ext. 135.
URL:https://habitatforsyth.org/event/firstbank-series-2-budgeting-2/
LOCATION:Habitat Housing Education Center\, 1023 West 14th Street\, Winston Salem\, NC\, 27105\, United States
CATEGORIES:Financial Education
GEO:36.1130032;-80.255454
X-APPLE-STRUCTURED-LOCATION;VALUE=URI;X-ADDRESS=Habitat Housing Education Center 1023 West 14th Street Winston Salem NC 27105 United States;X-APPLE-RADIUS=500;X-TITLE=1023 West 14th Street:geo:-80.255454,36.1130032
END:VEVENT
BEGIN:VEVENT
DTSTART;TZID=America/New_York:20230608T180000
DTEND;TZID=America/New_York:20230608T193000
DTSTAMP:20260423T053827
CREATED:20230523T194538Z
LAST-MODIFIED:20230523T194538Z
UID:10000941-1686247200-1686252600@habitatforsyth.org
SUMMARY:SECU Series: Financial Literacy Workshop
DESCRIPTION:
URL:https://habitatforsyth.org/event/secu-series-financial-literacy-workshop/
END:VEVENT
BEGIN:VEVENT
DTSTART;TZID=America/New_York:20230518T180000
DTEND;TZID=America/New_York:20230518T190000
DTSTAMP:20260423T053827
CREATED:20221224T184524Z
LAST-MODIFIED:20221224T184525Z
UID:10000935-1684432800-1684436400@habitatforsyth.org
SUMMARY:Home Maintenance Series: Plumbing – Leaky Connections
DESCRIPTION:Building a basic level of skill/knowledge of plumbing maintenance and repairs for leaky connections: bath\, kitchen and washers. Tool incentives provided with each class. \nRegistration:  Required. Limited to 10 people per class. Call to register: 765-8854 ext. 135. \nCost: $15 fee (waived for CURRENT HOMEOWNERS IN TRAINING).
URL:https://habitatforsyth.org/event/home-maintenance-series-plumbing-leaky-connections-2/
LOCATION:Habitat Housing Education Center\, 1023 West 14th Street\, Winston Salem\, NC\, 27105\, United States
CATEGORIES:Home Maintenance,Homeowner Education
GEO:36.1130032;-80.255454
X-APPLE-STRUCTURED-LOCATION;VALUE=URI;X-ADDRESS=Habitat Housing Education Center 1023 West 14th Street Winston Salem NC 27105 United States;X-APPLE-RADIUS=500;X-TITLE=1023 West 14th Street:geo:-80.255454,36.1130032
END:VEVENT
BEGIN:VEVENT
DTSTART;TZID=America/New_York:20230516T180000
DTEND;TZID=America/New_York:20230516T200000
DTSTAMP:20260423T053827
CREATED:20221224T184203Z
LAST-MODIFIED:20221224T184204Z
UID:10000762-1684260000-1684267200@habitatforsyth.org
SUMMARY:FirstBank Series #1: Banking Basics
DESCRIPTION:Building an awareness of the finances coming in and going out of the household\, developing a personal financial strategy\, creating a budget\, prioritizing bills and sharing savings tips. \nRegistration:  Required. Call to register: 765-8854 ext. 135.
URL:https://habitatforsyth.org/event/firstbank-series-1-banking-basics/
LOCATION:Habitat Housing Education Center\, 1023 West 14th Street\, Winston Salem\, NC\, 27105\, United States
CATEGORIES:Financial Education
GEO:36.1130032;-80.255454
X-APPLE-STRUCTURED-LOCATION;VALUE=URI;X-ADDRESS=Habitat Housing Education Center 1023 West 14th Street Winston Salem NC 27105 United States;X-APPLE-RADIUS=500;X-TITLE=1023 West 14th Street:geo:-80.255454,36.1130032
END:VEVENT
BEGIN:VEVENT
DTSTART;TZID=America/New_York:20230511T110000
DTEND;TZID=America/New_York:20230511T130000
DTSTAMP:20260423T053827
CREATED:20221224T183933Z
LAST-MODIFIED:20221224T183934Z
UID:10000761-1683802800-1683810000@habitatforsyth.org
SUMMARY:SECU Series #5: Mortgage Lending
DESCRIPTION:Registration:  Required. Call to register: 765-8854 ext. 135.
URL:https://habitatforsyth.org/event/secu-series-5-mortgage-lending/
LOCATION:Habitat Housing Education Center\, 1023 West 14th Street\, Winston Salem\, NC\, 27105\, United States
CATEGORIES:Financial Education
GEO:36.1130032;-80.255454
X-APPLE-STRUCTURED-LOCATION;VALUE=URI;X-ADDRESS=Habitat Housing Education Center 1023 West 14th Street Winston Salem NC 27105 United States;X-APPLE-RADIUS=500;X-TITLE=1023 West 14th Street:geo:-80.255454,36.1130032
END:VEVENT
BEGIN:VEVENT
DTSTART;VALUE=DATE:20230425
DTEND;VALUE=DATE:20230426
DTSTAMP:20260423T053827
CREATED:20221224T180426Z
LAST-MODIFIED:20221224T180427Z
UID:10000760-1682380800-1682467199@habitatforsyth.org
SUMMARY:Speaker Series (Guest: TBD)
DESCRIPTION:Local community leaders sharing resources and topics related around financial freedom and economic success. \nRegistration:  Required. Call to register: 765-8854 ext. 135.
URL:https://habitatforsyth.org/event/speaker-series-guest-tbd-8/
LOCATION:Habitat Housing Education Center\, 1023 West 14th Street\, Winston Salem\, NC\, 27105\, United States
CATEGORIES:Personal Development
GEO:36.1130032;-80.255454
X-APPLE-STRUCTURED-LOCATION;VALUE=URI;X-ADDRESS=Habitat Housing Education Center 1023 West 14th Street Winston Salem NC 27105 United States;X-APPLE-RADIUS=500;X-TITLE=1023 West 14th Street:geo:-80.255454,36.1130032
END:VEVENT
BEGIN:VEVENT
DTSTART;TZID=America/New_York:20230411T180000
DTEND;TZID=America/New_York:20230411T193000
DTSTAMP:20260423T053827
CREATED:20221224T174056Z
LAST-MODIFIED:20221224T174057Z
UID:10000756-1681236000-1681241400@habitatforsyth.org
SUMMARY:FirstBank Series #5: Identity Theft & Protection
DESCRIPTION:Learning how to protect your identity and what resources are available to keep you protected. \nRegistration:  Required. Call to register: 765-8854 ext. 135.
URL:https://habitatforsyth.org/event/firstbank-series-5-identity-theft-protection/
LOCATION:Habitat Housing Education Center\, 1023 West 14th Street\, Winston Salem\, NC\, 27105\, United States
CATEGORIES:Financial Education
GEO:36.1130032;-80.255454
X-APPLE-STRUCTURED-LOCATION;VALUE=URI;X-ADDRESS=Habitat Housing Education Center 1023 West 14th Street Winston Salem NC 27105 United States;X-APPLE-RADIUS=500;X-TITLE=1023 West 14th Street:geo:-80.255454,36.1130032
END:VEVENT
BEGIN:VEVENT
DTSTART;TZID=America/New_York:20230406T180000
DTEND;TZID=America/New_York:20230406T190000
DTSTAMP:20260423T053827
CREATED:20221224T180028Z
LAST-MODIFIED:20230227T165304Z
UID:10000758-1680804000-1680807600@habitatforsyth.org
SUMMARY:SECU Series #4: Retirement
DESCRIPTION:Registration:  Required. Call to register: 765-8854 ext. 135
URL:https://habitatforsyth.org/event/secu-series-4-retirement/
LOCATION:Habitat Housing Education Center\, 1023 West 14th Street\, Winston Salem\, NC\, 27105\, United States
CATEGORIES:Financial Education
GEO:36.1130032;-80.255454
X-APPLE-STRUCTURED-LOCATION;VALUE=URI;X-ADDRESS=Habitat Housing Education Center 1023 West 14th Street Winston Salem NC 27105 United States;X-APPLE-RADIUS=500;X-TITLE=1023 West 14th Street:geo:-80.255454,36.1130032
END:VEVENT
BEGIN:VEVENT
DTSTART;VALUE=DATE:20230404
DTEND;VALUE=DATE:20230407
DTSTAMP:20260423T053827
CREATED:20230322T192633Z
LAST-MODIFIED:20230322T192633Z
UID:10000940-1680566400-1680825599@habitatforsyth.org
SUMMARY:YEP! Youth Financial Career Prep Camp
DESCRIPTION:Register your child for the Youth Empowerment Program’s free half-day camp\, providing age-appropriate financially based activities that include basic concepts of business and economics. \nFor youth ages: 12 – 17. Lunch is free and provided.\nAdvance Sign-in is required. \nCLICK HERE TO LEARN MORE & REGISTER: https://habitatforsyth.org/yep-youth-financial-career-prep-camp/
URL:https://habitatforsyth.org/event/yep-youth-financial-career-prep-camp/
LOCATION:Habitat for Humanity for Forsyth County Campus\, 1023 W. 14th Street\, Winston-Salem\, NC\, 27105\, United States
CATEGORIES:Financial Education,Habitat Young Professionals,Youth Empowerment Program
END:VEVENT
BEGIN:VEVENT
DTSTART;TZID=America/New_York:20230323T180000
DTEND;TZID=America/New_York:20230323T193000
DTSTAMP:20260423T053827
CREATED:20221219T162514Z
LAST-MODIFIED:20230227T171114Z
UID:10000752-1679594400-1679599800@habitatforsyth.org
SUMMARY:Home Maintenance Series: Plumbing - Clogged Plumbing
DESCRIPTION:Building a basic level of skill/knowledge of clogged plumbing and repairs for damaged pipes: bath and kitchen. Tool incentives provided with each class. \nRegistration:  Required. Limited to 10 people per class. Call to register: 765-8854 ext. 135.\nCost: $15 fee (waived for CURRENT HOMEOWNERS IN TRAINING).\n			\n				Register!
URL:https://habitatforsyth.org/event/home-maintenance-series-plumbing-clogged-plumbing/
LOCATION:Habitat Housing Education Center\, 1023 West 14th Street\, Winston Salem\, NC\, 27105\, United States
CATEGORIES:Home Maintenance
GEO:36.1130032;-80.255454
X-APPLE-STRUCTURED-LOCATION;VALUE=URI;X-ADDRESS=Habitat Housing Education Center 1023 West 14th Street Winston Salem NC 27105 United States;X-APPLE-RADIUS=500;X-TITLE=1023 West 14th Street:geo:-80.255454,36.1130032
END:VEVENT
BEGIN:VEVENT
DTSTART;TZID=America/New_York:20230314T180000
DTEND;TZID=America/New_York:20230314T193000
DTSTAMP:20260423T053827
CREATED:20221219T162021Z
LAST-MODIFIED:20230227T171526Z
UID:10000750-1678816800-1678822200@habitatforsyth.org
SUMMARY:FirstBank Series #4: Making your Budget Work
DESCRIPTION:Scenario based learning about credit management and how to make credit score improve for homeownership \nRegistration:  Required. Call to register: 765-8854 ext. 135.\n			\n				Register!
URL:https://habitatforsyth.org/event/firstbank-series-4-credit-scores-reporting/
LOCATION:Habitat Housing Education Center\, 1023 West 14th Street\, Winston Salem\, NC\, 27105\, United States
CATEGORIES:Financial Education
GEO:36.1130032;-80.255454
X-APPLE-STRUCTURED-LOCATION;VALUE=URI;X-ADDRESS=Habitat Housing Education Center 1023 West 14th Street Winston Salem NC 27105 United States;X-APPLE-RADIUS=500;X-TITLE=1023 West 14th Street:geo:-80.255454,36.1130032
END:VEVENT
BEGIN:VEVENT
DTSTART;TZID=America/New_York:20230311T090000
DTEND;TZID=America/New_York:20230311T120000
DTSTAMP:20260423T053827
CREATED:20221224T173500Z
LAST-MODIFIED:20230227T171013Z
UID:10000754-1678525200-1678536000@habitatforsyth.org
SUMMARY:Speaker Series: Forsyth County Sheriff's Office SHE*RIFF Women's Open House Job Fair
DESCRIPTION:Join us for our SHE*RIFF Women’s Open House Event on Saturday\, March 11th\, from 9 am – 12 pm at the Forsyth County Sheriff’s Office! This is an interactive event for women led by women. We are looking for individuals interested in a career with one of the most ELITE law enforcement agencies\, whether as a Detention Officer\, Telecommunicator\, Deputy Sheriff\, or Civilian. There will be in-person demos from our S.W.A.T. Team\, K9 Unit\, Use of Force simulator\, and more.\nThe SHE*RIFF Women’s Open House Event is not just limited to women but also women allies who want to show support and help promote the future of women within our agency.\nThere will be a Q & A session with women who are a part of our F.C.S.O. Family and information on the hiring process. There will also be an additional Q & A session for women ally attendees to discuss how to support and encourage women coworkers in the field of law enforcement. If you have further questions\, please email phelpscn@fcso.us.\n			\n				Register!
URL:https://habitatforsyth.org/event/speaker-series-guest-tbd-7/
LOCATION:FCSO Sheriff Office\, 301 N. Church St.\, Winston Salem\, NC\, 27105-5811\, United States
CATEGORIES:Personal Development
END:VEVENT
BEGIN:VEVENT
DTSTART;TZID=America/New_York:20230309T180000
DTEND;TZID=America/New_York:20230309T190000
DTSTAMP:20260423T053827
CREATED:20221219T161559Z
LAST-MODIFIED:20230227T171400Z
UID:10000749-1678384800-1678388400@habitatforsyth.org
SUMMARY:SECU Series #3: Insurance
DESCRIPTION:Building an awareness of Insurance provided for your household\, developing a personal financial strategy\, creating a plan\, and selecting the best option for you and your family \nRegistration:  Required. Call to register: 765-8854 ext. 135.\n			\n				Register!
URL:https://habitatforsyth.org/event/secu-series-3-insurance/
LOCATION:Habitat Housing Education Center\, 1023 West 14th Street\, Winston Salem\, NC\, 27105\, United States
CATEGORIES:Financial Education
GEO:36.1130032;-80.255454
X-APPLE-STRUCTURED-LOCATION;VALUE=URI;X-ADDRESS=Habitat Housing Education Center 1023 West 14th Street Winston Salem NC 27105 United States;X-APPLE-RADIUS=500;X-TITLE=1023 West 14th Street:geo:-80.255454,36.1130032
END:VEVENT
END:VCALENDAR