BEGIN:VCALENDAR
VERSION:2.0
PRODID:-//Habitat for Humanity of Forsyth County - ECPv6.15.20//NONSGML v1.0//EN
CALSCALE:GREGORIAN
METHOD:PUBLISH
X-WR-CALNAME:Habitat for Humanity of Forsyth County
X-ORIGINAL-URL:https://habitatforsyth.org
X-WR-CALDESC:Events for Habitat for Humanity of Forsyth County
REFRESH-INTERVAL;VALUE=DURATION:PT1H
X-Robots-Tag:noindex
X-PUBLISHED-TTL:PT1H
BEGIN:VTIMEZONE
TZID:America/New_York
BEGIN:DAYLIGHT
TZOFFSETFROM:-0500
TZOFFSETTO:-0400
TZNAME:EDT
DTSTART:20210314T070000
END:DAYLIGHT
BEGIN:STANDARD
TZOFFSETFROM:-0400
TZOFFSETTO:-0500
TZNAME:EST
DTSTART:20211107T060000
END:STANDARD
BEGIN:DAYLIGHT
TZOFFSETFROM:-0500
TZOFFSETTO:-0400
TZNAME:EDT
DTSTART:20220313T070000
END:DAYLIGHT
BEGIN:STANDARD
TZOFFSETFROM:-0400
TZOFFSETTO:-0500
TZNAME:EST
DTSTART:20221106T060000
END:STANDARD
BEGIN:DAYLIGHT
TZOFFSETFROM:-0500
TZOFFSETTO:-0400
TZNAME:EDT
DTSTART:20230312T070000
END:DAYLIGHT
BEGIN:STANDARD
TZOFFSETFROM:-0400
TZOFFSETTO:-0500
TZNAME:EST
DTSTART:20231105T060000
END:STANDARD
END:VTIMEZONE
BEGIN:VEVENT
DTSTART;TZID=America/New_York:20220914T180000
DTEND;TZID=America/New_York:20220914T193000
DTSTAMP:20260425T080708
CREATED:20220824T160413Z
LAST-MODIFIED:20220829T134447Z
UID:10000920-1663178400-1663183800@habitatforsyth.org
SUMMARY:Orientation for Homeownership (English)
DESCRIPTION:Have you been wondering if the Habitat for Humanity Homeownership Program is right for you? \nJoin us over Zoom and a member of our Family Services team and learn all about the program including: \n\nHow the program works\nRequirements and qualifications for the program\nWhat to expect throughout the application process and beyond\nThe estimated time families typically are in the program before purchasing their home\n\nYou will also have an opportunity to ask any other questions you might have about Homeownership through Habitat for Humanity. \nRegister today to save your spot! \nPlease note: If you are joining us through Zoom on your mobile phone\, please install the Zoom app before the start of the orientation. \nPlease note: If you are joining us through Zoom on your mobile phone\, please install the Zoom app for mobile phones before the start of the orientation. \n			\n				Register
URL:https://habitatforsyth.org/event/orientation-for-homeownership-2022-09-14/
LOCATION:Zoom
CATEGORIES:Homeowner Orientation
END:VEVENT
BEGIN:VEVENT
DTSTART;TZID=America/New_York:20220914T100000
DTEND;TZID=America/New_York:20220914T113000
DTSTAMP:20260425T080708
CREATED:20220824T160413Z
LAST-MODIFIED:20220829T134357Z
UID:10000919-1663149600-1663155000@habitatforsyth.org
SUMMARY:Orientation for Homeownership (English)
DESCRIPTION:Have you been wondering if the Habitat for Humanity Homeownership Program is right for you? \nJoin us over Zoom and a member of our Family Services team and learn all about the program including: \n\nHow the program works\nRequirements and qualifications for the program\nWhat to expect throughout the application process and beyond\nThe estimated time families typically are in the program before purchasing their home\n\nYou will also have an opportunity to ask any other questions you might have about Homeownership through Habitat for Humanity. \nRegister today to save your spot! \n\nPlease note: If you are joining us through Zoom on your mobile phone\, please install the Zoom app for mobile phones before the start of the orientation.\n\n			\n				Register
URL:https://habitatforsyth.org/event/orientation-for-homeownership/
LOCATION:Zoom
CATEGORIES:Homeowner Orientation
END:VEVENT
BEGIN:VEVENT
DTSTART;TZID=America/New_York:20220628T090000
DTEND;TZID=America/New_York:20220628T200000
DTSTAMP:20260425T080708
CREATED:20211228T190156Z
LAST-MODIFIED:20211228T190159Z
UID:10000911-1656406800-1656446400@habitatforsyth.org
SUMMARY:Carowinds Field Trip
DESCRIPTION:Local field trip just for summer fun. Available to 20 youth with 70% or more participation. Register as soon as possible\n			\n				Register
URL:https://habitatforsyth.org/event/carowinds-field-trip/
LOCATION:NC
CATEGORIES:Youth Empowerment Program
END:VEVENT
BEGIN:VEVENT
DTSTART;VALUE=DATE:20220628
DTEND;VALUE=DATE:20220629
DTSTAMP:20260425T080708
CREATED:20211203T164746Z
LAST-MODIFIED:20211206T200129Z
UID:10000720-1656374400-1656460799@habitatforsyth.org
SUMMARY:Speaker Series (Guest: TBD)
DESCRIPTION:Local community leaders share resources and topics related to financial freedom and economic success. \nRegistration:  Required\n			\n				Register
URL:https://habitatforsyth.org/event/speaker-series-guest-tbd-5/
LOCATION:NC
END:VEVENT
BEGIN:VEVENT
DTSTART;TZID=America/New_York:20220621T180000
DTEND;TZID=America/New_York:20220621T193000
DTSTAMP:20260425T080708
CREATED:20211228T190008Z
LAST-MODIFIED:20211228T190011Z
UID:10000910-1655834400-1655839800@habitatforsyth.org
SUMMARY:Training Tuesday: Going to College Count the Cost
DESCRIPTION:The student will apply knowledge learned to set up a plan to save for college with their parents\, interpret and compare financial aid packages to choose the smarter option\, differentiate between different types of loans\, grants\, and scholarships. (Betty Ann Faulkner)\n			\n				Register
URL:https://habitatforsyth.org/event/training-tuesday-going-to-college-count-the-cost-2/
LOCATION:Habitat’s Housing Education Campus\, 1023 West 14th Street\, Winston-Salem\, NC\, 27105\, United States
CATEGORIES:Youth Empowerment Program
END:VEVENT
BEGIN:VEVENT
DTSTART;TZID=America/New_York:20220615T113000
DTEND;TZID=America/New_York:20220615T130000
DTSTAMP:20260425T080708
CREATED:20210322T181722Z
LAST-MODIFIED:20210806T192536Z
UID:10000821-1655292600-1655298000@habitatforsyth.org
SUMMARY:Blueprint Tour
DESCRIPTION:
URL:https://habitatforsyth.org/event/spring-blueprint-community-tour-july2021/2022-06-15/
LOCATION:Habitat for Humanity for Forsyth County Campus\, 1023 W. 14th Street\, Winston-Salem\, NC\, 27105\, United States
CATEGORIES:Special Events
END:VEVENT
BEGIN:VEVENT
DTSTART;TZID=America/New_York:20220614T180000
DTEND;TZID=America/New_York:20220614T193000
DTSTAMP:20260425T080708
CREATED:20211203T164703Z
LAST-MODIFIED:20211206T200040Z
UID:10000718-1655229600-1655235000@habitatforsyth.org
SUMMARY:How to manage student loan debt (Zoom)
DESCRIPTION:Learning how to lower your monthly payments and resources available for relief. \nProvided by: Financial Pathways \nRegistration:  Required.\n			\n				Register
URL:https://habitatforsyth.org/event/how-to-manage-student-loan-debt-zoom/
LOCATION:NC
END:VEVENT
BEGIN:VEVENT
DTSTART;TZID=America/New_York:20220609T180000
DTEND;TZID=America/New_York:20220609T200000
DTSTAMP:20260425T080708
CREATED:20211203T164552Z
LAST-MODIFIED:20211206T195953Z
UID:10000717-1654797600-1654804800@habitatforsyth.org
SUMMARY:Home Maintenance Series
DESCRIPTION:Proper User of Household Tools \nLearn more about household tools: what they are\, how to use them\, and safety tips. Gain fundamental knowledge here and build on it as you complete various home maintenance classes this year. Tool incentives are provided with each class. \nRegistration:  Required. Limited to 10 people per class\n			\n				Register
URL:https://habitatforsyth.org/event/home-maintenance-series-6/
LOCATION:Habitat’s Pearson Construction Technology Center\, 1023 West 14th Street\, Winston-Salem\, NC\, 27105\, United States
END:VEVENT
BEGIN:VEVENT
DTSTART;TZID=America/New_York:20220607T173000
DTEND;TZID=America/New_York:20220607T200000
DTSTAMP:20260425T080708
CREATED:20211203T164746Z
LAST-MODIFIED:20220520T160642Z
UID:10000722-1654623000-1654632000@habitatforsyth.org
SUMMARY:YEP 2022 School Year Review and Panel on School Violence
DESCRIPTION:A free community event to honor local youth participants\, look at what is to come for the Youth Empowerment Program and hear from local experts on how we can work together to end school violence. \nPanelists include: Assistant Chief William Penn\, City of Winston-Salem Police DepartmentAntonio Stevenson\, Motivational Speaker\, Author\, and Founder of My Brother’s Second ChanceRichard Watts\, AAMPED Coordinator with Crosby Scholars and School Board Candidate \nRegistration:  Required \n			\n				Register
URL:https://habitatforsyth.org/event/yep_june07/
LOCATION:Carver High School Auditorium\, 3545 Carver School Road\, Winston-Salem\, North Carolina\, 27105
CATEGORIES:Youth Empowerment Program
END:VEVENT
BEGIN:VEVENT
DTSTART;TZID=America/New_York:20220528T180000
DTEND;TZID=America/New_York:20220528T203000
DTSTAMP:20260425T080708
CREATED:20211228T185824Z
LAST-MODIFIED:20220505T144927Z
UID:10000909-1653760800-1653769800@habitatforsyth.org
SUMMARY:Monthly YEP Field Trip: The PIT Indoor Go-Karts and LaserTag
DESCRIPTION:The Pit Indoor Kart Racing is one of North Carolina’s premier entertainment facilities. With over seven engaging activities The Pit is your place to gather with friend and foe to experience the adrenaline rush of indoor kart racing. We offer high-speed Go-Karts\, Laser Tag\, over 65 Arcade Games\, and more! SPACE IS LIMITED TO MAY EVENT ATTENDEES ONLY. Snack and Lunch provided. \n			\n				Register
URL:https://habitatforsyth.org/event/skate-haven-skating-center/
LOCATION:NC
CATEGORIES:Youth Empowerment Program
END:VEVENT
BEGIN:VEVENT
DTSTART;TZID=America/New_York:20220524T180000
DTEND;TZID=America/New_York:20220524T193000
DTSTAMP:20260425T080708
CREATED:20220505T151036Z
LAST-MODIFIED:20220505T151036Z
UID:10000918-1653415200-1653420600@habitatforsyth.org
SUMMARY:Training Tuesday (YEP): Finances 101
DESCRIPTION:Youth will discuss needs vs wants and how to prioritize accordingly\, understand the importance of saving and how to deposit money into a savings account. Youth will spend time creating a budget and spending planned based on the career of their choice. They will learn what’s needed vs what is wanted and how to balance their budget. They will also learn how to work together as a team and learn the principles of leadership and why they are important. (Darrell Smith) Dinner provided.
URL:https://habitatforsyth.org/event/training-tuesday-yep-finances-101/
LOCATION:Habitat Housing Education Center\, 1023 West 14th Street\, Winston Salem\, NC\, 27105\, United States
GEO:36.1130032;-80.255454
X-APPLE-STRUCTURED-LOCATION;VALUE=URI;X-ADDRESS=Habitat Housing Education Center 1023 West 14th Street Winston Salem NC 27105 United States;X-APPLE-RADIUS=500;X-TITLE=1023 West 14th Street:geo:-80.255454,36.1130032
END:VEVENT
BEGIN:VEVENT
DTSTART;TZID=America/New_York:20220524T180000
DTEND;TZID=America/New_York:20220524T193000
DTSTAMP:20260425T080708
CREATED:20220505T150553Z
LAST-MODIFIED:20220505T150553Z
UID:10000917-1653415200-1653420600@habitatforsyth.org
SUMMARY:Taxes 101
DESCRIPTION:Join us and our facilitator\, Delores McCullough\, for an educational course about Taxes. As a homeowner\, you will benefit from new advantages and there could be changes in property taxes while in your home. Learn everything you need to know regarding homeownership and taxes provided by ESR of Winston Salem
URL:https://habitatforsyth.org/event/taxes-101/
LOCATION:Habitat Housing Education Center\, 1023 West 14th Street\, Winston Salem\, NC\, 27105\, United States
GEO:36.1130032;-80.255454
X-APPLE-STRUCTURED-LOCATION;VALUE=URI;X-ADDRESS=Habitat Housing Education Center 1023 West 14th Street Winston Salem NC 27105 United States;X-APPLE-RADIUS=500;X-TITLE=1023 West 14th Street:geo:-80.255454,36.1130032
END:VEVENT
BEGIN:VEVENT
DTSTART;VALUE=DATE:20220524
DTEND;VALUE=DATE:20220525
DTSTAMP:20260425T080708
CREATED:20211203T164440Z
LAST-MODIFIED:20211206T195903Z
UID:10000716-1653350400-1653436799@habitatforsyth.org
SUMMARY:Speaker Series (Guest: TBD)
DESCRIPTION:Local community leaders share resources and topics related to financial freedom and economic success.\n			\n				Register
URL:https://habitatforsyth.org/event/speaker-series-guest-tbd-4/
LOCATION:NC
END:VEVENT
BEGIN:VEVENT
DTSTART;TZID=America/New_York:20220519T180000
DTEND;TZID=America/New_York:20220519T193000
DTSTAMP:20260425T080708
CREATED:20211203T164253Z
LAST-MODIFIED:20220505T151501Z
UID:10000904-1652983200-1652988600@habitatforsyth.org
SUMMARY:Home Maintenance Series: Leaky Connections
DESCRIPTION:Leaky Connections \nBuilding a basic level of skill/knowledge of plumbing maintenance and repairs for leaky connections: bath\, kitchen and washers. Tool incentives provided with each class. \nRegistration:  Required. Limited to 10 people per class \n			\n				Register
URL:https://habitatforsyth.org/event/home-maintenance-series-5/
LOCATION:Habitat’s Pearson Construction Technology Center\, 1023 West 14th Street\, Winston-Salem\, NC\, 27105\, United States
END:VEVENT
BEGIN:VEVENT
DTSTART;TZID=America/New_York:20220517T110000
DTEND;TZID=America/New_York:20220517T130000
DTSTAMP:20260425T080708
CREATED:20211203T164352Z
LAST-MODIFIED:20211206T195645Z
UID:10000905-1652785200-1652792400@habitatforsyth.org
SUMMARY:Identity Theft
DESCRIPTION:Learning how to protect your identity and what resources are available to keep you protected. \nProvided by: First Bank \nRegistration:  Required.\n			\n				Register
URL:https://habitatforsyth.org/event/identity-theft-2/
LOCATION:Habitat Housing Education Center\, 1023 West 14th Street\, Winston Salem\, NC\, 27105\, United States
GEO:36.1130032;-80.255454
X-APPLE-STRUCTURED-LOCATION;VALUE=URI;X-ADDRESS=Habitat Housing Education Center 1023 West 14th Street Winston Salem NC 27105 United States;X-APPLE-RADIUS=500;X-TITLE=1023 West 14th Street:geo:-80.255454,36.1130032
END:VEVENT
BEGIN:VEVENT
DTSTART;TZID=America/New_York:20220514T090000
DTEND;TZID=America/New_York:20220514T120000
DTSTAMP:20260425T080708
CREATED:20211228T185606Z
LAST-MODIFIED:20220505T144657Z
UID:10000908-1652518800-1652529600@habitatforsyth.org
SUMMARY:Saturday Academy: The Good Credit Game
DESCRIPTION:The hands-on curriculum uses an interactive presentation and board game to cover credit reports\, credit scores\, credit cards\, and the dangers of abusing credit. (Betty Ann Faulkner) \n			\n				Register
URL:https://habitatforsyth.org/event/saturday-academy-make-a-million-basics-of-investing/
LOCATION:Habitat Housing Education Center\, 1023 West 14th Street\, Winston Salem\, NC\, 27105\, United States
CATEGORIES:Youth Empowerment Program
GEO:36.1130032;-80.255454
X-APPLE-STRUCTURED-LOCATION;VALUE=URI;X-ADDRESS=Habitat Housing Education Center 1023 West 14th Street Winston Salem NC 27105 United States;X-APPLE-RADIUS=500;X-TITLE=1023 West 14th Street:geo:-80.255454,36.1130032
END:VEVENT
BEGIN:VEVENT
DTSTART;TZID=America/New_York:20220514T080000
DTEND;TZID=America/New_York:20220514T093000
DTSTAMP:20260425T080708
CREATED:20210322T181722Z
LAST-MODIFIED:20210806T192536Z
UID:10000820-1652515200-1652520600@habitatforsyth.org
SUMMARY:Blueprint Tour
DESCRIPTION:
URL:https://habitatforsyth.org/event/spring-blueprint-community-tour-july2021/2022-05-14/
LOCATION:Habitat for Humanity for Forsyth County Campus\, 1023 W. 14th Street\, Winston-Salem\, NC\, 27105\, United States
CATEGORIES:Special Events
END:VEVENT
BEGIN:VEVENT
DTSTART;TZID=America/New_York:20220510T180000
DTEND;TZID=America/New_York:20220510T193000
DTSTAMP:20260425T080708
CREATED:20211203T164151Z
LAST-MODIFIED:20220509T131608Z
UID:10000903-1652205600-1652211000@habitatforsyth.org
SUMMARY:Disasters: Financial preparation and recover (Zoom)
DESCRIPTION:Learning how to protect your home and property and what resources are available to keep you protected.  \nRegistration:  Required  \n			\n				Register
URL:https://habitatforsyth.org/event/disasters-financial-preparation-and-recover-zoom/
LOCATION:NC
END:VEVENT
BEGIN:VEVENT
DTSTART;TZID=America/New_York:20220430T090000
DTEND;TZID=America/New_York:20220430T150000
DTSTAMP:20260425T080708
CREATED:20220407T182359Z
LAST-MODIFIED:20220407T182458Z
UID:10000916-1651309200-1651330800@habitatforsyth.org
SUMMARY:YEP Field Trip to North Carolina Zoo @ Asheboro
DESCRIPTION:More than 1\,800 animals call the North Carolina Zoo home. The animals live in habitats representing two regions—Africa and North America—plus a global Desert and a tropical\, free-flight Aviary. As the world’s largest natural habitat zoo\, the animals at the North Carolina Zoo have plenty of room to roam. Join us for a trip to remember. SPACE IS LIMITED TO APRIL EVENT ATTENDEES ONLY.
URL:https://habitatforsyth.org/event/north-carolina-zoo-asheboro/
LOCATION:NC
END:VEVENT
BEGIN:VEVENT
DTSTART;TZID=America/New_York:20220426T173000
DTEND;TZID=America/New_York:20220426T200000
DTSTAMP:20260425T080708
CREATED:20211228T192513Z
LAST-MODIFIED:20220325T190606Z
UID:10000912-1650994200-1651003200@habitatforsyth.org
SUMMARY:Training Tuesday: Adult for a Day Workshop w/ Crosby Scholars
DESCRIPTION:Teens will leave this workshop with an abundance of knowledge and tools to help build and maintain good credit. The hands-on curriculum uses an interactive presentation and board game to cover credit reports\, credit scores\, credit cards\, and the dangers of abusing credit. (Betty Ann Faulkner)\n			\n				Register
URL:https://habitatforsyth.org/event/creating-your-personal-spending-plan/
LOCATION:Goodwill Center\, 2701 University Pkwy\, Winston-Salem\, NC\, 27105\, United States
CATEGORIES:Youth Empowerment Program
END:VEVENT
BEGIN:VEVENT
DTSTART;VALUE=DATE:20220426
DTEND;VALUE=DATE:20220427
DTSTAMP:20260425T080708
CREATED:20211203T164100Z
LAST-MODIFIED:20211206T194735Z
UID:10000902-1650931200-1651017599@habitatforsyth.org
SUMMARY:Speaker Series (Guest: TBD)
DESCRIPTION:Local community leaders share resources and topics related to financial freedom and economic success. \nRegistration:  Required\n			\n				Register
URL:https://habitatforsyth.org/event/speaker-series-guest-tbd-3/
LOCATION:NC
END:VEVENT
BEGIN:VEVENT
DTSTART;TZID=America/New_York:20220419T110000
DTEND;TZID=America/New_York:20220419T130000
DTSTAMP:20260425T080708
CREATED:20211203T164005Z
LAST-MODIFIED:20211206T194647Z
UID:10000901-1650366000-1650373200@habitatforsyth.org
SUMMARY:Credit Scores and Reports
DESCRIPTION:Scenario-based learning about credit management and how to make credit score improve for homeownership. \nProvided by: First Bank \nRegistration:  Required.\n			\n				Register
URL:https://habitatforsyth.org/event/credit-scores-and-reports/
LOCATION:Habitat Housing Education Center\, 1023 West 14th Street\, Winston Salem\, NC\, 27105\, United States
GEO:36.1130032;-80.255454
X-APPLE-STRUCTURED-LOCATION;VALUE=URI;X-ADDRESS=Habitat Housing Education Center 1023 West 14th Street Winston Salem NC 27105 United States;X-APPLE-RADIUS=500;X-TITLE=1023 West 14th Street:geo:-80.255454,36.1130032
END:VEVENT
BEGIN:VEVENT
DTSTART;TZID=America/New_York:20220416T090000
DTEND;TZID=America/New_York:20220416T120000
DTSTAMP:20260425T080708
CREATED:20211228T184504Z
LAST-MODIFIED:20211228T184507Z
UID:10000907-1650099600-1650110400@habitatforsyth.org
SUMMARY:Saturday Academy: Leather Goods Workshop
DESCRIPTION:Two hours of individual\, small group\, and large groups focused on learning and creating leather products and providing a safe environment for trial and error\, with emphasis on demonstrating the importance of entrepreneurship and its values in a fun setting.\n			\n				Register
URL:https://habitatforsyth.org/event/saturday-academy-leather-goods-workshop/
LOCATION:Habitat’s Pearson Construction Technology Center\, 1023 West 14th Street\, Winston-Salem\, NC\, 27105\, United States
CATEGORIES:Youth Empowerment Program
END:VEVENT
BEGIN:VEVENT
DTSTART;TZID=America/New_York:20220412T180000
DTEND;TZID=America/New_York:20220412T193000
DTSTAMP:20260425T080708
CREATED:20211203T163850Z
LAST-MODIFIED:20211206T194604Z
UID:10000900-1649786400-1649791800@habitatforsyth.org
SUMMARY:Protecting your Identity and other Assets (Zoom)
DESCRIPTION:Learning how to protect your identity and what resources are available to keep you protected. \nProvided by: Financial Pathways \nRegistration:  Required\n			\n				Register
URL:https://habitatforsyth.org/event/protecting-your-identity-and-other-assets-zoom/
LOCATION:NC
END:VEVENT
BEGIN:VEVENT
DTSTART;TZID=America/New_York:20220410T130000
DTEND;TZID=America/New_York:20220410T170000
DTSTAMP:20260425T080708
CREATED:20211228T184128Z
LAST-MODIFIED:20211228T184128Z
UID:10000906-1649595600-1649610000@habitatforsyth.org
SUMMARY:Harlem Globetrotters at LJVM Coliseum
DESCRIPTION:Local field trip – sporting event – fun. Available to select YEP participants. (8 registered Youth)
URL:https://habitatforsyth.org/event/harlem-globetrotters-at-ljvm-coliseum/
LOCATION:NC
CATEGORIES:Youth Empowerment Program
END:VEVENT
BEGIN:VEVENT
DTSTART;TZID=America/New_York:20220407T180000
DTEND;TZID=America/New_York:20220407T200000
DTSTAMP:20260425T080708
CREATED:20211203T163748Z
LAST-MODIFIED:20211206T194414Z
UID:10000899-1649354400-1649361600@habitatforsyth.org
SUMMARY:Home Maintenance Series
DESCRIPTION:Plumbing – Leaky Connections \nBuilding a basic level of skill/knowledge of plumbing maintenance and repairs for leaky connections: bath\, kitchen\, and washers. Tool incentives provided with each class. \nRegistration:  Required. Limited to 10 people per class.\n			\n				Register
URL:https://habitatforsyth.org/event/home-maintenance-series-4/
LOCATION:Habitat’s Pearson Construction Technology Center\, 1023 West 14th Street\, Winston-Salem\, NC\, 27105\, United States
END:VEVENT
BEGIN:VEVENT
DTSTART;TZID=America/New_York:20220407T113000
DTEND;TZID=America/New_York:20220407T130000
DTSTAMP:20260425T080708
CREATED:20210322T181722Z
LAST-MODIFIED:20210806T192536Z
UID:10000819-1649331000-1649336400@habitatforsyth.org
SUMMARY:Blueprint Tour
DESCRIPTION:
URL:https://habitatforsyth.org/event/spring-blueprint-community-tour-july2021/2022-04-07/
LOCATION:Habitat for Humanity for Forsyth County Campus\, 1023 W. 14th Street\, Winston-Salem\, NC\, 27105\, United States
CATEGORIES:Special Events
END:VEVENT
BEGIN:VEVENT
DTSTART;TZID=America/New_York:20220402T110000
DTEND;TZID=America/New_York:20220402T130000
DTSTAMP:20260425T080708
CREATED:20211203T163636Z
LAST-MODIFIED:20211206T194326Z
UID:10000898-1648897200-1648904400@habitatforsyth.org
SUMMARY:Lawncare & Landscaping
DESCRIPTION:Providing exterior home beautification tips and ways to be energy efficient and sharing practical and easy ways to make the living environment (inside and outside) safe and comfortable. \nProvided by: NC-State Cooperative Extension \nRegistration:  Required.\n			\n				Register
URL:https://habitatforsyth.org/event/lawncare-landscaping-2/
LOCATION:Habitat’s Pearson Construction Technology Center\, 1023 West 14th Street\, Winston-Salem\, NC\, 27105\, United States
END:VEVENT
BEGIN:VEVENT
DTSTART;TZID=America/New_York:20220322T180000
DTEND;TZID=America/New_York:20220322T193000
DTSTAMP:20260425T080708
CREATED:20211228T183258Z
LAST-MODIFIED:20211228T183301Z
UID:10000732-1647972000-1647977400@habitatforsyth.org
SUMMARY:Training Tuesday: Money Habitudes
DESCRIPTION:The student will apply knowledge learned to set up a plan to save for college with their parents\, interpret and compare financial aid packages to choose the smarter option\, differentiate between different types of loans\, grants\, and scholarships. (Betty Ann Faulkner)\n			\n				Register
URL:https://habitatforsyth.org/event/training-tuesday-money-habitudes/
LOCATION:Habitat Housing Education Center\, 1023 West 14th Street\, Winston Salem\, NC\, 27105\, United States
CATEGORIES:Youth Empowerment Program
GEO:36.1130032;-80.255454
X-APPLE-STRUCTURED-LOCATION;VALUE=URI;X-ADDRESS=Habitat Housing Education Center 1023 West 14th Street Winston Salem NC 27105 United States;X-APPLE-RADIUS=500;X-TITLE=1023 West 14th Street:geo:-80.255454,36.1130032
END:VEVENT
BEGIN:VEVENT
DTSTART;VALUE=DATE:20220322
DTEND;VALUE=DATE:20220323
DTSTAMP:20260425T080708
CREATED:20211203T163518Z
LAST-MODIFIED:20211206T194224Z
UID:10000897-1647907200-1647993599@habitatforsyth.org
SUMMARY:Speaker Series (Guest: TBD)
DESCRIPTION:Local community leaders share resources and topics related to financial freedom and economic success. \nLocation and Time: TBD\n			\n				Register
URL:https://habitatforsyth.org/event/speaker-series-guest-tbd-2/
LOCATION:NC
END:VEVENT
END:VCALENDAR