BEGIN:VCALENDAR
VERSION:2.0
PRODID:-//Habitat for Humanity of Forsyth County - ECPv6.15.20//NONSGML v1.0//EN
CALSCALE:GREGORIAN
METHOD:PUBLISH
X-WR-CALNAME:Habitat for Humanity of Forsyth County
X-ORIGINAL-URL:https://habitatforsyth.org
X-WR-CALDESC:Events for Habitat for Humanity of Forsyth County
REFRESH-INTERVAL;VALUE=DURATION:PT1H
X-Robots-Tag:noindex
X-PUBLISHED-TTL:PT1H
BEGIN:VTIMEZONE
TZID:America/New_York
BEGIN:DAYLIGHT
TZOFFSETFROM:-0500
TZOFFSETTO:-0400
TZNAME:EDT
DTSTART:20200308T070000
END:DAYLIGHT
BEGIN:STANDARD
TZOFFSETFROM:-0400
TZOFFSETTO:-0500
TZNAME:EST
DTSTART:20201101T060000
END:STANDARD
BEGIN:DAYLIGHT
TZOFFSETFROM:-0500
TZOFFSETTO:-0400
TZNAME:EDT
DTSTART:20210314T070000
END:DAYLIGHT
BEGIN:STANDARD
TZOFFSETFROM:-0400
TZOFFSETTO:-0500
TZNAME:EST
DTSTART:20211107T060000
END:STANDARD
BEGIN:DAYLIGHT
TZOFFSETFROM:-0500
TZOFFSETTO:-0400
TZNAME:EDT
DTSTART:20220313T070000
END:DAYLIGHT
BEGIN:STANDARD
TZOFFSETFROM:-0400
TZOFFSETTO:-0500
TZNAME:EST
DTSTART:20221106T060000
END:STANDARD
BEGIN:DAYLIGHT
TZOFFSETFROM:-0500
TZOFFSETTO:-0400
TZNAME:EDT
DTSTART:20230312T070000
END:DAYLIGHT
BEGIN:STANDARD
TZOFFSETFROM:-0400
TZOFFSETTO:-0500
TZNAME:EST
DTSTART:20231105T060000
END:STANDARD
END:VTIMEZONE
BEGIN:VEVENT
DTSTART;TZID=America/New_York:20220407T113000
DTEND;TZID=America/New_York:20220407T130000
DTSTAMP:20260425T094003
CREATED:20210322T181722Z
LAST-MODIFIED:20210806T192536Z
UID:10000819-1649331000-1649336400@habitatforsyth.org
SUMMARY:Blueprint Tour
DESCRIPTION:
URL:https://habitatforsyth.org/event/spring-blueprint-community-tour-july2021/2022-04-07/
LOCATION:Habitat for Humanity for Forsyth County Campus\, 1023 W. 14th Street\, Winston-Salem\, NC\, 27105\, United States
CATEGORIES:Special Events
END:VEVENT
BEGIN:VEVENT
DTSTART;TZID=America/New_York:20220402T110000
DTEND;TZID=America/New_York:20220402T130000
DTSTAMP:20260425T094003
CREATED:20211203T163636Z
LAST-MODIFIED:20211206T194326Z
UID:10000898-1648897200-1648904400@habitatforsyth.org
SUMMARY:Lawncare & Landscaping
DESCRIPTION:Providing exterior home beautification tips and ways to be energy efficient and sharing practical and easy ways to make the living environment (inside and outside) safe and comfortable. \nProvided by: NC-State Cooperative Extension \nRegistration:  Required.\n			\n				Register
URL:https://habitatforsyth.org/event/lawncare-landscaping-2/
LOCATION:Habitat’s Pearson Construction Technology Center\, 1023 West 14th Street\, Winston-Salem\, NC\, 27105\, United States
END:VEVENT
BEGIN:VEVENT
DTSTART;TZID=America/New_York:20220322T180000
DTEND;TZID=America/New_York:20220322T193000
DTSTAMP:20260425T094003
CREATED:20211228T183258Z
LAST-MODIFIED:20211228T183301Z
UID:10000732-1647972000-1647977400@habitatforsyth.org
SUMMARY:Training Tuesday: Money Habitudes
DESCRIPTION:The student will apply knowledge learned to set up a plan to save for college with their parents\, interpret and compare financial aid packages to choose the smarter option\, differentiate between different types of loans\, grants\, and scholarships. (Betty Ann Faulkner)\n			\n				Register
URL:https://habitatforsyth.org/event/training-tuesday-money-habitudes/
LOCATION:Habitat Housing Education Center\, 1023 West 14th Street\, Winston Salem\, NC\, 27105\, United States
CATEGORIES:Youth Empowerment Program
GEO:36.1130032;-80.255454
X-APPLE-STRUCTURED-LOCATION;VALUE=URI;X-ADDRESS=Habitat Housing Education Center 1023 West 14th Street Winston Salem NC 27105 United States;X-APPLE-RADIUS=500;X-TITLE=1023 West 14th Street:geo:-80.255454,36.1130032
END:VEVENT
BEGIN:VEVENT
DTSTART;VALUE=DATE:20220322
DTEND;VALUE=DATE:20220323
DTSTAMP:20260425T094003
CREATED:20211203T163518Z
LAST-MODIFIED:20211206T194224Z
UID:10000897-1647907200-1647993599@habitatforsyth.org
SUMMARY:Speaker Series (Guest: TBD)
DESCRIPTION:Local community leaders share resources and topics related to financial freedom and economic success. \nLocation and Time: TBD\n			\n				Register
URL:https://habitatforsyth.org/event/speaker-series-guest-tbd-2/
LOCATION:North Carolina
END:VEVENT
BEGIN:VEVENT
DTSTART;TZID=America/New_York:20220312T100000
DTEND;TZID=America/New_York:20220312T120000
DTSTAMP:20260425T094003
CREATED:20211203T163356Z
LAST-MODIFIED:20211206T194142Z
UID:10000896-1647079200-1647086400@habitatforsyth.org
SUMMARY:Home Maintenance Series
DESCRIPTION:Home Exterior and Gutters \nLearn more about exterior gutters: what they are\, how to clean them\, and maintenance tips. Gain fundamental knowledge here and build on it as you complete various home maintenance classes this year. Tool incentives are provided with each class. \nRegistration:  Required. Limited to 10 people per class.\n			\n				Register
URL:https://habitatforsyth.org/event/home-maintenance-series-3/
LOCATION:Habitat’s Pearson Construction Technology Center\, 1023 West 14th Street\, Winston-Salem\, NC\, 27105\, United States
END:VEVENT
BEGIN:VEVENT
DTSTART;TZID=America/New_York:20220312T090000
DTEND;TZID=America/New_York:20220312T150000
DTSTAMP:20260425T094003
CREATED:20211228T182254Z
LAST-MODIFIED:20220224T161252Z
UID:10000730-1647075600-1647097200@habitatforsyth.org
SUMMARY:The International Civil Rights Museum Tour (Greensboro N.C.)
DESCRIPTION:Moved from February 26th. Registration is closed. Day trip to Greensboro N.C . Available to the first 15 youth to register. \nMust attend February’s Saturday Academy to attend
URL:https://habitatforsyth.org/event/the-harvey-gantt-african-american-cultural-arts-center/
LOCATION:North Carolina
CATEGORIES:Youth Empowerment Program
END:VEVENT
BEGIN:VEVENT
DTSTART;TZID=America/New_York:20220312T080000
DTEND;TZID=America/New_York:20220312T093000
DTSTAMP:20260425T094003
CREATED:20210322T181722Z
LAST-MODIFIED:20210806T192536Z
UID:10000818-1647072000-1647077400@habitatforsyth.org
SUMMARY:Blueprint Tour
DESCRIPTION:
URL:https://habitatforsyth.org/event/spring-blueprint-community-tour-july2021/2022-03-12/
LOCATION:Habitat for Humanity for Forsyth County Campus\, 1023 W. 14th Street\, Winston-Salem\, NC\, 27105\, United States
CATEGORIES:Special Events
END:VEVENT
BEGIN:VEVENT
DTSTART;TZID=America/New_York:20220308T180000
DTEND;TZID=America/New_York:20220308T193000
DTSTAMP:20260425T094003
CREATED:20211203T163238Z
LAST-MODIFIED:20211206T194054Z
UID:10000895-1646762400-1646767800@habitatforsyth.org
SUMMARY:Best tips for Financial Management (Zoom)
DESCRIPTION:Building an awareness of the finances coming in and going out of the household\, developing a personal financial strategy\, creating a budget\, prioritizing bills\, and sharing savings tips. \nProvided by: Financial Pathways \nRegistration:  Required.\n			\n				Register
URL:https://habitatforsyth.org/event/best-tips-for-financial-management-zoom/
LOCATION:North Carolina
END:VEVENT
BEGIN:VEVENT
DTSTART;TZID=America/New_York:20220308T110000
DTEND;TZID=America/New_York:20220308T130000
DTSTAMP:20260425T094003
CREATED:20211203T163106Z
LAST-MODIFIED:20211206T194011Z
UID:10000894-1646737200-1646744400@habitatforsyth.org
SUMMARY:Preparing for Financial Emergency
DESCRIPTION:Creating space to withstand life’s big decisions. Equip participants with how to deal with major financial decisions that may come their way in homeownership. \nProvided by: First Bank \nRegistration:  Required.\n			\n				Register
URL:https://habitatforsyth.org/event/preparing-for-financial-emergency/
LOCATION:Habitat Housing Education Center\, 1023 West 14th Street\, Winston Salem\, NC\, 27105\, United States
GEO:36.1130032;-80.255454
X-APPLE-STRUCTURED-LOCATION;VALUE=URI;X-ADDRESS=Habitat Housing Education Center 1023 West 14th Street Winston Salem NC 27105 United States;X-APPLE-RADIUS=500;X-TITLE=1023 West 14th Street:geo:-80.255454,36.1130032
END:VEVENT
BEGIN:VEVENT
DTSTART;TZID=America/New_York:20220222T180000
DTEND;TZID=America/New_York:20220222T193000
DTSTAMP:20260425T094003
CREATED:20220214T170400Z
LAST-MODIFIED:20220214T170400Z
UID:10000915-1645552800-1645558200@habitatforsyth.org
SUMMARY:Advanced Credit w/Winston Salem Federal Credit Union
DESCRIPTION:Wallis and Richard from Winston Salem Federal Credit Union will be facilitating our session. Registration is now closed. This session will be offered again in May.
URL:https://habitatforsyth.org/event/advanced-credit-w-winston-salem-federal-credit-union/
LOCATION:Habitat’s Housing Education Campus\, 1023 West 14th Street\, Winston-Salem\, NC\, 27105\, United States
END:VEVENT
BEGIN:VEVENT
DTSTART;TZID=America/New_York:20220222T180000
DTEND;TZID=America/New_York:20220222T193000
DTSTAMP:20260425T094003
CREATED:20211228T181827Z
LAST-MODIFIED:20220201T184526Z
UID:10000728-1645552800-1645558200@habitatforsyth.org
SUMMARY:Training Tuesday: Hope\, Dreams & Goals: Express Yourself! by creating empowering Vision Boards
DESCRIPTION:Youth will design their very own vision boards to represent their dreams\, goals\, and ideal life. Vision board ideas and examples are incredibly useful and inspirational when making your own. The inspirational collages serve as your image of the future – a tangible example\, ideas or representation of where you are going \n			\n				Register
URL:https://habitatforsyth.org/event/training-tuesday-family-movie-night/
LOCATION:North Carolina
CATEGORIES:Youth Empowerment Program
END:VEVENT
BEGIN:VEVENT
DTSTART;VALUE=DATE:20220222
DTEND;VALUE=DATE:20220223
DTSTAMP:20260425T094003
CREATED:20211203T162959Z
LAST-MODIFIED:20211206T193910Z
UID:10000893-1645488000-1645574399@habitatforsyth.org
SUMMARY:Speaker Series (Guest: TBD)
DESCRIPTION:Local community leaders share resources and topics related to financial freedom and economic success. \nRegistration:  Required\n			\n				Register
URL:https://habitatforsyth.org/event/speaker-series-guest-tbd/
LOCATION:North Carolina
END:VEVENT
BEGIN:VEVENT
DTSTART;TZID=America/New_York:20220219T110000
DTEND;TZID=America/New_York:20220219T120000
DTSTAMP:20260425T094003
CREATED:20211203T162543Z
LAST-MODIFIED:20220201T164603Z
UID:10000891-1645268400-1645272000@habitatforsyth.org
SUMMARY:Home Maintenance Series
DESCRIPTION:Building a basic level of skill/knowledge of Installing tile flooring and repairs for damaged floors: bath and kitchen. Tool incentives are provided with each class. \nRegistration:  Required. Limited to 10 people per class.\n			\n				Register
URL:https://habitatforsyth.org/event/home-maintenance-series-2/
LOCATION:Habitat’s Pearson Construction Technology Center\, 1023 West 14th Street\, Winston-Salem\, NC\, 27105\, United States
END:VEVENT
BEGIN:VEVENT
DTSTART;TZID=America/New_York:20220219T090000
DTEND;TZID=America/New_York:20220219T120000
DTSTAMP:20260425T094003
CREATED:20211228T181431Z
LAST-MODIFIED:20220201T164336Z
UID:10000726-1645261200-1645272000@habitatforsyth.org
SUMMARY:Saturday Academy: All About Money
DESCRIPTION:learn the role of money in their lives\, the services financial institutions provide\, more about saving\, understand the difference between banks & credit unions and debit & credit cards.  Includes Debit-Credit Card Comparison and All About Money Work Search activities \nGuest Speaker Darrell Smith @ 11:00 am – Owner of BlueTusk Men’s and Women’s Accessories\, Business Sales\, and Youth Financial advocate.\n			\n				Register
URL:https://habitatforsyth.org/event/all-about-money/
LOCATION:Habitat Housing Education Center\, 1023 West 14th Street\, Winston Salem\, NC\, 27105\, United States
CATEGORIES:Youth Empowerment Program
GEO:36.1130032;-80.255454
X-APPLE-STRUCTURED-LOCATION;VALUE=URI;X-ADDRESS=Habitat Housing Education Center 1023 West 14th Street Winston Salem NC 27105 United States;X-APPLE-RADIUS=500;X-TITLE=1023 West 14th Street:geo:-80.255454,36.1130032
END:VEVENT
BEGIN:VEVENT
DTSTART;TZID=America/New_York:20220217T180000
DTEND;TZID=America/New_York:20220217T193000
DTSTAMP:20260425T094003
CREATED:20220120T183106Z
LAST-MODIFIED:20220120T185045Z
UID:10000913-1645120800-1645126200@habitatforsyth.org
SUMMARY:Mortgage 101
DESCRIPTION:Building an awareness of the procedures and benefits of your home mortgage. Learn the terms in your contract\, what are your requirements\, and available options should you need them. This is a mandatory course required before closing. Class only open to “Assigned Lot” Participants only \nProvided by: Habitat For Humanity \nRegistration: By selection only.
URL:https://habitatforsyth.org/event/mortgage-101/
LOCATION:Habitat Housing Education Center\, 1023 West 14th Street\, Winston Salem\, NC\, 27105\, United States
GEO:36.1130032;-80.255454
X-APPLE-STRUCTURED-LOCATION;VALUE=URI;X-ADDRESS=Habitat Housing Education Center 1023 West 14th Street Winston Salem NC 27105 United States;X-APPLE-RADIUS=500;X-TITLE=1023 West 14th Street:geo:-80.255454,36.1130032
END:VEVENT
BEGIN:VEVENT
DTSTART;TZID=America/New_York:20220215T180000
DTEND;TZID=America/New_York:20220215T193000
DTSTAMP:20260425T094003
CREATED:20220214T170254Z
LAST-MODIFIED:20220214T170254Z
UID:10000914-1644948000-1644953400@habitatforsyth.org
SUMMARY:Credit Basics w/Winston Salem Federal Credit Union
DESCRIPTION:Wallis and Richard from Winston Salem Federal Credit Union will be facilitating our session. Registration is now closed. This session will be offered again in May.
URL:https://habitatforsyth.org/event/credit-basics-w-winston-salem-federal-credit-union/
LOCATION:Habitat’s Housing Education Campus\, 1023 West 14th Street\, Winston-Salem\, NC\, 27105\, United States
END:VEVENT
BEGIN:VEVENT
DTSTART;TZID=America/New_York:20220215T110000
DTEND;TZID=America/New_York:20220215T130000
DTSTAMP:20260425T094003
CREATED:20211203T162754Z
LAST-MODIFIED:20211206T193829Z
UID:10000892-1644922800-1644930000@habitatforsyth.org
SUMMARY:Budgeting
DESCRIPTION:Understand Key budgeting concepts and make better decisions related to managing money. \nProvided by: First Bank \nRegistration:  Required.\n			\n				Register
URL:https://habitatforsyth.org/event/budgeting/
LOCATION:Habitat Housing Education Center\, 1023 West 14th Street\, Winston Salem\, NC\, 27105\, United States
GEO:36.1130032;-80.255454
X-APPLE-STRUCTURED-LOCATION;VALUE=URI;X-ADDRESS=Habitat Housing Education Center 1023 West 14th Street Winston Salem NC 27105 United States;X-APPLE-RADIUS=500;X-TITLE=1023 West 14th Street:geo:-80.255454,36.1130032
END:VEVENT
BEGIN:VEVENT
DTSTART;TZID=America/New_York:20220209T113000
DTEND;TZID=America/New_York:20220209T130000
DTSTAMP:20260425T094003
CREATED:20210322T181722Z
LAST-MODIFIED:20210806T192536Z
UID:10000817-1644406200-1644411600@habitatforsyth.org
SUMMARY:Blueprint Tour
DESCRIPTION:
URL:https://habitatforsyth.org/event/spring-blueprint-community-tour-july2021/2022-02-09/
LOCATION:Habitat for Humanity for Forsyth County Campus\, 1023 W. 14th Street\, Winston-Salem\, NC\, 27105\, United States
CATEGORIES:Special Events
END:VEVENT
BEGIN:VEVENT
DTSTART;TZID=America/New_York:20220208T180000
DTEND;TZID=America/New_York:20220208T193000
DTSTAMP:20260425T094003
CREATED:20211203T162348Z
LAST-MODIFIED:20211206T193657Z
UID:10000890-1644343200-1644348600@habitatforsyth.org
SUMMARY:Building your Financial Future (Zoom)
DESCRIPTION:Building an awareness of the finances coming in and going out of the household\, developing a personal financial strategy\, creating a budget\, prioritizing bills\, and sharing savings tips. \nProvided by: Financial Pathways \nRegistration: Required.\n			\n				Register
URL:https://habitatforsyth.org/event/building-your-financial-future-zoom/
LOCATION:North Carolina
END:VEVENT
BEGIN:VEVENT
DTSTART;TZID=America/New_York:20220128T170000
DTEND;TZID=America/New_York:20220128T220000
DTSTAMP:20260425T094003
CREATED:20211228T180807Z
LAST-MODIFIED:20211228T181016Z
UID:10000724-1643389200-1643407200@habitatforsyth.org
SUMMARY:YEP Plus Field Trip "Charlotte Hornets B-Ball Game"
DESCRIPTION:Select youth with 90% or more attendance in 2021 will travel to Charlotte to view Hornets vs. Lakers. Participants have been chosen & registration closed. Ask how your child can enter the YEP Plus trips for the upcoming 2022 year.
URL:https://habitatforsyth.org/event/yep-plus-field-trip-charlotte-hornets-b-ball-game/
LOCATION:North Carolina
CATEGORIES:Youth Empowerment Program
END:VEVENT
BEGIN:VEVENT
DTSTART;VALUE=DATE:20220125
DTEND;VALUE=DATE:20220126
DTSTAMP:20260425T094003
CREATED:20211203T162146Z
LAST-MODIFIED:20211206T193459Z
UID:10000889-1643068800-1643155199@habitatforsyth.org
SUMMARY:Speaker Series (Tax Season)
DESCRIPTION:Local community leaders share resources and topics related to financial taxes and how to correctly file. \n  \nTime and Location: TBD\n			\n				Register
URL:https://habitatforsyth.org/event/speaker-series-tax-season/
LOCATION:North Carolina
END:VEVENT
BEGIN:VEVENT
DTSTART;TZID=America/New_York:20220118T180000
DTEND;TZID=America/New_York:20220118T193000
DTSTAMP:20260425T094003
CREATED:20211203T161027Z
LAST-MODIFIED:20211206T193013Z
UID:10000888-1642528800-1642534200@habitatforsyth.org
SUMMARY:Get Smart About Credit (Part 1)
DESCRIPTION:Providing in-depth information needed to understand credit and your credit score—what it is and how to make it work for you. \nProvided By: Winston-Salem Federal Credit Union \nRegistration:  Required.\n			\n				Register
URL:https://habitatforsyth.org/event/get-smart-about-credit-part-1-4/
LOCATION:Habitat Housing Education Center\, 1023 West 14th Street\, Winston Salem\, NC\, 27105\, United States
GEO:36.1130032;-80.255454
X-APPLE-STRUCTURED-LOCATION;VALUE=URI;X-ADDRESS=Habitat Housing Education Center 1023 West 14th Street Winston Salem NC 27105 United States;X-APPLE-RADIUS=500;X-TITLE=1023 West 14th Street:geo:-80.255454,36.1130032
END:VEVENT
BEGIN:VEVENT
DTSTART;TZID=America/New_York:20220118T110000
DTEND;TZID=America/New_York:20220118T130000
DTSTAMP:20260425T094003
CREATED:20211203T160335Z
LAST-MODIFIED:20211203T182438Z
UID:10000887-1642503600-1642510800@habitatforsyth.org
SUMMARY:Family Finances
DESCRIPTION:Building an awareness of the finances coming in and going out of the household\, developing a personal financial strategy\, creating a budget\, prioritizing bills and sharing savings tips. \nProvided by: First Bank \nRegistration:  Required.\n			\n				Register
URL:https://habitatforsyth.org/event/family-finances/
LOCATION:Habitat Housing Education Center\, 1023 West 14th Street\, Winston Salem\, NC\, 27105\, United States
GEO:36.1130032;-80.255454
X-APPLE-STRUCTURED-LOCATION;VALUE=URI;X-ADDRESS=Habitat Housing Education Center 1023 West 14th Street Winston Salem NC 27105 United States;X-APPLE-RADIUS=500;X-TITLE=1023 West 14th Street:geo:-80.255454,36.1130032
END:VEVENT
BEGIN:VEVENT
DTSTART;TZID=America/New_York:20220115T080000
DTEND;TZID=America/New_York:20220115T093000
DTSTAMP:20260425T094003
CREATED:20210322T181722Z
LAST-MODIFIED:20210806T192536Z
UID:10000816-1642233600-1642239000@habitatforsyth.org
SUMMARY:Blueprint Tour
DESCRIPTION:
URL:https://habitatforsyth.org/event/spring-blueprint-community-tour-july2021/2022-01-15/
LOCATION:Habitat for Humanity for Forsyth County Campus\, 1023 W. 14th Street\, Winston-Salem\, NC\, 27105\, United States
CATEGORIES:Special Events
END:VEVENT
BEGIN:VEVENT
DTSTART;TZID=America/New_York:20220111T180000
DTEND;TZID=America/New_York:20220111T193000
DTSTAMP:20260425T094003
CREATED:20211203T154237Z
LAST-MODIFIED:20211206T192844Z
UID:10000885-1641924000-1641929400@habitatforsyth.org
SUMMARY:Secondary Education Goals and How to Pay for It (Zoom)
DESCRIPTION:Sharing and providing resources for continuing education. Learning how to find available funds to pay for your education and your family. \nProvided by: Financial Pathways\n			\n				Register
URL:https://habitatforsyth.org/event/secondary-education-goals-and-how-to-pay-for-it/
LOCATION:North Carolina
END:VEVENT
BEGIN:VEVENT
DTSTART;TZID=America/New_York:20220111T180000
DTEND;TZID=America/New_York:20220111T190000
DTSTAMP:20260425T094003
CREATED:20211203T160053Z
LAST-MODIFIED:20211229T141311Z
UID:10000886-1641924000-1641927600@habitatforsyth.org
SUMMARY:Home Maintenance Series
DESCRIPTION:Plumbing – Leaky Connections*  \nBuilding a basic level of skill/knowledge of plumbing maintenance and repairs for leaky connections: bath\, kitchen\, and washers. Tool incentives are provided with each class. \nRegistration: Required. Limited to 10 people per class.\n			\n				Register
URL:https://habitatforsyth.org/event/home-maintenance-series/
LOCATION:Habitat’s Pearson Construction Technology Center\, 1023 West 14th Street\, Winston-Salem\, NC\, 27105\, United States
END:VEVENT
BEGIN:VEVENT
DTSTART;TZID=America/New_York:20211209T113000
DTEND;TZID=America/New_York:20211209T130000
DTSTAMP:20260425T094003
CREATED:20210322T181722Z
LAST-MODIFIED:20210806T192536Z
UID:10000815-1639049400-1639054800@habitatforsyth.org
SUMMARY:Blueprint Tour
DESCRIPTION:
URL:https://habitatforsyth.org/event/spring-blueprint-community-tour-july2021/2021-12-09/
LOCATION:Habitat for Humanity for Forsyth County Campus\, 1023 W. 14th Street\, Winston-Salem\, NC\, 27105\, United States
CATEGORIES:Special Events
END:VEVENT
BEGIN:VEVENT
DTSTART;TZID=America/New_York:20211130T180000
DTEND;TZID=America/New_York:20211130T193000
DTSTAMP:20260425T094003
CREATED:20210802T202823Z
LAST-MODIFIED:20210802T204631Z
UID:10000690-1638295200-1638300600@habitatforsyth.org
SUMMARY:Speaker Series
DESCRIPTION:Local community leaders sharing resources and topics related to financial freedom and economic success. \nFacilitator: To be announced. \nRegistration:  Required. \n			\n				Register
URL:https://habitatforsyth.org/event/speaker-series-2-2-2/
LOCATION:Habitat Housing Education Center\, 1023 West 14th Street\, Winston Salem\, NC\, 27105\, United States
CATEGORIES:Homeowner Education,Open to the public,Personal Development
GEO:36.1130032;-80.255454
X-APPLE-STRUCTURED-LOCATION;VALUE=URI;X-ADDRESS=Habitat Housing Education Center 1023 West 14th Street Winston Salem NC 27105 United States;X-APPLE-RADIUS=500;X-TITLE=1023 West 14th Street:geo:-80.255454,36.1130032
END:VEVENT
BEGIN:VEVENT
DTSTART;TZID=America/New_York:20211116T180000
DTEND;TZID=America/New_York:20211116T200000
DTSTAMP:20260425T094003
CREATED:20210804T145725Z
LAST-MODIFIED:20210804T145728Z
UID:10000880-1637085600-1637092800@habitatforsyth.org
SUMMARY:Training Tuesday: YEP Annual Recognition & Celebration
DESCRIPTION:Register
URL:https://habitatforsyth.org/event/training-tuesday-yep-annual-recognition-celebration/
LOCATION:North Carolina
CATEGORIES:Youth Empowerment Program
END:VEVENT
BEGIN:VEVENT
DTSTART;TZID=America/New_York:20211115T180000
DTEND;TZID=America/New_York:20211115T193000
DTSTAMP:20260425T094003
CREATED:20210802T204255Z
LAST-MODIFIED:20211012T180948Z
UID:10000875-1636999200-1637004600@habitatforsyth.org
SUMMARY:Basics of Homeowner Insurance
DESCRIPTION:Building a better understanding of the legal terms and forms associated with Home\, Medical\, Renters\, etc\, and hazard insurance coverage. \nFacilitator: Raheim Grady \nRegistration:  Required. \n			\n				Register
URL:https://habitatforsyth.org/event/mortgage-homeowner-insurance/
LOCATION:Habitat Housing Education Center\, 1023 West 14th Street\, Winston Salem\, NC\, 27105\, United States
CATEGORIES:Homeowner Education,Personal Development
GEO:36.1130032;-80.255454
X-APPLE-STRUCTURED-LOCATION;VALUE=URI;X-ADDRESS=Habitat Housing Education Center 1023 West 14th Street Winston Salem NC 27105 United States;X-APPLE-RADIUS=500;X-TITLE=1023 West 14th Street:geo:-80.255454,36.1130032
END:VEVENT
END:VCALENDAR