BEGIN:VCALENDAR
VERSION:2.0
PRODID:-//Habitat for Humanity of Forsyth County - ECPv6.15.20//NONSGML v1.0//EN
CALSCALE:GREGORIAN
METHOD:PUBLISH
X-WR-CALNAME:Habitat for Humanity of Forsyth County
X-ORIGINAL-URL:https://habitatforsyth.org
X-WR-CALDESC:Events for Habitat for Humanity of Forsyth County
REFRESH-INTERVAL;VALUE=DURATION:PT1H
X-Robots-Tag:noindex
X-PUBLISHED-TTL:PT1H
BEGIN:VTIMEZONE
TZID:America/New_York
BEGIN:DAYLIGHT
TZOFFSETFROM:-0500
TZOFFSETTO:-0400
TZNAME:EDT
DTSTART:20230312T070000
END:DAYLIGHT
BEGIN:STANDARD
TZOFFSETFROM:-0400
TZOFFSETTO:-0500
TZNAME:EST
DTSTART:20231105T060000
END:STANDARD
BEGIN:DAYLIGHT
TZOFFSETFROM:-0500
TZOFFSETTO:-0400
TZNAME:EDT
DTSTART:20240310T070000
END:DAYLIGHT
BEGIN:STANDARD
TZOFFSETFROM:-0400
TZOFFSETTO:-0500
TZNAME:EST
DTSTART:20241103T060000
END:STANDARD
BEGIN:DAYLIGHT
TZOFFSETFROM:-0500
TZOFFSETTO:-0400
TZNAME:EDT
DTSTART:20250309T070000
END:DAYLIGHT
BEGIN:STANDARD
TZOFFSETFROM:-0400
TZOFFSETTO:-0500
TZNAME:EST
DTSTART:20251102T060000
END:STANDARD
BEGIN:DAYLIGHT
TZOFFSETFROM:-0500
TZOFFSETTO:-0400
TZNAME:EDT
DTSTART:20260308T070000
END:DAYLIGHT
BEGIN:STANDARD
TZOFFSETFROM:-0400
TZOFFSETTO:-0500
TZNAME:EST
DTSTART:20261101T060000
END:STANDARD
END:VTIMEZONE
BEGIN:VEVENT
DTSTART;TZID=America/New_York:20250304T173000
DTEND;TZID=America/New_York:20250304T190000
DTSTAMP:20260425T113101
CREATED:20241106T190125Z
LAST-MODIFIED:20241106T190125Z
UID:10001229-1741109400-1741114800@habitatforsyth.org
SUMMARY:State Employees Credit Union presents Building Credit open to all HIP
DESCRIPTION:Let’s develop a strategy to build a strong credit score
URL:https://habitatforsyth.org/event/state-employees-credit-union-presents-building-credit-open-to-all-hip/
LOCATION:Habitat Housing Education Center\, 1023 West 14th Street\, Winston Salem\, NC\, 27105\, United States
CATEGORIES:HIP Homeowner Education
GEO:36.1130032;-80.255454
X-APPLE-STRUCTURED-LOCATION;VALUE=URI;X-ADDRESS=Habitat Housing Education Center 1023 West 14th Street Winston Salem NC 27105 United States;X-APPLE-RADIUS=500;X-TITLE=1023 West 14th Street:geo:-80.255454,36.1130032
END:VEVENT
BEGIN:VEVENT
DTSTART;TZID=America/New_York:20250227T180000
DTEND;TZID=America/New_York:20250227T193000
DTSTAMP:20260425T113101
CREATED:20241106T183626Z
LAST-MODIFIED:20241107T141215Z
UID:10001171-1740679200-1740684600@habitatforsyth.org
SUMMARY:HIP 2025 Financial Peace University
DESCRIPTION:Required for all HIP 2025 \nThis is a core part of the HIP education program and must be completed. \nThis is part of 9 week program
URL:https://habitatforsyth.org/event/hip-2025-financial-peace-university/2025-02-27/
LOCATION:Habitat Housing Education Center\, 1023 West 14th Street\, Winston Salem\, NC\, 27105\, United States
CATEGORIES:HIP Homeowner Education
GEO:36.1130032;-80.255454
X-APPLE-STRUCTURED-LOCATION;VALUE=URI;X-ADDRESS=Habitat Housing Education Center 1023 West 14th Street Winston Salem NC 27105 United States;X-APPLE-RADIUS=500;X-TITLE=1023 West 14th Street:geo:-80.255454,36.1130032
END:VEVENT
BEGIN:VEVENT
DTSTART;TZID=America/New_York:20250225T173000
DTEND;TZID=America/New_York:20250225T193000
DTSTAMP:20260425T113101
CREATED:20241106T185712Z
LAST-MODIFIED:20241106T185712Z
UID:10001228-1740504600-1740511800@habitatforsyth.org
SUMMARY:Piedmont Federal presents Credit reports & Scores open to all HIP
DESCRIPTION:We will do a deep dive into credit reports\, how they work\, how your actions influence them\, and what the scores mean.
URL:https://habitatforsyth.org/event/piedmont-federal-presents-credit-reports-scores-open-to-all-hip/
LOCATION:Habitat Housing Education Center\, 1023 West 14th Street\, Winston Salem\, NC\, 27105\, United States
CATEGORIES:HIP Homeowner Education
GEO:36.1130032;-80.255454
X-APPLE-STRUCTURED-LOCATION;VALUE=URI;X-ADDRESS=Habitat Housing Education Center 1023 West 14th Street Winston Salem NC 27105 United States;X-APPLE-RADIUS=500;X-TITLE=1023 West 14th Street:geo:-80.255454,36.1130032
END:VEVENT
BEGIN:VEVENT
DTSTART;TZID=America/New_York:20250220T180000
DTEND;TZID=America/New_York:20250220T193000
DTSTAMP:20260425T113101
CREATED:20241106T183626Z
LAST-MODIFIED:20241107T141215Z
UID:10001170-1740074400-1740079800@habitatforsyth.org
SUMMARY:HIP 2025 Financial Peace University
DESCRIPTION:Required for all HIP 2025 \nThis is a core part of the HIP education program and must be completed. \nThis is part of 9 week program
URL:https://habitatforsyth.org/event/hip-2025-financial-peace-university/2025-02-20/
LOCATION:Habitat Housing Education Center\, 1023 West 14th Street\, Winston Salem\, NC\, 27105\, United States
CATEGORIES:HIP Homeowner Education
GEO:36.1130032;-80.255454
X-APPLE-STRUCTURED-LOCATION;VALUE=URI;X-ADDRESS=Habitat Housing Education Center 1023 West 14th Street Winston Salem NC 27105 United States;X-APPLE-RADIUS=500;X-TITLE=1023 West 14th Street:geo:-80.255454,36.1130032
END:VEVENT
BEGIN:VEVENT
DTSTART;TZID=America/New_York:20250213T180000
DTEND;TZID=America/New_York:20250213T193000
DTSTAMP:20260425T113101
CREATED:20241106T183626Z
LAST-MODIFIED:20241107T141215Z
UID:10001169-1739469600-1739475000@habitatforsyth.org
SUMMARY:HIP 2025 Financial Peace University
DESCRIPTION:Required for all HIP 2025 \nThis is a core part of the HIP education program and must be completed. \nThis is part of 9 week program
URL:https://habitatforsyth.org/event/hip-2025-financial-peace-university/2025-02-13/
LOCATION:Habitat Housing Education Center\, 1023 West 14th Street\, Winston Salem\, NC\, 27105\, United States
CATEGORIES:HIP Homeowner Education
GEO:36.1130032;-80.255454
X-APPLE-STRUCTURED-LOCATION;VALUE=URI;X-ADDRESS=Habitat Housing Education Center 1023 West 14th Street Winston Salem NC 27105 United States;X-APPLE-RADIUS=500;X-TITLE=1023 West 14th Street:geo:-80.255454,36.1130032
END:VEVENT
BEGIN:VEVENT
DTSTART;TZID=America/New_York:20250206T180000
DTEND;TZID=America/New_York:20250206T193000
DTSTAMP:20260425T113101
CREATED:20241106T183626Z
LAST-MODIFIED:20241107T141215Z
UID:10001168-1738864800-1738870200@habitatforsyth.org
SUMMARY:HIP 2025 Financial Peace University
DESCRIPTION:Required for all HIP 2025 \nThis is a core part of the HIP education program and must be completed. \nThis is part of 9 week program
URL:https://habitatforsyth.org/event/hip-2025-financial-peace-university/2025-02-06/
LOCATION:Habitat Housing Education Center\, 1023 West 14th Street\, Winston Salem\, NC\, 27105\, United States
CATEGORIES:HIP Homeowner Education
GEO:36.1130032;-80.255454
X-APPLE-STRUCTURED-LOCATION;VALUE=URI;X-ADDRESS=Habitat Housing Education Center 1023 West 14th Street Winston Salem NC 27105 United States;X-APPLE-RADIUS=500;X-TITLE=1023 West 14th Street:geo:-80.255454,36.1130032
END:VEVENT
BEGIN:VEVENT
DTSTART;TZID=America/New_York:20250204T173000
DTEND;TZID=America/New_York:20250204T190000
DTSTAMP:20260425T113101
CREATED:20241106T184842Z
LAST-MODIFIED:20241106T184842Z
UID:10001227-1738690200-1738695600@habitatforsyth.org
SUMMARY:Piedmont Federal presents Savings & Spending open to all HIP
DESCRIPTION:Learn new ways to practice saving more! and spending less!
URL:https://habitatforsyth.org/event/piedmont-federal-presents-savings-spending-open-to-all-hip/
LOCATION:Habitat Housing Education Center\, 1023 West 14th Street\, Winston Salem\, NC\, 27105\, United States
CATEGORIES:HIP Homeowner Education
GEO:36.1130032;-80.255454
X-APPLE-STRUCTURED-LOCATION;VALUE=URI;X-ADDRESS=Habitat Housing Education Center 1023 West 14th Street Winston Salem NC 27105 United States;X-APPLE-RADIUS=500;X-TITLE=1023 West 14th Street:geo:-80.255454,36.1130032
END:VEVENT
BEGIN:VEVENT
DTSTART;TZID=America/New_York:20250130T180000
DTEND;TZID=America/New_York:20250130T193000
DTSTAMP:20260425T113101
CREATED:20241106T183626Z
LAST-MODIFIED:20241107T141215Z
UID:10001167-1738260000-1738265400@habitatforsyth.org
SUMMARY:HIP 2025 Financial Peace University
DESCRIPTION:Required for all HIP 2025 \nThis is a core part of the HIP education program and must be completed. \nThis is part of 9 week program
URL:https://habitatforsyth.org/event/hip-2025-financial-peace-university/2025-01-30/
LOCATION:Habitat Housing Education Center\, 1023 West 14th Street\, Winston Salem\, NC\, 27105\, United States
CATEGORIES:HIP Homeowner Education
GEO:36.1130032;-80.255454
X-APPLE-STRUCTURED-LOCATION;VALUE=URI;X-ADDRESS=Habitat Housing Education Center 1023 West 14th Street Winston Salem NC 27105 United States;X-APPLE-RADIUS=500;X-TITLE=1023 West 14th Street:geo:-80.255454,36.1130032
END:VEVENT
BEGIN:VEVENT
DTSTART;TZID=America/New_York:20250123T180000
DTEND;TZID=America/New_York:20250123T193000
DTSTAMP:20260425T113101
CREATED:20241106T183626Z
LAST-MODIFIED:20241107T141215Z
UID:10001166-1737655200-1737660600@habitatforsyth.org
SUMMARY:HIP 2025 Financial Peace University
DESCRIPTION:Required for all HIP 2025 \nThis is a core part of the HIP education program and must be completed. \nThis is part of 9 week program
URL:https://habitatforsyth.org/event/hip-2025-financial-peace-university/2025-01-23/
LOCATION:Habitat Housing Education Center\, 1023 West 14th Street\, Winston Salem\, NC\, 27105\, United States
CATEGORIES:HIP Homeowner Education
GEO:36.1130032;-80.255454
X-APPLE-STRUCTURED-LOCATION;VALUE=URI;X-ADDRESS=Habitat Housing Education Center 1023 West 14th Street Winston Salem NC 27105 United States;X-APPLE-RADIUS=500;X-TITLE=1023 West 14th Street:geo:-80.255454,36.1130032
END:VEVENT
BEGIN:VEVENT
DTSTART;TZID=America/New_York:20250114T173000
DTEND;TZID=America/New_York:20250114T190000
DTSTAMP:20260425T113101
CREATED:20241106T183051Z
LAST-MODIFIED:20241106T183051Z
UID:10001165-1736875800-1736881200@habitatforsyth.org
SUMMARY:HIP 2025 Education Program Introduction
DESCRIPTION:Required for all HIP 2025 \nWe will look at the education program for the coming year\, understand how to earn Sweat Equity Hours (S.E hours)\, and meet folks who will help.
URL:https://habitatforsyth.org/event/hip-2025-education-program-introduction/
LOCATION:Habitat Housing Education Center\, 1023 West 14th Street\, Winston Salem\, NC\, 27105\, United States
CATEGORIES:HIP Homeowner Education
GEO:36.1130032;-80.255454
X-APPLE-STRUCTURED-LOCATION;VALUE=URI;X-ADDRESS=Habitat Housing Education Center 1023 West 14th Street Winston Salem NC 27105 United States;X-APPLE-RADIUS=500;X-TITLE=1023 West 14th Street:geo:-80.255454,36.1130032
END:VEVENT
BEGIN:VEVENT
DTSTART;TZID=America/New_York:20250107T173000
DTEND;TZID=America/New_York:20250107T190000
DTSTAMP:20260425T113101
CREATED:20241106T182102Z
LAST-MODIFIED:20241106T182102Z
UID:10001164-1736271000-1736276400@habitatforsyth.org
SUMMARY:Homeowners in Process (HIP)2025 Expectations Meeting
DESCRIPTION:Welcome to the Habitat for Humanity\, Home Buyers Program!!! \nThis event is for the new 2025 HIP cohort. We will be sharing what to expect and how you will partner with HFH on this path to homeownership! \nAll 2025 HIPs are expected to attend
URL:https://habitatforsyth.org/event/homeowners-in-process-hip2025-expectations-meeting/
LOCATION:Habitat Housing Education Center\, 1023 West 14th Street\, Winston Salem\, NC\, 27105\, United States
CATEGORIES:HIP Homeowner Education
GEO:36.1130032;-80.255454
X-APPLE-STRUCTURED-LOCATION;VALUE=URI;X-ADDRESS=Habitat Housing Education Center 1023 West 14th Street Winston Salem NC 27105 United States;X-APPLE-RADIUS=500;X-TITLE=1023 West 14th Street:geo:-80.255454,36.1130032
END:VEVENT
BEGIN:VEVENT
DTSTART;TZID=America/New_York:20241219T173000
DTEND;TZID=America/New_York:20241219T190000
DTSTAMP:20260425T113101
CREATED:20240822T142159Z
LAST-MODIFIED:20240822T142159Z
UID:10001161-1734629400-1734634800@habitatforsyth.org
SUMMARY:Moving for a Healthy Life w Caila class 6
DESCRIPTION:Class #6 of a 6 class series
URL:https://habitatforsyth.org/event/moving-for-a-healthy-life-w-caila-class-6/
LOCATION:Habitat Housing Education Center\, 1023 West 14th Street\, Winston Salem\, NC\, 27105\, United States
GEO:36.1130032;-80.255454
X-APPLE-STRUCTURED-LOCATION;VALUE=URI;X-ADDRESS=Habitat Housing Education Center 1023 West 14th Street Winston Salem NC 27105 United States;X-APPLE-RADIUS=500;X-TITLE=1023 West 14th Street:geo:-80.255454,36.1130032
END:VEVENT
BEGIN:VEVENT
DTSTART;TZID=America/New_York:20241212T173000
DTEND;TZID=America/New_York:20241212T190000
DTSTAMP:20260425T113101
CREATED:20240822T142050Z
LAST-MODIFIED:20240822T142050Z
UID:10001160-1734024600-1734030000@habitatforsyth.org
SUMMARY:Moving for a Healthy Life w Caila class 5
DESCRIPTION:Class #5 of a 6  class series
URL:https://habitatforsyth.org/event/moving-for-a-healthy-life-w-caila-class-5/
LOCATION:Habitat Housing Education Center\, 1023 West 14th Street\, Winston Salem\, NC\, 27105\, United States
GEO:36.1130032;-80.255454
X-APPLE-STRUCTURED-LOCATION;VALUE=URI;X-ADDRESS=Habitat Housing Education Center 1023 West 14th Street Winston Salem NC 27105 United States;X-APPLE-RADIUS=500;X-TITLE=1023 West 14th Street:geo:-80.255454,36.1130032
END:VEVENT
BEGIN:VEVENT
DTSTART;TZID=America/New_York:20241205T173000
DTEND;TZID=America/New_York:20241205T190000
DTSTAMP:20260425T113101
CREATED:20240822T141949Z
LAST-MODIFIED:20240822T141949Z
UID:10001159-1733419800-1733425200@habitatforsyth.org
SUMMARY:Moving for a Healthy Life w Caila class 4
DESCRIPTION:Class #4 of 6 class series
URL:https://habitatforsyth.org/event/moving-for-a-healthy-life-w-caila-class-4/
LOCATION:Habitat Housing Education Center\, 1023 West 14th Street\, Winston Salem\, NC\, 27105\, United States
GEO:36.1130032;-80.255454
X-APPLE-STRUCTURED-LOCATION;VALUE=URI;X-ADDRESS=Habitat Housing Education Center 1023 West 14th Street Winston Salem NC 27105 United States;X-APPLE-RADIUS=500;X-TITLE=1023 West 14th Street:geo:-80.255454,36.1130032
END:VEVENT
BEGIN:VEVENT
DTSTART;TZID=America/New_York:20241112T180000
DTEND;TZID=America/New_York:20241112T193000
DTSTAMP:20260425T113101
CREATED:20240814T173506Z
LAST-MODIFIED:20240814T173902Z
UID:10001150-1731434400-1731439800@habitatforsyth.org
SUMMARY:Second Harvest Food Bank Cooking Matters Class 4
DESCRIPTION:This class is for participants registered for the 5 class program
URL:https://habitatforsyth.org/event/second-harvest-food-bank-cooking-matters-class-4/
LOCATION:Habitat Housing Education Center\, 1023 West 14th Street\, Winston Salem\, NC\, 27105\, United States
GEO:36.1130032;-80.255454
X-APPLE-STRUCTURED-LOCATION;VALUE=URI;X-ADDRESS=Habitat Housing Education Center 1023 West 14th Street Winston Salem NC 27105 United States;X-APPLE-RADIUS=500;X-TITLE=1023 West 14th Street:geo:-80.255454,36.1130032
END:VEVENT
BEGIN:VEVENT
DTSTART;TZID=America/New_York:20241107T173000
DTEND;TZID=America/New_York:20241107T190000
DTSTAMP:20260425T113101
CREATED:20240822T141735Z
LAST-MODIFIED:20240822T141735Z
UID:10001158-1731000600-1731006000@habitatforsyth.org
SUMMARY:Moving for a Healthy Life w Caila class 3
DESCRIPTION:Class #3 of 6 class series
URL:https://habitatforsyth.org/event/moving-for-a-healthy-life-w-caila-class-3/
LOCATION:Habitat Housing Education Center\, 1023 West 14th Street\, Winston Salem\, NC\, 27105\, United States
GEO:36.1130032;-80.255454
X-APPLE-STRUCTURED-LOCATION;VALUE=URI;X-ADDRESS=Habitat Housing Education Center 1023 West 14th Street Winston Salem NC 27105 United States;X-APPLE-RADIUS=500;X-TITLE=1023 West 14th Street:geo:-80.255454,36.1130032
END:VEVENT
BEGIN:VEVENT
DTSTART;TZID=America/New_York:20241029T180000
DTEND;TZID=America/New_York:20241029T193000
DTSTAMP:20260425T113101
CREATED:20240814T172805Z
LAST-MODIFIED:20240814T173739Z
UID:10001149-1730224800-1730230200@habitatforsyth.org
SUMMARY:Second harvest Food bank Cooking Matters Class 3
DESCRIPTION:This class is for participants registered for the 5 class program
URL:https://habitatforsyth.org/event/second-harvest-food-bank-cooking-matters-class-3/
LOCATION:Habitat Housing Education Center\, 1023 West 14th Street\, Winston Salem\, NC\, 27105\, United States
GEO:36.1130032;-80.255454
X-APPLE-STRUCTURED-LOCATION;VALUE=URI;X-ADDRESS=Habitat Housing Education Center 1023 West 14th Street Winston Salem NC 27105 United States;X-APPLE-RADIUS=500;X-TITLE=1023 West 14th Street:geo:-80.255454,36.1130032
END:VEVENT
BEGIN:VEVENT
DTSTART;TZID=America/New_York:20241024T173000
DTEND;TZID=America/New_York:20241024T190000
DTSTAMP:20260425T113101
CREATED:20240822T141626Z
LAST-MODIFIED:20240822T141626Z
UID:10001157-1729791000-1729796400@habitatforsyth.org
SUMMARY:Moving for a Healthy Life w Caila class 2
DESCRIPTION:Class #2 of 6 class series
URL:https://habitatforsyth.org/event/moving-for-a-healthy-life-w-caila-class-2/
LOCATION:Habitat Housing Education Center\, 1023 West 14th Street\, Winston Salem\, NC\, 27105\, United States
GEO:36.1130032;-80.255454
X-APPLE-STRUCTURED-LOCATION;VALUE=URI;X-ADDRESS=Habitat Housing Education Center 1023 West 14th Street Winston Salem NC 27105 United States;X-APPLE-RADIUS=500;X-TITLE=1023 West 14th Street:geo:-80.255454,36.1130032
END:VEVENT
BEGIN:VEVENT
DTSTART;TZID=America/New_York:20241015T180000
DTEND;TZID=America/New_York:20241015T193000
DTSTAMP:20260425T113101
CREATED:20240814T172610Z
LAST-MODIFIED:20240814T173137Z
UID:10001148-1729015200-1729020600@habitatforsyth.org
SUMMARY:Second Harvest Food Bank Cooking Matters Class 2
DESCRIPTION:This class is for participants registered for the 5 class program
URL:https://habitatforsyth.org/event/second-harvest-food-bank-cooking-matters-class-2/
LOCATION:Habitat Housing Education Center\, 1023 West 14th Street\, Winston Salem\, NC\, 27105\, United States
GEO:36.1130032;-80.255454
X-APPLE-STRUCTURED-LOCATION;VALUE=URI;X-ADDRESS=Habitat Housing Education Center 1023 West 14th Street Winston Salem NC 27105 United States;X-APPLE-RADIUS=500;X-TITLE=1023 West 14th Street:geo:-80.255454,36.1130032
END:VEVENT
BEGIN:VEVENT
DTSTART;TZID=America/New_York:20241010T173000
DTEND;TZID=America/New_York:20241010T190000
DTSTAMP:20260425T113101
CREATED:20240822T141210Z
LAST-MODIFIED:20240822T141210Z
UID:10001156-1728581400-1728586800@habitatforsyth.org
SUMMARY:Moving for a Healthy Life with Caila
DESCRIPTION:This is class #1 of a 6-class series. Please commit to all 6 classes when you sign up \nCome dressed to move around and bring some water!!
URL:https://habitatforsyth.org/event/moving-for-a-healthy-life-with-caila/
LOCATION:Habitat Housing Education Center\, 1023 West 14th Street\, Winston Salem\, NC\, 27105\, United States
GEO:36.1130032;-80.255454
X-APPLE-STRUCTURED-LOCATION;VALUE=URI;X-ADDRESS=Habitat Housing Education Center 1023 West 14th Street Winston Salem NC 27105 United States;X-APPLE-RADIUS=500;X-TITLE=1023 West 14th Street:geo:-80.255454,36.1130032
END:VEVENT
BEGIN:VEVENT
DTSTART;TZID=America/New_York:20241001T180000
DTEND;TZID=America/New_York:20241001T193000
DTSTAMP:20260425T113101
CREATED:20240814T172027Z
LAST-MODIFIED:20240814T172326Z
UID:10001146-1727805600-1727811000@habitatforsyth.org
SUMMARY:Second Harvest Food Bank Cooking Matters Class 1
DESCRIPTION:This is class one of a five-class program. Please sign up only if you can attend all five sessions. The class limited to 16 participants
URL:https://habitatforsyth.org/event/second-harvest-food-ban-cooking-matters-class-1/
LOCATION:Habitat Housing Education Center\, 1023 West 14th Street\, Winston Salem\, NC\, 27105\, United States
CATEGORIES:HIP Homeowner Education
GEO:36.1130032;-80.255454
X-APPLE-STRUCTURED-LOCATION;VALUE=URI;X-ADDRESS=Habitat Housing Education Center 1023 West 14th Street Winston Salem NC 27105 United States;X-APPLE-RADIUS=500;X-TITLE=1023 West 14th Street:geo:-80.255454,36.1130032
END:VEVENT
BEGIN:VEVENT
DTSTART;TZID=America/New_York:20240813T173000
DTEND;TZID=America/New_York:20240813T190000
DTSTAMP:20260425T113101
CREATED:20240709T140015Z
LAST-MODIFIED:20240709T140015Z
UID:10001109-1723570200-1723575600@habitatforsyth.org
SUMMARY:Voter Education and Registration Event
DESCRIPTION:This is a Non-partisan voter education and registration event. Feel free to bring a voting-age friend.
URL:https://habitatforsyth.org/event/voter-education-and-registration-event/
LOCATION:Habitat Housing Education Center\, 1023 West 14th Street\, Winston Salem\, NC\, 27105\, United States
GEO:36.1130032;-80.255454
X-APPLE-STRUCTURED-LOCATION;VALUE=URI;X-ADDRESS=Habitat Housing Education Center 1023 West 14th Street Winston Salem NC 27105 United States;X-APPLE-RADIUS=500;X-TITLE=1023 West 14th Street:geo:-80.255454,36.1130032
END:VEVENT
BEGIN:VEVENT
DTSTART;TZID=America/New_York:20240725T173000
DTEND;TZID=America/New_York:20240725T190000
DTSTAMP:20260425T113101
CREATED:20240514T134857Z
LAST-MODIFIED:20240514T134857Z
UID:10001105-1721928600-1721934000@habitatforsyth.org
SUMMARY:Healthy Living with NC Extension Services open to all HIP
DESCRIPTION:Healthy living through nutrition and movement. Come Move!!!!
URL:https://habitatforsyth.org/event/healthy-living-with-nc-extension-services-open-to-all-hip/
LOCATION:Habitat Housing Education Center\, 1023 West 14th Street\, Winston Salem\, NC\, 27105\, United States
GEO:36.1130032;-80.255454
X-APPLE-STRUCTURED-LOCATION;VALUE=URI;X-ADDRESS=Habitat Housing Education Center 1023 West 14th Street Winston Salem NC 27105 United States;X-APPLE-RADIUS=500;X-TITLE=1023 West 14th Street:geo:-80.255454,36.1130032
END:VEVENT
BEGIN:VEVENT
DTSTART;TZID=America/New_York:20240723T180000
DTEND;TZID=America/New_York:20240723T200000
DTSTAMP:20260425T113101
CREATED:20240430T181709Z
LAST-MODIFIED:20240430T181710Z
UID:10001104-1721757600-1721764800@habitatforsyth.org
SUMMARY:GreenTree Wellness Support (for Pre-Registered participants only) - copy
DESCRIPTION:This class is limited to pre-registered participants only. \nSelf-Care for your journey to home ownership
URL:https://habitatforsyth.org/event/greentree-wellness-support-for-pre-registered-participants-only-copy-2/
LOCATION:Habitat Housing Education Center\, 1023 West 14th Street\, Winston Salem\, NC\, 27105\, United States
GEO:36.1130032;-80.255454
X-APPLE-STRUCTURED-LOCATION;VALUE=URI;X-ADDRESS=Habitat Housing Education Center 1023 West 14th Street Winston Salem NC 27105 United States;X-APPLE-RADIUS=500;X-TITLE=1023 West 14th Street:geo:-80.255454,36.1130032
END:VEVENT
BEGIN:VEVENT
DTSTART;TZID=America/New_York:20240718T173000
DTEND;TZID=America/New_York:20240718T190000
DTSTAMP:20260425T113101
CREATED:20240327T180231Z
LAST-MODIFIED:20240327T180231Z
UID:10001097-1721323800-1721329200@habitatforsyth.org
SUMMARY:Accessing City of Winston Salem Services
DESCRIPTION:Meet Susan Spainhour and learn how to access City of WS services.
URL:https://habitatforsyth.org/event/accessing-city-of-winston-salem-services/
LOCATION:Habitat Housing Education Center\, 1023 West 14th Street\, Winston Salem\, NC\, 27105\, United States
CATEGORIES:Homeowner Education
GEO:36.1130032;-80.255454
X-APPLE-STRUCTURED-LOCATION;VALUE=URI;X-ADDRESS=Habitat Housing Education Center 1023 West 14th Street Winston Salem NC 27105 United States;X-APPLE-RADIUS=500;X-TITLE=1023 West 14th Street:geo:-80.255454,36.1130032
END:VEVENT
BEGIN:VEVENT
DTSTART;TZID=America/New_York:20240716T173000
DTEND;TZID=America/New_York:20240716T190000
DTSTAMP:20260425T113101
CREATED:20240703T182823Z
LAST-MODIFIED:20240703T182823Z
UID:10001108-1721151000-1721156400@habitatforsyth.org
SUMMARY:All HIP check In Meeting
DESCRIPTION:Please join us for Sandwiches and an update on current program information.
URL:https://habitatforsyth.org/event/all-hip-check-in-meeting/
LOCATION:Habitat Housing Education Center\, 1023 West 14th Street\, Winston Salem\, NC\, 27105\, United States
GEO:36.1130032;-80.255454
X-APPLE-STRUCTURED-LOCATION;VALUE=URI;X-ADDRESS=Habitat Housing Education Center 1023 West 14th Street Winston Salem NC 27105 United States;X-APPLE-RADIUS=500;X-TITLE=1023 West 14th Street:geo:-80.255454,36.1130032
END:VEVENT
BEGIN:VEVENT
DTSTART;TZID=America/New_York:20240709T180000
DTEND;TZID=America/New_York:20240709T200000
DTSTAMP:20260425T113101
CREATED:20240306T150332Z
LAST-MODIFIED:20240306T164012Z
UID:10001044-1720548000-1720555200@habitatforsyth.org
SUMMARY:GreenTree Wellness Support (for Pre-Registered participants only)
DESCRIPTION:This class is limited to pre-registered participants only. \nSelf-Care for your journey to home ownership
URL:https://habitatforsyth.org/event/greentree-wellness-support-for-pre-registered-participants-only/2024-07-09/
LOCATION:Habitat Housing Education Center\, 1023 West 14th Street\, Winston Salem\, NC\, 27105\, United States
CATEGORIES:HIP Homeowner Education
GEO:36.1130032;-80.255454
X-APPLE-STRUCTURED-LOCATION;VALUE=URI;X-ADDRESS=Habitat Housing Education Center 1023 West 14th Street Winston Salem NC 27105 United States;X-APPLE-RADIUS=500;X-TITLE=1023 West 14th Street:geo:-80.255454,36.1130032
END:VEVENT
BEGIN:VEVENT
DTSTART;TZID=America/New_York:20240625T180000
DTEND;TZID=America/New_York:20240625T200000
DTSTAMP:20260425T113101
CREATED:20240306T150332Z
LAST-MODIFIED:20240306T164012Z
UID:10001042-1719338400-1719345600@habitatforsyth.org
SUMMARY:GreenTree Wellness Support (for Pre-Registered participants only)
DESCRIPTION:This class is limited to pre-registered participants only. \nSelf-Care for your journey to home ownership
URL:https://habitatforsyth.org/event/greentree-wellness-support-for-pre-registered-participants-only/2024-06-25/
LOCATION:Habitat Housing Education Center\, 1023 West 14th Street\, Winston Salem\, NC\, 27105\, United States
CATEGORIES:HIP Homeowner Education
GEO:36.1130032;-80.255454
X-APPLE-STRUCTURED-LOCATION;VALUE=URI;X-ADDRESS=Habitat Housing Education Center 1023 West 14th Street Winston Salem NC 27105 United States;X-APPLE-RADIUS=500;X-TITLE=1023 West 14th Street:geo:-80.255454,36.1130032
END:VEVENT
BEGIN:VEVENT
DTSTART;TZID=America/New_York:20240620T173000
DTEND;TZID=America/New_York:20240620T190000
DTSTAMP:20260425T113101
CREATED:20240522T162219Z
LAST-MODIFIED:20240522T162219Z
UID:10001106-1718904600-1718910000@habitatforsyth.org
SUMMARY:Fire Safety with City of WS  open to all
DESCRIPTION:Keep your beautiful family and home safe!!!!
URL:https://habitatforsyth.org/event/fire-safety-with-city-of-ws-open-to-all/
LOCATION:Habitat Housing Education Center\, 1023 West 14th Street\, Winston Salem\, NC\, 27105\, United States
GEO:36.1130032;-80.255454
X-APPLE-STRUCTURED-LOCATION;VALUE=URI;X-ADDRESS=Habitat Housing Education Center 1023 West 14th Street Winston Salem NC 27105 United States;X-APPLE-RADIUS=500;X-TITLE=1023 West 14th Street:geo:-80.255454,36.1130032
END:VEVENT
BEGIN:VEVENT
DTSTART;TZID=America/New_York:20240613T173000
DTEND;TZID=America/New_York:20240613T190000
DTSTAMP:20260425T113101
CREATED:20240220T201510Z
LAST-MODIFIED:20240220T201510Z
UID:10001026-1718299800-1718305200@habitatforsyth.org
SUMMARY:SECU Consumer Fraud and ID Theft
DESCRIPTION:Don’t get ripped off!    Hey? What’s your password?
URL:https://habitatforsyth.org/event/secu-consumer-fraud-and-id-theft-2/
LOCATION:Habitat Housing Education Center\, 1023 West 14th Street\, Winston Salem\, NC\, 27105\, United States
CATEGORIES:HIP Homeowner Education
GEO:36.1130032;-80.255454
X-APPLE-STRUCTURED-LOCATION;VALUE=URI;X-ADDRESS=Habitat Housing Education Center 1023 West 14th Street Winston Salem NC 27105 United States;X-APPLE-RADIUS=500;X-TITLE=1023 West 14th Street:geo:-80.255454,36.1130032
END:VEVENT
END:VCALENDAR