BEGIN:VCALENDAR
VERSION:2.0
PRODID:-//Habitat for Humanity of Forsyth County - ECPv6.15.20//NONSGML v1.0//EN
CALSCALE:GREGORIAN
METHOD:PUBLISH
X-WR-CALNAME:Habitat for Humanity of Forsyth County
X-ORIGINAL-URL:https://habitatforsyth.org
X-WR-CALDESC:Events for Habitat for Humanity of Forsyth County
REFRESH-INTERVAL;VALUE=DURATION:PT1H
X-Robots-Tag:noindex
X-PUBLISHED-TTL:PT1H
BEGIN:VTIMEZONE
TZID:America/New_York
BEGIN:DAYLIGHT
TZOFFSETFROM:-0500
TZOFFSETTO:-0400
TZNAME:EDT
DTSTART:20180311T070000
END:DAYLIGHT
BEGIN:STANDARD
TZOFFSETFROM:-0400
TZOFFSETTO:-0500
TZNAME:EST
DTSTART:20181104T060000
END:STANDARD
BEGIN:DAYLIGHT
TZOFFSETFROM:-0500
TZOFFSETTO:-0400
TZNAME:EDT
DTSTART:20190310T070000
END:DAYLIGHT
BEGIN:STANDARD
TZOFFSETFROM:-0400
TZOFFSETTO:-0500
TZNAME:EST
DTSTART:20191103T060000
END:STANDARD
BEGIN:DAYLIGHT
TZOFFSETFROM:-0500
TZOFFSETTO:-0400
TZNAME:EDT
DTSTART:20200308T070000
END:DAYLIGHT
BEGIN:STANDARD
TZOFFSETFROM:-0400
TZOFFSETTO:-0500
TZNAME:EST
DTSTART:20201101T060000
END:STANDARD
END:VTIMEZONE
BEGIN:VEVENT
DTSTART;TZID=America/New_York:20191003T180000
DTEND;TZID=America/New_York:20191003T190000
DTSTAMP:20260419T125455
CREATED:20181228T213655Z
LAST-MODIFIED:20190917T173617Z
UID:10000652-1570125600-1570129200@habitatforsyth.org
SUMMARY:Proper Use of Household Tools
DESCRIPTION:A class in our expanded Basic Home Maintenance Curriculum. This entire curriculum is designed to provide hands-on application for every learner. Program incentives (household tools) are awarded with each class. \nDescription: Learn more about household tools: what they are\, how to use them and safety tips. Gain fundamental knowledge here and build on it as you complete various home maintenance classes this year. \nAudience:  Priority given to Habitat homeowners or homeowners in the Boston Thurmond and Bowen/Dreamland Park neighborhoods\, but this program is open to any interested person in the Winston-Salem/Forsyth County area. Women are encouraged to attend. \nRegistration:  Required. Limited to 10 people per class. Register online or call 765-8854 ext. 135.  Registration form \nNotes: The $10 fee (to cover class materials) can be paid in advance or just prior to the class start. We will accept cash\, check\, credit card or money order. If you have already taken our plumbing classes\, the fee is NOT required for this class.
URL:https://habitatforsyth.org/event/proper-use-of-household-tools-2-2/
LOCATION:Habitat’s Pearson Construction Technology Center\, 1023 West 14th Street\, Winston-Salem\, NC\, 27105\, United States
CATEGORIES:Home Maintenance,Homeowner Education
END:VEVENT
END:VCALENDAR